BEGIN:VCALENDAR
VERSION:2.0
PRODID:-//Salem Volunteers - ECPv6.15.11//NONSGML v1.0//EN
CALSCALE:GREGORIAN
METHOD:PUBLISH
X-ORIGINAL-URL:https://www.salemvolunteers.org
X-WR-CALDESC:Events for Salem Volunteers
REFRESH-INTERVAL;VALUE=DURATION:PT1H
X-Robots-Tag:noindex
X-PUBLISHED-TTL:PT1H
BEGIN:VTIMEZONE
TZID:America/New_York
BEGIN:DAYLIGHT
TZOFFSETFROM:-0500
TZOFFSETTO:-0400
TZNAME:EDT
DTSTART:20180311T070000
END:DAYLIGHT
BEGIN:STANDARD
TZOFFSETFROM:-0400
TZOFFSETTO:-0500
TZNAME:EST
DTSTART:20181104T060000
END:STANDARD
BEGIN:DAYLIGHT
TZOFFSETFROM:-0500
TZOFFSETTO:-0400
TZNAME:EDT
DTSTART:20190310T070000
END:DAYLIGHT
BEGIN:STANDARD
TZOFFSETFROM:-0400
TZOFFSETTO:-0500
TZNAME:EST
DTSTART:20191103T060000
END:STANDARD
BEGIN:DAYLIGHT
TZOFFSETFROM:-0500
TZOFFSETTO:-0400
TZNAME:EDT
DTSTART:20200308T070000
END:DAYLIGHT
BEGIN:STANDARD
TZOFFSETFROM:-0400
TZOFFSETTO:-0500
TZNAME:EST
DTSTART:20201101T060000
END:STANDARD
END:VTIMEZONE
BEGIN:VEVENT
DTSTART;TZID=America/New_York:20190830T180000
DTEND;TZID=America/New_York:20190830T220000
DTSTAMP:20260424T051944
CREATED:20190304T193810Z
LAST-MODIFIED:20190701T192813Z
UID:10000034-1567188000-1567202400@www.salemvolunteers.org
SUMMARY:Gloucester Main Street Block Party live animal exhibit
DESCRIPTION:Join the Cape Ann Vernal Pond Team for a live animal exhibit at the Gloucester Main Street Block Parties on Saturdays\, July 13\, August 10\, and August 30 from 6 to 10pm. \nMain Street in Downtown Gloucester comes alive when the street is closed off with live music\, street performers\, al fresco dining\, vendors\, food vendors and the Cape Ann Vernal Pond Team! \nContact Rick at cavpt@yahoo.com.
URL:https://www.salemvolunteers.org/event/gloucester-main-street-block-party-live-animal-exhibit/2019-08-30/
LOCATION:Toodeloos!\, 142 Main Street\, Gloucester\, MA\, 01930\, United States
ORGANIZER;CN="Cape Ann Vernal Pond Team":MAILTO:cavpt@yahoo.com
GEO:42.6127425;-70.6628971
X-APPLE-STRUCTURED-LOCATION;VALUE=URI;X-ADDRESS=Toodeloos! 142 Main Street Gloucester MA 01930 United States;X-APPLE-RADIUS=500;X-TITLE=142 Main Street:geo:-70.6628971,42.6127425
END:VEVENT
BEGIN:VEVENT
DTSTART;TZID=America/New_York:20190810T180000
DTEND;TZID=America/New_York:20190810T220000
DTSTAMP:20260424T051944
CREATED:20190304T193810Z
LAST-MODIFIED:20190701T192813Z
UID:10000033-1565460000-1565474400@www.salemvolunteers.org
SUMMARY:Gloucester Main Street Block Party live animal exhibit
DESCRIPTION:Join the Cape Ann Vernal Pond Team for a live animal exhibit at the Gloucester Main Street Block Parties on Saturdays\, July 13\, August 10\, and August 30 from 6 to 10pm. \nMain Street in Downtown Gloucester comes alive when the street is closed off with live music\, street performers\, al fresco dining\, vendors\, food vendors and the Cape Ann Vernal Pond Team! \nContact Rick at cavpt@yahoo.com.
URL:https://www.salemvolunteers.org/event/gloucester-main-street-block-party-live-animal-exhibit/2019-08-10/
LOCATION:Toodeloos!\, 142 Main Street\, Gloucester\, MA\, 01930\, United States
ORGANIZER;CN="Cape Ann Vernal Pond Team":MAILTO:cavpt@yahoo.com
GEO:42.6127425;-70.6628971
X-APPLE-STRUCTURED-LOCATION;VALUE=URI;X-ADDRESS=Toodeloos! 142 Main Street Gloucester MA 01930 United States;X-APPLE-RADIUS=500;X-TITLE=142 Main Street:geo:-70.6628971,42.6127425
END:VEVENT
BEGIN:VEVENT
DTSTART;TZID=America/New_York:20190713T180000
DTEND;TZID=America/New_York:20190713T220000
DTSTAMP:20260424T051944
CREATED:20190304T193810Z
LAST-MODIFIED:20190701T192813Z
UID:10000032-1563040800-1563055200@www.salemvolunteers.org
SUMMARY:Gloucester Main Street Block Party live animal exhibit
DESCRIPTION:Join the Cape Ann Vernal Pond Team for a live animal exhibit at the Gloucester Main Street Block Parties on Saturdays\, July 13\, August 10\, and August 30 from 6 to 10pm. \nMain Street in Downtown Gloucester comes alive when the street is closed off with live music\, street performers\, al fresco dining\, vendors\, food vendors and the Cape Ann Vernal Pond Team! \nContact Rick at cavpt@yahoo.com.
URL:https://www.salemvolunteers.org/event/gloucester-main-street-block-party-live-animal-exhibit/2019-07-13/
LOCATION:Toodeloos!\, 142 Main Street\, Gloucester\, MA\, 01930\, United States
ORGANIZER;CN="Cape Ann Vernal Pond Team":MAILTO:cavpt@yahoo.com
GEO:42.6127425;-70.6628971
X-APPLE-STRUCTURED-LOCATION;VALUE=URI;X-ADDRESS=Toodeloos! 142 Main Street Gloucester MA 01930 United States;X-APPLE-RADIUS=500;X-TITLE=142 Main Street:geo:-70.6628971,42.6127425
END:VEVENT
END:VCALENDAR