BEGIN:VCALENDAR
VERSION:2.0
PRODID:-//Salem Volunteers - ECPv6.15.11//NONSGML v1.0//EN
CALSCALE:GREGORIAN
METHOD:PUBLISH
X-WR-CALNAME:Salem Volunteers
X-ORIGINAL-URL:https://www.salemvolunteers.org
X-WR-CALDESC:Events for Salem Volunteers
REFRESH-INTERVAL;VALUE=DURATION:PT1H
X-Robots-Tag:noindex
X-PUBLISHED-TTL:PT1H
BEGIN:VTIMEZONE
TZID:America/New_York
BEGIN:DAYLIGHT
TZOFFSETFROM:-0500
TZOFFSETTO:-0400
TZNAME:EDT
DTSTART:20170312T070000
END:DAYLIGHT
BEGIN:STANDARD
TZOFFSETFROM:-0400
TZOFFSETTO:-0500
TZNAME:EST
DTSTART:20171105T060000
END:STANDARD
BEGIN:DAYLIGHT
TZOFFSETFROM:-0500
TZOFFSETTO:-0400
TZNAME:EDT
DTSTART:20180311T070000
END:DAYLIGHT
BEGIN:STANDARD
TZOFFSETFROM:-0400
TZOFFSETTO:-0500
TZNAME:EST
DTSTART:20181104T060000
END:STANDARD
BEGIN:DAYLIGHT
TZOFFSETFROM:-0500
TZOFFSETTO:-0400
TZNAME:EDT
DTSTART:20190310T070000
END:DAYLIGHT
BEGIN:STANDARD
TZOFFSETFROM:-0400
TZOFFSETTO:-0500
TZNAME:EST
DTSTART:20191103T060000
END:STANDARD
END:VTIMEZONE
BEGIN:VEVENT
DTSTART;TZID=America/New_York:20181028T083000
DTEND;TZID=America/New_York:20181028T133000
DTSTAMP:20260420T063713
CREATED:20181008T130102Z
LAST-MODIFIED:20181008T130102Z
UID:10000670-1540715400-1540733400@www.salemvolunteers.org
SUMMARY:Swampscott Farmers' Market
DESCRIPTION:The Swampscott Farmers Market is in need of a few good volunteers to help out Sundays through October. \nThe market runs from 10am until 1pm and volunteers are needed for setup from 8:30 until 10:30am and for closing from 12:30 until 1:30pm. \nContact Amanda at aferranteowen@gmail.com or use the market Facebook group.
URL:https://www.salemvolunteers.org/event/swampscott-farmers-market/2018-10-28/
LOCATION:Swampscott Town Hall\, 22 Monument Avenue\, Swampscott\, MA
GEO:42.4696786;-70.9183446
X-APPLE-STRUCTURED-LOCATION;VALUE=URI;X-ADDRESS=Swampscott Town Hall 22 Monument Avenue Swampscott MA;X-APPLE-RADIUS=500;X-TITLE=22 Monument Avenue:geo:-70.9183446,42.4696786
END:VEVENT
BEGIN:VEVENT
DTSTART;TZID=America/New_York:20181021T083000
DTEND;TZID=America/New_York:20181021T133000
DTSTAMP:20260420T063713
CREATED:20181008T130102Z
LAST-MODIFIED:20181008T130102Z
UID:10000669-1540110600-1540128600@www.salemvolunteers.org
SUMMARY:Swampscott Farmers' Market
DESCRIPTION:The Swampscott Farmers Market is in need of a few good volunteers to help out Sundays through October. \nThe market runs from 10am until 1pm and volunteers are needed for setup from 8:30 until 10:30am and for closing from 12:30 until 1:30pm. \nContact Amanda at aferranteowen@gmail.com or use the market Facebook group.
URL:https://www.salemvolunteers.org/event/swampscott-farmers-market/2018-10-21/
LOCATION:Swampscott Town Hall\, 22 Monument Avenue\, Swampscott\, MA
GEO:42.4696786;-70.9183446
X-APPLE-STRUCTURED-LOCATION;VALUE=URI;X-ADDRESS=Swampscott Town Hall 22 Monument Avenue Swampscott MA;X-APPLE-RADIUS=500;X-TITLE=22 Monument Avenue:geo:-70.9183446,42.4696786
END:VEVENT
BEGIN:VEVENT
DTSTART;TZID=America/New_York:20181014T083000
DTEND;TZID=America/New_York:20181014T133000
DTSTAMP:20260420T063713
CREATED:20181008T130102Z
LAST-MODIFIED:20181008T130102Z
UID:10000668-1539505800-1539523800@www.salemvolunteers.org
SUMMARY:Swampscott Farmers' Market
DESCRIPTION:The Swampscott Farmers Market is in need of a few good volunteers to help out Sundays through October. \nThe market runs from 10am until 1pm and volunteers are needed for setup from 8:30 until 10:30am and for closing from 12:30 until 1:30pm. \nContact Amanda at aferranteowen@gmail.com or use the market Facebook group.
URL:https://www.salemvolunteers.org/event/swampscott-farmers-market/2018-10-14/
LOCATION:Swampscott Town Hall\, 22 Monument Avenue\, Swampscott\, MA
GEO:42.4696786;-70.9183446
X-APPLE-STRUCTURED-LOCATION;VALUE=URI;X-ADDRESS=Swampscott Town Hall 22 Monument Avenue Swampscott MA;X-APPLE-RADIUS=500;X-TITLE=22 Monument Avenue:geo:-70.9183446,42.4696786
END:VEVENT
END:VCALENDAR