BEGIN:VCALENDAR
VERSION:2.0
PRODID:-//Salem Volunteers - ECPv6.15.11//NONSGML v1.0//EN
CALSCALE:GREGORIAN
METHOD:PUBLISH
X-ORIGINAL-URL:https://www.salemvolunteers.org
X-WR-CALDESC:Events for Salem Volunteers
REFRESH-INTERVAL;VALUE=DURATION:PT1H
X-Robots-Tag:noindex
X-PUBLISHED-TTL:PT1H
BEGIN:VTIMEZONE
TZID:America/New_York
BEGIN:DAYLIGHT
TZOFFSETFROM:-0500
TZOFFSETTO:-0400
TZNAME:EDT
DTSTART:20190310T070000
END:DAYLIGHT
BEGIN:STANDARD
TZOFFSETFROM:-0400
TZOFFSETTO:-0500
TZNAME:EST
DTSTART:20191103T060000
END:STANDARD
BEGIN:DAYLIGHT
TZOFFSETFROM:-0500
TZOFFSETTO:-0400
TZNAME:EDT
DTSTART:20200308T070000
END:DAYLIGHT
BEGIN:STANDARD
TZOFFSETFROM:-0400
TZOFFSETTO:-0500
TZNAME:EST
DTSTART:20201101T060000
END:STANDARD
BEGIN:DAYLIGHT
TZOFFSETFROM:-0500
TZOFFSETTO:-0400
TZNAME:EDT
DTSTART:20210314T070000
END:DAYLIGHT
BEGIN:STANDARD
TZOFFSETFROM:-0400
TZOFFSETTO:-0500
TZNAME:EST
DTSTART:20211107T060000
END:STANDARD
END:VTIMEZONE
BEGIN:VEVENT
DTSTART;TZID=America/New_York:20200518T120000
DTEND;TZID=America/New_York:20200518T150000
DTSTAMP:20260422T154627
CREATED:20200512T011841Z
LAST-MODIFIED:20210104T210623Z
UID:10001788-1589803200-1589814000@www.salemvolunteers.org
SUMMARY:Salvation Army food pantry
DESCRIPTION:Join the Salvation Army in Lynn for filling food boxes and hand-out boxes of food for clients.  Help is needed every weekday from 12 to 3pm. \nContact Emily at 617-849-1943.
URL:https://www.salemvolunteers.org/event/salvation-army-food-pantry/2020-05-18/
LOCATION:Salvation Army\, Lynn\, 1 Franklin Street\, Lynn\, MA\, 01902\, United States
GEO:42.4649268;-70.9525438
X-APPLE-STRUCTURED-LOCATION;VALUE=URI;X-ADDRESS=Salvation Army Lynn 1 Franklin Street Lynn MA 01902 United States;X-APPLE-RADIUS=500;X-TITLE=1 Franklin Street:geo:-70.9525438,42.4649268
END:VEVENT
BEGIN:VEVENT
DTSTART;TZID=America/New_York:20200515T120000
DTEND;TZID=America/New_York:20200515T150000
DTSTAMP:20260422T154627
CREATED:20200512T011841Z
LAST-MODIFIED:20210104T210623Z
UID:10001787-1589544000-1589554800@www.salemvolunteers.org
SUMMARY:Salvation Army food pantry
DESCRIPTION:Join the Salvation Army in Lynn for filling food boxes and hand-out boxes of food for clients.  Help is needed every weekday from 12 to 3pm. \nContact Emily at 617-849-1943.
URL:https://www.salemvolunteers.org/event/salvation-army-food-pantry/2020-05-15/
LOCATION:Salvation Army\, Lynn\, 1 Franklin Street\, Lynn\, MA\, 01902\, United States
GEO:42.4649268;-70.9525438
X-APPLE-STRUCTURED-LOCATION;VALUE=URI;X-ADDRESS=Salvation Army Lynn 1 Franklin Street Lynn MA 01902 United States;X-APPLE-RADIUS=500;X-TITLE=1 Franklin Street:geo:-70.9525438,42.4649268
END:VEVENT
BEGIN:VEVENT
DTSTART;TZID=America/New_York:20200514T120000
DTEND;TZID=America/New_York:20200514T150000
DTSTAMP:20260422T154627
CREATED:20200512T011841Z
LAST-MODIFIED:20210104T210623Z
UID:10001786-1589457600-1589468400@www.salemvolunteers.org
SUMMARY:Salvation Army food pantry
DESCRIPTION:Join the Salvation Army in Lynn for filling food boxes and hand-out boxes of food for clients.  Help is needed every weekday from 12 to 3pm. \nContact Emily at 617-849-1943.
URL:https://www.salemvolunteers.org/event/salvation-army-food-pantry/2020-05-14/
LOCATION:Salvation Army\, Lynn\, 1 Franklin Street\, Lynn\, MA\, 01902\, United States
GEO:42.4649268;-70.9525438
X-APPLE-STRUCTURED-LOCATION;VALUE=URI;X-ADDRESS=Salvation Army Lynn 1 Franklin Street Lynn MA 01902 United States;X-APPLE-RADIUS=500;X-TITLE=1 Franklin Street:geo:-70.9525438,42.4649268
END:VEVENT
BEGIN:VEVENT
DTSTART;TZID=America/New_York:20200513T120000
DTEND;TZID=America/New_York:20200513T150000
DTSTAMP:20260422T154627
CREATED:20200512T011841Z
LAST-MODIFIED:20210104T210623Z
UID:10001785-1589371200-1589382000@www.salemvolunteers.org
SUMMARY:Salvation Army food pantry
DESCRIPTION:Join the Salvation Army in Lynn for filling food boxes and hand-out boxes of food for clients.  Help is needed every weekday from 12 to 3pm. \nContact Emily at 617-849-1943.
URL:https://www.salemvolunteers.org/event/salvation-army-food-pantry/2020-05-13/
LOCATION:Salvation Army\, Lynn\, 1 Franklin Street\, Lynn\, MA\, 01902\, United States
GEO:42.4649268;-70.9525438
X-APPLE-STRUCTURED-LOCATION;VALUE=URI;X-ADDRESS=Salvation Army Lynn 1 Franklin Street Lynn MA 01902 United States;X-APPLE-RADIUS=500;X-TITLE=1 Franklin Street:geo:-70.9525438,42.4649268
END:VEVENT
BEGIN:VEVENT
DTSTART;TZID=America/New_York:20200512T120000
DTEND;TZID=America/New_York:20200512T150000
DTSTAMP:20260422T154627
CREATED:20200512T011841Z
LAST-MODIFIED:20210104T210623Z
UID:10001784-1589284800-1589295600@www.salemvolunteers.org
SUMMARY:Salvation Army food pantry
DESCRIPTION:Join the Salvation Army in Lynn for filling food boxes and hand-out boxes of food for clients.  Help is needed every weekday from 12 to 3pm. \nContact Emily at 617-849-1943.
URL:https://www.salemvolunteers.org/event/salvation-army-food-pantry/2020-05-12/
LOCATION:Salvation Army\, Lynn\, 1 Franklin Street\, Lynn\, MA\, 01902\, United States
GEO:42.4649268;-70.9525438
X-APPLE-STRUCTURED-LOCATION;VALUE=URI;X-ADDRESS=Salvation Army Lynn 1 Franklin Street Lynn MA 01902 United States;X-APPLE-RADIUS=500;X-TITLE=1 Franklin Street:geo:-70.9525438,42.4649268
END:VEVENT
BEGIN:VEVENT
DTSTART;TZID=America/New_York:20200511T120000
DTEND;TZID=America/New_York:20200511T150000
DTSTAMP:20260422T154627
CREATED:20200512T011841Z
LAST-MODIFIED:20210104T210623Z
UID:10001783-1589198400-1589209200@www.salemvolunteers.org
SUMMARY:Salvation Army food pantry
DESCRIPTION:Join the Salvation Army in Lynn for filling food boxes and hand-out boxes of food for clients.  Help is needed every weekday from 12 to 3pm. \nContact Emily at 617-849-1943.
URL:https://www.salemvolunteers.org/event/salvation-army-food-pantry/2020-05-11/
LOCATION:Salvation Army\, Lynn\, 1 Franklin Street\, Lynn\, MA\, 01902\, United States
GEO:42.4649268;-70.9525438
X-APPLE-STRUCTURED-LOCATION;VALUE=URI;X-ADDRESS=Salvation Army Lynn 1 Franklin Street Lynn MA 01902 United States;X-APPLE-RADIUS=500;X-TITLE=1 Franklin Street:geo:-70.9525438,42.4649268
END:VEVENT
END:VCALENDAR