BEGIN:VCALENDAR
VERSION:2.0
PRODID:-//Salem Volunteers - ECPv6.15.11//NONSGML v1.0//EN
CALSCALE:GREGORIAN
METHOD:PUBLISH
X-ORIGINAL-URL:https://www.salemvolunteers.org
X-WR-CALDESC:Events for Salem Volunteers
REFRESH-INTERVAL;VALUE=DURATION:PT1H
X-Robots-Tag:noindex
X-PUBLISHED-TTL:PT1H
BEGIN:VTIMEZONE
TZID:America/New_York
BEGIN:DAYLIGHT
TZOFFSETFROM:-0500
TZOFFSETTO:-0400
TZNAME:EDT
DTSTART:20190310T070000
END:DAYLIGHT
BEGIN:STANDARD
TZOFFSETFROM:-0400
TZOFFSETTO:-0500
TZNAME:EST
DTSTART:20191103T060000
END:STANDARD
BEGIN:DAYLIGHT
TZOFFSETFROM:-0500
TZOFFSETTO:-0400
TZNAME:EDT
DTSTART:20200308T070000
END:DAYLIGHT
BEGIN:STANDARD
TZOFFSETFROM:-0400
TZOFFSETTO:-0500
TZNAME:EST
DTSTART:20201101T060000
END:STANDARD
BEGIN:DAYLIGHT
TZOFFSETFROM:-0500
TZOFFSETTO:-0400
TZNAME:EDT
DTSTART:20210314T070000
END:DAYLIGHT
BEGIN:STANDARD
TZOFFSETFROM:-0400
TZOFFSETTO:-0500
TZNAME:EST
DTSTART:20211107T060000
END:STANDARD
END:VTIMEZONE
BEGIN:VEVENT
DTSTART;TZID=America/New_York:20200731T120000
DTEND;TZID=America/New_York:20200731T150000
DTSTAMP:20260422T024819
CREATED:20200512T011841Z
LAST-MODIFIED:20210104T210623Z
UID:10001842-1596196800-1596207600@www.salemvolunteers.org
SUMMARY:Salvation Army food pantry
DESCRIPTION:Join the Salvation Army in Lynn for filling food boxes and hand-out boxes of food for clients.  Help is needed every weekday from 12 to 3pm. \nContact Emily at 617-849-1943.
URL:https://www.salemvolunteers.org/event/salvation-army-food-pantry/2020-07-31/
LOCATION:Salvation Army\, Lynn\, 1 Franklin Street\, Lynn\, MA\, 01902\, United States
GEO:42.4649268;-70.9525438
X-APPLE-STRUCTURED-LOCATION;VALUE=URI;X-ADDRESS=Salvation Army Lynn 1 Franklin Street Lynn MA 01902 United States;X-APPLE-RADIUS=500;X-TITLE=1 Franklin Street:geo:-70.9525438,42.4649268
END:VEVENT
BEGIN:VEVENT
DTSTART;TZID=America/New_York:20200730T120000
DTEND;TZID=America/New_York:20200730T150000
DTSTAMP:20260422T024819
CREATED:20200512T011841Z
LAST-MODIFIED:20210104T210623Z
UID:10001841-1596110400-1596121200@www.salemvolunteers.org
SUMMARY:Salvation Army food pantry
DESCRIPTION:Join the Salvation Army in Lynn for filling food boxes and hand-out boxes of food for clients.  Help is needed every weekday from 12 to 3pm. \nContact Emily at 617-849-1943.
URL:https://www.salemvolunteers.org/event/salvation-army-food-pantry/2020-07-30/
LOCATION:Salvation Army\, Lynn\, 1 Franklin Street\, Lynn\, MA\, 01902\, United States
GEO:42.4649268;-70.9525438
X-APPLE-STRUCTURED-LOCATION;VALUE=URI;X-ADDRESS=Salvation Army Lynn 1 Franklin Street Lynn MA 01902 United States;X-APPLE-RADIUS=500;X-TITLE=1 Franklin Street:geo:-70.9525438,42.4649268
END:VEVENT
BEGIN:VEVENT
DTSTART;TZID=America/New_York:20200729T120000
DTEND;TZID=America/New_York:20200729T150000
DTSTAMP:20260422T024819
CREATED:20200512T011841Z
LAST-MODIFIED:20210104T210623Z
UID:10001840-1596024000-1596034800@www.salemvolunteers.org
SUMMARY:Salvation Army food pantry
DESCRIPTION:Join the Salvation Army in Lynn for filling food boxes and hand-out boxes of food for clients.  Help is needed every weekday from 12 to 3pm. \nContact Emily at 617-849-1943.
URL:https://www.salemvolunteers.org/event/salvation-army-food-pantry/2020-07-29/
LOCATION:Salvation Army\, Lynn\, 1 Franklin Street\, Lynn\, MA\, 01902\, United States
GEO:42.4649268;-70.9525438
X-APPLE-STRUCTURED-LOCATION;VALUE=URI;X-ADDRESS=Salvation Army Lynn 1 Franklin Street Lynn MA 01902 United States;X-APPLE-RADIUS=500;X-TITLE=1 Franklin Street:geo:-70.9525438,42.4649268
END:VEVENT
BEGIN:VEVENT
DTSTART;TZID=America/New_York:20200728T120000
DTEND;TZID=America/New_York:20200728T150000
DTSTAMP:20260422T024819
CREATED:20200512T011841Z
LAST-MODIFIED:20210104T210623Z
UID:10001839-1595937600-1595948400@www.salemvolunteers.org
SUMMARY:Salvation Army food pantry
DESCRIPTION:Join the Salvation Army in Lynn for filling food boxes and hand-out boxes of food for clients.  Help is needed every weekday from 12 to 3pm. \nContact Emily at 617-849-1943.
URL:https://www.salemvolunteers.org/event/salvation-army-food-pantry/2020-07-28/
LOCATION:Salvation Army\, Lynn\, 1 Franklin Street\, Lynn\, MA\, 01902\, United States
GEO:42.4649268;-70.9525438
X-APPLE-STRUCTURED-LOCATION;VALUE=URI;X-ADDRESS=Salvation Army Lynn 1 Franklin Street Lynn MA 01902 United States;X-APPLE-RADIUS=500;X-TITLE=1 Franklin Street:geo:-70.9525438,42.4649268
END:VEVENT
BEGIN:VEVENT
DTSTART;TZID=America/New_York:20200727T120000
DTEND;TZID=America/New_York:20200727T150000
DTSTAMP:20260422T024819
CREATED:20200512T011841Z
LAST-MODIFIED:20210104T210623Z
UID:10001838-1595851200-1595862000@www.salemvolunteers.org
SUMMARY:Salvation Army food pantry
DESCRIPTION:Join the Salvation Army in Lynn for filling food boxes and hand-out boxes of food for clients.  Help is needed every weekday from 12 to 3pm. \nContact Emily at 617-849-1943.
URL:https://www.salemvolunteers.org/event/salvation-army-food-pantry/2020-07-27/
LOCATION:Salvation Army\, Lynn\, 1 Franklin Street\, Lynn\, MA\, 01902\, United States
GEO:42.4649268;-70.9525438
X-APPLE-STRUCTURED-LOCATION;VALUE=URI;X-ADDRESS=Salvation Army Lynn 1 Franklin Street Lynn MA 01902 United States;X-APPLE-RADIUS=500;X-TITLE=1 Franklin Street:geo:-70.9525438,42.4649268
END:VEVENT
BEGIN:VEVENT
DTSTART;TZID=America/New_York:20200724T120000
DTEND;TZID=America/New_York:20200724T150000
DTSTAMP:20260422T024819
CREATED:20200512T011841Z
LAST-MODIFIED:20210104T210623Z
UID:10001837-1595592000-1595602800@www.salemvolunteers.org
SUMMARY:Salvation Army food pantry
DESCRIPTION:Join the Salvation Army in Lynn for filling food boxes and hand-out boxes of food for clients.  Help is needed every weekday from 12 to 3pm. \nContact Emily at 617-849-1943.
URL:https://www.salemvolunteers.org/event/salvation-army-food-pantry/2020-07-24/
LOCATION:Salvation Army\, Lynn\, 1 Franklin Street\, Lynn\, MA\, 01902\, United States
GEO:42.4649268;-70.9525438
X-APPLE-STRUCTURED-LOCATION;VALUE=URI;X-ADDRESS=Salvation Army Lynn 1 Franklin Street Lynn MA 01902 United States;X-APPLE-RADIUS=500;X-TITLE=1 Franklin Street:geo:-70.9525438,42.4649268
END:VEVENT
BEGIN:VEVENT
DTSTART;TZID=America/New_York:20200723T120000
DTEND;TZID=America/New_York:20200723T150000
DTSTAMP:20260422T024819
CREATED:20200512T011841Z
LAST-MODIFIED:20210104T210623Z
UID:10001836-1595505600-1595516400@www.salemvolunteers.org
SUMMARY:Salvation Army food pantry
DESCRIPTION:Join the Salvation Army in Lynn for filling food boxes and hand-out boxes of food for clients.  Help is needed every weekday from 12 to 3pm. \nContact Emily at 617-849-1943.
URL:https://www.salemvolunteers.org/event/salvation-army-food-pantry/2020-07-23/
LOCATION:Salvation Army\, Lynn\, 1 Franklin Street\, Lynn\, MA\, 01902\, United States
GEO:42.4649268;-70.9525438
X-APPLE-STRUCTURED-LOCATION;VALUE=URI;X-ADDRESS=Salvation Army Lynn 1 Franklin Street Lynn MA 01902 United States;X-APPLE-RADIUS=500;X-TITLE=1 Franklin Street:geo:-70.9525438,42.4649268
END:VEVENT
BEGIN:VEVENT
DTSTART;TZID=America/New_York:20200722T120000
DTEND;TZID=America/New_York:20200722T150000
DTSTAMP:20260422T024819
CREATED:20200512T011841Z
LAST-MODIFIED:20210104T210623Z
UID:10001835-1595419200-1595430000@www.salemvolunteers.org
SUMMARY:Salvation Army food pantry
DESCRIPTION:Join the Salvation Army in Lynn for filling food boxes and hand-out boxes of food for clients.  Help is needed every weekday from 12 to 3pm. \nContact Emily at 617-849-1943.
URL:https://www.salemvolunteers.org/event/salvation-army-food-pantry/2020-07-22/
LOCATION:Salvation Army\, Lynn\, 1 Franklin Street\, Lynn\, MA\, 01902\, United States
GEO:42.4649268;-70.9525438
X-APPLE-STRUCTURED-LOCATION;VALUE=URI;X-ADDRESS=Salvation Army Lynn 1 Franklin Street Lynn MA 01902 United States;X-APPLE-RADIUS=500;X-TITLE=1 Franklin Street:geo:-70.9525438,42.4649268
END:VEVENT
BEGIN:VEVENT
DTSTART;TZID=America/New_York:20200721T120000
DTEND;TZID=America/New_York:20200721T150000
DTSTAMP:20260422T024819
CREATED:20200512T011841Z
LAST-MODIFIED:20210104T210623Z
UID:10001834-1595332800-1595343600@www.salemvolunteers.org
SUMMARY:Salvation Army food pantry
DESCRIPTION:Join the Salvation Army in Lynn for filling food boxes and hand-out boxes of food for clients.  Help is needed every weekday from 12 to 3pm. \nContact Emily at 617-849-1943.
URL:https://www.salemvolunteers.org/event/salvation-army-food-pantry/2020-07-21/
LOCATION:Salvation Army\, Lynn\, 1 Franklin Street\, Lynn\, MA\, 01902\, United States
GEO:42.4649268;-70.9525438
X-APPLE-STRUCTURED-LOCATION;VALUE=URI;X-ADDRESS=Salvation Army Lynn 1 Franklin Street Lynn MA 01902 United States;X-APPLE-RADIUS=500;X-TITLE=1 Franklin Street:geo:-70.9525438,42.4649268
END:VEVENT
BEGIN:VEVENT
DTSTART;TZID=America/New_York:20200720T120000
DTEND;TZID=America/New_York:20200720T150000
DTSTAMP:20260422T024819
CREATED:20200512T011841Z
LAST-MODIFIED:20210104T210623Z
UID:10001833-1595246400-1595257200@www.salemvolunteers.org
SUMMARY:Salvation Army food pantry
DESCRIPTION:Join the Salvation Army in Lynn for filling food boxes and hand-out boxes of food for clients.  Help is needed every weekday from 12 to 3pm. \nContact Emily at 617-849-1943.
URL:https://www.salemvolunteers.org/event/salvation-army-food-pantry/2020-07-20/
LOCATION:Salvation Army\, Lynn\, 1 Franklin Street\, Lynn\, MA\, 01902\, United States
GEO:42.4649268;-70.9525438
X-APPLE-STRUCTURED-LOCATION;VALUE=URI;X-ADDRESS=Salvation Army Lynn 1 Franklin Street Lynn MA 01902 United States;X-APPLE-RADIUS=500;X-TITLE=1 Franklin Street:geo:-70.9525438,42.4649268
END:VEVENT
BEGIN:VEVENT
DTSTART;TZID=America/New_York:20200717T120000
DTEND;TZID=America/New_York:20200717T150000
DTSTAMP:20260422T024819
CREATED:20200512T011841Z
LAST-MODIFIED:20210104T210623Z
UID:10001832-1594987200-1594998000@www.salemvolunteers.org
SUMMARY:Salvation Army food pantry
DESCRIPTION:Join the Salvation Army in Lynn for filling food boxes and hand-out boxes of food for clients.  Help is needed every weekday from 12 to 3pm. \nContact Emily at 617-849-1943.
URL:https://www.salemvolunteers.org/event/salvation-army-food-pantry/2020-07-17/
LOCATION:Salvation Army\, Lynn\, 1 Franklin Street\, Lynn\, MA\, 01902\, United States
GEO:42.4649268;-70.9525438
X-APPLE-STRUCTURED-LOCATION;VALUE=URI;X-ADDRESS=Salvation Army Lynn 1 Franklin Street Lynn MA 01902 United States;X-APPLE-RADIUS=500;X-TITLE=1 Franklin Street:geo:-70.9525438,42.4649268
END:VEVENT
BEGIN:VEVENT
DTSTART;TZID=America/New_York:20200716T120000
DTEND;TZID=America/New_York:20200716T150000
DTSTAMP:20260422T024819
CREATED:20200512T011841Z
LAST-MODIFIED:20210104T210623Z
UID:10001831-1594900800-1594911600@www.salemvolunteers.org
SUMMARY:Salvation Army food pantry
DESCRIPTION:Join the Salvation Army in Lynn for filling food boxes and hand-out boxes of food for clients.  Help is needed every weekday from 12 to 3pm. \nContact Emily at 617-849-1943.
URL:https://www.salemvolunteers.org/event/salvation-army-food-pantry/2020-07-16/
LOCATION:Salvation Army\, Lynn\, 1 Franklin Street\, Lynn\, MA\, 01902\, United States
GEO:42.4649268;-70.9525438
X-APPLE-STRUCTURED-LOCATION;VALUE=URI;X-ADDRESS=Salvation Army Lynn 1 Franklin Street Lynn MA 01902 United States;X-APPLE-RADIUS=500;X-TITLE=1 Franklin Street:geo:-70.9525438,42.4649268
END:VEVENT
BEGIN:VEVENT
DTSTART;TZID=America/New_York:20200715T120000
DTEND;TZID=America/New_York:20200715T150000
DTSTAMP:20260422T024819
CREATED:20200512T011841Z
LAST-MODIFIED:20210104T210623Z
UID:10001830-1594814400-1594825200@www.salemvolunteers.org
SUMMARY:Salvation Army food pantry
DESCRIPTION:Join the Salvation Army in Lynn for filling food boxes and hand-out boxes of food for clients.  Help is needed every weekday from 12 to 3pm. \nContact Emily at 617-849-1943.
URL:https://www.salemvolunteers.org/event/salvation-army-food-pantry/2020-07-15/
LOCATION:Salvation Army\, Lynn\, 1 Franklin Street\, Lynn\, MA\, 01902\, United States
GEO:42.4649268;-70.9525438
X-APPLE-STRUCTURED-LOCATION;VALUE=URI;X-ADDRESS=Salvation Army Lynn 1 Franklin Street Lynn MA 01902 United States;X-APPLE-RADIUS=500;X-TITLE=1 Franklin Street:geo:-70.9525438,42.4649268
END:VEVENT
BEGIN:VEVENT
DTSTART;TZID=America/New_York:20200714T120000
DTEND;TZID=America/New_York:20200714T150000
DTSTAMP:20260422T024819
CREATED:20200512T011841Z
LAST-MODIFIED:20210104T210623Z
UID:10001829-1594728000-1594738800@www.salemvolunteers.org
SUMMARY:Salvation Army food pantry
DESCRIPTION:Join the Salvation Army in Lynn for filling food boxes and hand-out boxes of food for clients.  Help is needed every weekday from 12 to 3pm. \nContact Emily at 617-849-1943.
URL:https://www.salemvolunteers.org/event/salvation-army-food-pantry/2020-07-14/
LOCATION:Salvation Army\, Lynn\, 1 Franklin Street\, Lynn\, MA\, 01902\, United States
GEO:42.4649268;-70.9525438
X-APPLE-STRUCTURED-LOCATION;VALUE=URI;X-ADDRESS=Salvation Army Lynn 1 Franklin Street Lynn MA 01902 United States;X-APPLE-RADIUS=500;X-TITLE=1 Franklin Street:geo:-70.9525438,42.4649268
END:VEVENT
BEGIN:VEVENT
DTSTART;TZID=America/New_York:20200713T120000
DTEND;TZID=America/New_York:20200713T150000
DTSTAMP:20260422T024819
CREATED:20200512T011841Z
LAST-MODIFIED:20210104T210623Z
UID:10001828-1594641600-1594652400@www.salemvolunteers.org
SUMMARY:Salvation Army food pantry
DESCRIPTION:Join the Salvation Army in Lynn for filling food boxes and hand-out boxes of food for clients.  Help is needed every weekday from 12 to 3pm. \nContact Emily at 617-849-1943.
URL:https://www.salemvolunteers.org/event/salvation-army-food-pantry/2020-07-13/
LOCATION:Salvation Army\, Lynn\, 1 Franklin Street\, Lynn\, MA\, 01902\, United States
GEO:42.4649268;-70.9525438
X-APPLE-STRUCTURED-LOCATION;VALUE=URI;X-ADDRESS=Salvation Army Lynn 1 Franklin Street Lynn MA 01902 United States;X-APPLE-RADIUS=500;X-TITLE=1 Franklin Street:geo:-70.9525438,42.4649268
END:VEVENT
BEGIN:VEVENT
DTSTART;TZID=America/New_York:20200710T120000
DTEND;TZID=America/New_York:20200710T150000
DTSTAMP:20260422T024819
CREATED:20200512T011841Z
LAST-MODIFIED:20210104T210623Z
UID:10001827-1594382400-1594393200@www.salemvolunteers.org
SUMMARY:Salvation Army food pantry
DESCRIPTION:Join the Salvation Army in Lynn for filling food boxes and hand-out boxes of food for clients.  Help is needed every weekday from 12 to 3pm. \nContact Emily at 617-849-1943.
URL:https://www.salemvolunteers.org/event/salvation-army-food-pantry/2020-07-10/
LOCATION:Salvation Army\, Lynn\, 1 Franklin Street\, Lynn\, MA\, 01902\, United States
GEO:42.4649268;-70.9525438
X-APPLE-STRUCTURED-LOCATION;VALUE=URI;X-ADDRESS=Salvation Army Lynn 1 Franklin Street Lynn MA 01902 United States;X-APPLE-RADIUS=500;X-TITLE=1 Franklin Street:geo:-70.9525438,42.4649268
END:VEVENT
BEGIN:VEVENT
DTSTART;TZID=America/New_York:20200709T120000
DTEND;TZID=America/New_York:20200709T150000
DTSTAMP:20260422T024819
CREATED:20200512T011841Z
LAST-MODIFIED:20210104T210623Z
UID:10001826-1594296000-1594306800@www.salemvolunteers.org
SUMMARY:Salvation Army food pantry
DESCRIPTION:Join the Salvation Army in Lynn for filling food boxes and hand-out boxes of food for clients.  Help is needed every weekday from 12 to 3pm. \nContact Emily at 617-849-1943.
URL:https://www.salemvolunteers.org/event/salvation-army-food-pantry/2020-07-09/
LOCATION:Salvation Army\, Lynn\, 1 Franklin Street\, Lynn\, MA\, 01902\, United States
GEO:42.4649268;-70.9525438
X-APPLE-STRUCTURED-LOCATION;VALUE=URI;X-ADDRESS=Salvation Army Lynn 1 Franklin Street Lynn MA 01902 United States;X-APPLE-RADIUS=500;X-TITLE=1 Franklin Street:geo:-70.9525438,42.4649268
END:VEVENT
BEGIN:VEVENT
DTSTART;TZID=America/New_York:20200708T120000
DTEND;TZID=America/New_York:20200708T150000
DTSTAMP:20260422T024819
CREATED:20200512T011841Z
LAST-MODIFIED:20210104T210623Z
UID:10001825-1594209600-1594220400@www.salemvolunteers.org
SUMMARY:Salvation Army food pantry
DESCRIPTION:Join the Salvation Army in Lynn for filling food boxes and hand-out boxes of food for clients.  Help is needed every weekday from 12 to 3pm. \nContact Emily at 617-849-1943.
URL:https://www.salemvolunteers.org/event/salvation-army-food-pantry/2020-07-08/
LOCATION:Salvation Army\, Lynn\, 1 Franklin Street\, Lynn\, MA\, 01902\, United States
GEO:42.4649268;-70.9525438
X-APPLE-STRUCTURED-LOCATION;VALUE=URI;X-ADDRESS=Salvation Army Lynn 1 Franklin Street Lynn MA 01902 United States;X-APPLE-RADIUS=500;X-TITLE=1 Franklin Street:geo:-70.9525438,42.4649268
END:VEVENT
BEGIN:VEVENT
DTSTART;TZID=America/New_York:20200707T120000
DTEND;TZID=America/New_York:20200707T150000
DTSTAMP:20260422T024819
CREATED:20200512T011841Z
LAST-MODIFIED:20210104T210623Z
UID:10001824-1594123200-1594134000@www.salemvolunteers.org
SUMMARY:Salvation Army food pantry
DESCRIPTION:Join the Salvation Army in Lynn for filling food boxes and hand-out boxes of food for clients.  Help is needed every weekday from 12 to 3pm. \nContact Emily at 617-849-1943.
URL:https://www.salemvolunteers.org/event/salvation-army-food-pantry/2020-07-07/
LOCATION:Salvation Army\, Lynn\, 1 Franklin Street\, Lynn\, MA\, 01902\, United States
GEO:42.4649268;-70.9525438
X-APPLE-STRUCTURED-LOCATION;VALUE=URI;X-ADDRESS=Salvation Army Lynn 1 Franklin Street Lynn MA 01902 United States;X-APPLE-RADIUS=500;X-TITLE=1 Franklin Street:geo:-70.9525438,42.4649268
END:VEVENT
BEGIN:VEVENT
DTSTART;TZID=America/New_York:20200706T120000
DTEND;TZID=America/New_York:20200706T150000
DTSTAMP:20260422T024819
CREATED:20200512T011841Z
LAST-MODIFIED:20210104T210623Z
UID:10001823-1594036800-1594047600@www.salemvolunteers.org
SUMMARY:Salvation Army food pantry
DESCRIPTION:Join the Salvation Army in Lynn for filling food boxes and hand-out boxes of food for clients.  Help is needed every weekday from 12 to 3pm. \nContact Emily at 617-849-1943.
URL:https://www.salemvolunteers.org/event/salvation-army-food-pantry/2020-07-06/
LOCATION:Salvation Army\, Lynn\, 1 Franklin Street\, Lynn\, MA\, 01902\, United States
GEO:42.4649268;-70.9525438
X-APPLE-STRUCTURED-LOCATION;VALUE=URI;X-ADDRESS=Salvation Army Lynn 1 Franklin Street Lynn MA 01902 United States;X-APPLE-RADIUS=500;X-TITLE=1 Franklin Street:geo:-70.9525438,42.4649268
END:VEVENT
BEGIN:VEVENT
DTSTART;TZID=America/New_York:20200703T120000
DTEND;TZID=America/New_York:20200703T150000
DTSTAMP:20260422T024819
CREATED:20200512T011841Z
LAST-MODIFIED:20210104T210623Z
UID:10001822-1593777600-1593788400@www.salemvolunteers.org
SUMMARY:Salvation Army food pantry
DESCRIPTION:Join the Salvation Army in Lynn for filling food boxes and hand-out boxes of food for clients.  Help is needed every weekday from 12 to 3pm. \nContact Emily at 617-849-1943.
URL:https://www.salemvolunteers.org/event/salvation-army-food-pantry/2020-07-03/
LOCATION:Salvation Army\, Lynn\, 1 Franklin Street\, Lynn\, MA\, 01902\, United States
GEO:42.4649268;-70.9525438
X-APPLE-STRUCTURED-LOCATION;VALUE=URI;X-ADDRESS=Salvation Army Lynn 1 Franklin Street Lynn MA 01902 United States;X-APPLE-RADIUS=500;X-TITLE=1 Franklin Street:geo:-70.9525438,42.4649268
END:VEVENT
BEGIN:VEVENT
DTSTART;TZID=America/New_York:20200702T120000
DTEND;TZID=America/New_York:20200702T150000
DTSTAMP:20260422T024819
CREATED:20200512T011841Z
LAST-MODIFIED:20210104T210623Z
UID:10001821-1593691200-1593702000@www.salemvolunteers.org
SUMMARY:Salvation Army food pantry
DESCRIPTION:Join the Salvation Army in Lynn for filling food boxes and hand-out boxes of food for clients.  Help is needed every weekday from 12 to 3pm. \nContact Emily at 617-849-1943.
URL:https://www.salemvolunteers.org/event/salvation-army-food-pantry/2020-07-02/
LOCATION:Salvation Army\, Lynn\, 1 Franklin Street\, Lynn\, MA\, 01902\, United States
GEO:42.4649268;-70.9525438
X-APPLE-STRUCTURED-LOCATION;VALUE=URI;X-ADDRESS=Salvation Army Lynn 1 Franklin Street Lynn MA 01902 United States;X-APPLE-RADIUS=500;X-TITLE=1 Franklin Street:geo:-70.9525438,42.4649268
END:VEVENT
BEGIN:VEVENT
DTSTART;TZID=America/New_York:20200701T120000
DTEND;TZID=America/New_York:20200701T150000
DTSTAMP:20260422T024819
CREATED:20200512T011841Z
LAST-MODIFIED:20210104T210623Z
UID:10001820-1593604800-1593615600@www.salemvolunteers.org
SUMMARY:Salvation Army food pantry
DESCRIPTION:Join the Salvation Army in Lynn for filling food boxes and hand-out boxes of food for clients.  Help is needed every weekday from 12 to 3pm. \nContact Emily at 617-849-1943.
URL:https://www.salemvolunteers.org/event/salvation-army-food-pantry/2020-07-01/
LOCATION:Salvation Army\, Lynn\, 1 Franklin Street\, Lynn\, MA\, 01902\, United States
GEO:42.4649268;-70.9525438
X-APPLE-STRUCTURED-LOCATION;VALUE=URI;X-ADDRESS=Salvation Army Lynn 1 Franklin Street Lynn MA 01902 United States;X-APPLE-RADIUS=500;X-TITLE=1 Franklin Street:geo:-70.9525438,42.4649268
END:VEVENT
BEGIN:VEVENT
DTSTART;TZID=America/New_York:20200630T120000
DTEND;TZID=America/New_York:20200630T150000
DTSTAMP:20260422T024819
CREATED:20200512T011841Z
LAST-MODIFIED:20210104T210623Z
UID:10001819-1593518400-1593529200@www.salemvolunteers.org
SUMMARY:Salvation Army food pantry
DESCRIPTION:Join the Salvation Army in Lynn for filling food boxes and hand-out boxes of food for clients.  Help is needed every weekday from 12 to 3pm. \nContact Emily at 617-849-1943.
URL:https://www.salemvolunteers.org/event/salvation-army-food-pantry/2020-06-30/
LOCATION:Salvation Army\, Lynn\, 1 Franklin Street\, Lynn\, MA\, 01902\, United States
GEO:42.4649268;-70.9525438
X-APPLE-STRUCTURED-LOCATION;VALUE=URI;X-ADDRESS=Salvation Army Lynn 1 Franklin Street Lynn MA 01902 United States;X-APPLE-RADIUS=500;X-TITLE=1 Franklin Street:geo:-70.9525438,42.4649268
END:VEVENT
BEGIN:VEVENT
DTSTART;TZID=America/New_York:20200629T120000
DTEND;TZID=America/New_York:20200629T150000
DTSTAMP:20260422T024819
CREATED:20200512T011841Z
LAST-MODIFIED:20210104T210623Z
UID:10001818-1593432000-1593442800@www.salemvolunteers.org
SUMMARY:Salvation Army food pantry
DESCRIPTION:Join the Salvation Army in Lynn for filling food boxes and hand-out boxes of food for clients.  Help is needed every weekday from 12 to 3pm. \nContact Emily at 617-849-1943.
URL:https://www.salemvolunteers.org/event/salvation-army-food-pantry/2020-06-29/
LOCATION:Salvation Army\, Lynn\, 1 Franklin Street\, Lynn\, MA\, 01902\, United States
GEO:42.4649268;-70.9525438
X-APPLE-STRUCTURED-LOCATION;VALUE=URI;X-ADDRESS=Salvation Army Lynn 1 Franklin Street Lynn MA 01902 United States;X-APPLE-RADIUS=500;X-TITLE=1 Franklin Street:geo:-70.9525438,42.4649268
END:VEVENT
BEGIN:VEVENT
DTSTART;TZID=America/New_York:20200626T120000
DTEND;TZID=America/New_York:20200626T150000
DTSTAMP:20260422T024819
CREATED:20200512T011841Z
LAST-MODIFIED:20210104T210623Z
UID:10001817-1593172800-1593183600@www.salemvolunteers.org
SUMMARY:Salvation Army food pantry
DESCRIPTION:Join the Salvation Army in Lynn for filling food boxes and hand-out boxes of food for clients.  Help is needed every weekday from 12 to 3pm. \nContact Emily at 617-849-1943.
URL:https://www.salemvolunteers.org/event/salvation-army-food-pantry/2020-06-26/
LOCATION:Salvation Army\, Lynn\, 1 Franklin Street\, Lynn\, MA\, 01902\, United States
GEO:42.4649268;-70.9525438
X-APPLE-STRUCTURED-LOCATION;VALUE=URI;X-ADDRESS=Salvation Army Lynn 1 Franklin Street Lynn MA 01902 United States;X-APPLE-RADIUS=500;X-TITLE=1 Franklin Street:geo:-70.9525438,42.4649268
END:VEVENT
BEGIN:VEVENT
DTSTART;TZID=America/New_York:20200625T120000
DTEND;TZID=America/New_York:20200625T150000
DTSTAMP:20260422T024819
CREATED:20200512T011841Z
LAST-MODIFIED:20210104T210623Z
UID:10001816-1593086400-1593097200@www.salemvolunteers.org
SUMMARY:Salvation Army food pantry
DESCRIPTION:Join the Salvation Army in Lynn for filling food boxes and hand-out boxes of food for clients.  Help is needed every weekday from 12 to 3pm. \nContact Emily at 617-849-1943.
URL:https://www.salemvolunteers.org/event/salvation-army-food-pantry/2020-06-25/
LOCATION:Salvation Army\, Lynn\, 1 Franklin Street\, Lynn\, MA\, 01902\, United States
GEO:42.4649268;-70.9525438
X-APPLE-STRUCTURED-LOCATION;VALUE=URI;X-ADDRESS=Salvation Army Lynn 1 Franklin Street Lynn MA 01902 United States;X-APPLE-RADIUS=500;X-TITLE=1 Franklin Street:geo:-70.9525438,42.4649268
END:VEVENT
BEGIN:VEVENT
DTSTART;TZID=America/New_York:20200624T120000
DTEND;TZID=America/New_York:20200624T150000
DTSTAMP:20260422T024819
CREATED:20200512T011841Z
LAST-MODIFIED:20210104T210623Z
UID:10001815-1593000000-1593010800@www.salemvolunteers.org
SUMMARY:Salvation Army food pantry
DESCRIPTION:Join the Salvation Army in Lynn for filling food boxes and hand-out boxes of food for clients.  Help is needed every weekday from 12 to 3pm. \nContact Emily at 617-849-1943.
URL:https://www.salemvolunteers.org/event/salvation-army-food-pantry/2020-06-24/
LOCATION:Salvation Army\, Lynn\, 1 Franklin Street\, Lynn\, MA\, 01902\, United States
GEO:42.4649268;-70.9525438
X-APPLE-STRUCTURED-LOCATION;VALUE=URI;X-ADDRESS=Salvation Army Lynn 1 Franklin Street Lynn MA 01902 United States;X-APPLE-RADIUS=500;X-TITLE=1 Franklin Street:geo:-70.9525438,42.4649268
END:VEVENT
BEGIN:VEVENT
DTSTART;TZID=America/New_York:20200623T120000
DTEND;TZID=America/New_York:20200623T150000
DTSTAMP:20260422T024819
CREATED:20200512T011841Z
LAST-MODIFIED:20210104T210623Z
UID:10001814-1592913600-1592924400@www.salemvolunteers.org
SUMMARY:Salvation Army food pantry
DESCRIPTION:Join the Salvation Army in Lynn for filling food boxes and hand-out boxes of food for clients.  Help is needed every weekday from 12 to 3pm. \nContact Emily at 617-849-1943.
URL:https://www.salemvolunteers.org/event/salvation-army-food-pantry/2020-06-23/
LOCATION:Salvation Army\, Lynn\, 1 Franklin Street\, Lynn\, MA\, 01902\, United States
GEO:42.4649268;-70.9525438
X-APPLE-STRUCTURED-LOCATION;VALUE=URI;X-ADDRESS=Salvation Army Lynn 1 Franklin Street Lynn MA 01902 United States;X-APPLE-RADIUS=500;X-TITLE=1 Franklin Street:geo:-70.9525438,42.4649268
END:VEVENT
BEGIN:VEVENT
DTSTART;TZID=America/New_York:20200622T120000
DTEND;TZID=America/New_York:20200622T150000
DTSTAMP:20260422T024819
CREATED:20200512T011841Z
LAST-MODIFIED:20210104T210623Z
UID:10001813-1592827200-1592838000@www.salemvolunteers.org
SUMMARY:Salvation Army food pantry
DESCRIPTION:Join the Salvation Army in Lynn for filling food boxes and hand-out boxes of food for clients.  Help is needed every weekday from 12 to 3pm. \nContact Emily at 617-849-1943.
URL:https://www.salemvolunteers.org/event/salvation-army-food-pantry/2020-06-22/
LOCATION:Salvation Army\, Lynn\, 1 Franklin Street\, Lynn\, MA\, 01902\, United States
GEO:42.4649268;-70.9525438
X-APPLE-STRUCTURED-LOCATION;VALUE=URI;X-ADDRESS=Salvation Army Lynn 1 Franklin Street Lynn MA 01902 United States;X-APPLE-RADIUS=500;X-TITLE=1 Franklin Street:geo:-70.9525438,42.4649268
END:VEVENT
END:VCALENDAR