BEGIN:VCALENDAR
VERSION:2.0
PRODID:-//Salem Volunteers - ECPv6.15.11//NONSGML v1.0//EN
CALSCALE:GREGORIAN
METHOD:PUBLISH
X-WR-CALNAME:Salem Volunteers
X-ORIGINAL-URL:https://www.salemvolunteers.org
X-WR-CALDESC:Events for Salem Volunteers
REFRESH-INTERVAL;VALUE=DURATION:PT1H
X-Robots-Tag:noindex
X-PUBLISHED-TTL:PT1H
BEGIN:VTIMEZONE
TZID:America/New_York
BEGIN:DAYLIGHT
TZOFFSETFROM:-0500
TZOFFSETTO:-0400
TZNAME:EDT
DTSTART:20190310T070000
END:DAYLIGHT
BEGIN:STANDARD
TZOFFSETFROM:-0400
TZOFFSETTO:-0500
TZNAME:EST
DTSTART:20191103T060000
END:STANDARD
BEGIN:DAYLIGHT
TZOFFSETFROM:-0500
TZOFFSETTO:-0400
TZNAME:EDT
DTSTART:20200308T070000
END:DAYLIGHT
BEGIN:STANDARD
TZOFFSETFROM:-0400
TZOFFSETTO:-0500
TZNAME:EST
DTSTART:20201101T060000
END:STANDARD
BEGIN:DAYLIGHT
TZOFFSETFROM:-0500
TZOFFSETTO:-0400
TZNAME:EDT
DTSTART:20210314T070000
END:DAYLIGHT
BEGIN:STANDARD
TZOFFSETFROM:-0400
TZOFFSETTO:-0500
TZNAME:EST
DTSTART:20211107T060000
END:STANDARD
END:VTIMEZONE
BEGIN:VEVENT
DTSTART;TZID=America/New_York:20201102T120000
DTEND;TZID=America/New_York:20201102T150000
DTSTAMP:20260421T103656
CREATED:20200512T011841Z
LAST-MODIFIED:20210104T210623Z
UID:10001908-1604318400-1604329200@www.salemvolunteers.org
SUMMARY:Salvation Army food pantry
DESCRIPTION:Join the Salvation Army in Lynn for filling food boxes and hand-out boxes of food for clients.  Help is needed every weekday from 12 to 3pm. \nContact Emily at 617-849-1943.
URL:https://www.salemvolunteers.org/event/salvation-army-food-pantry/2020-11-02/
LOCATION:Salvation Army\, Lynn\, 1 Franklin Street\, Lynn\, MA\, 01902\, United States
GEO:42.4649268;-70.9525438
X-APPLE-STRUCTURED-LOCATION;VALUE=URI;X-ADDRESS=Salvation Army Lynn 1 Franklin Street Lynn MA 01902 United States;X-APPLE-RADIUS=500;X-TITLE=1 Franklin Street:geo:-70.9525438,42.4649268
END:VEVENT
BEGIN:VEVENT
DTSTART;TZID=America/New_York:20201030T120000
DTEND;TZID=America/New_York:20201030T150000
DTSTAMP:20260421T103656
CREATED:20200512T011841Z
LAST-MODIFIED:20210104T210623Z
UID:10001907-1604059200-1604070000@www.salemvolunteers.org
SUMMARY:Salvation Army food pantry
DESCRIPTION:Join the Salvation Army in Lynn for filling food boxes and hand-out boxes of food for clients.  Help is needed every weekday from 12 to 3pm. \nContact Emily at 617-849-1943.
URL:https://www.salemvolunteers.org/event/salvation-army-food-pantry/2020-10-30/
LOCATION:Salvation Army\, Lynn\, 1 Franklin Street\, Lynn\, MA\, 01902\, United States
GEO:42.4649268;-70.9525438
X-APPLE-STRUCTURED-LOCATION;VALUE=URI;X-ADDRESS=Salvation Army Lynn 1 Franklin Street Lynn MA 01902 United States;X-APPLE-RADIUS=500;X-TITLE=1 Franklin Street:geo:-70.9525438,42.4649268
END:VEVENT
BEGIN:VEVENT
DTSTART;TZID=America/New_York:20201029T120000
DTEND;TZID=America/New_York:20201029T150000
DTSTAMP:20260421T103656
CREATED:20200512T011841Z
LAST-MODIFIED:20210104T210623Z
UID:10001906-1603972800-1603983600@www.salemvolunteers.org
SUMMARY:Salvation Army food pantry
DESCRIPTION:Join the Salvation Army in Lynn for filling food boxes and hand-out boxes of food for clients.  Help is needed every weekday from 12 to 3pm. \nContact Emily at 617-849-1943.
URL:https://www.salemvolunteers.org/event/salvation-army-food-pantry/2020-10-29/
LOCATION:Salvation Army\, Lynn\, 1 Franklin Street\, Lynn\, MA\, 01902\, United States
GEO:42.4649268;-70.9525438
X-APPLE-STRUCTURED-LOCATION;VALUE=URI;X-ADDRESS=Salvation Army Lynn 1 Franklin Street Lynn MA 01902 United States;X-APPLE-RADIUS=500;X-TITLE=1 Franklin Street:geo:-70.9525438,42.4649268
END:VEVENT
BEGIN:VEVENT
DTSTART;TZID=America/New_York:20201028T120000
DTEND;TZID=America/New_York:20201028T150000
DTSTAMP:20260421T103656
CREATED:20200512T011841Z
LAST-MODIFIED:20210104T210623Z
UID:10001905-1603886400-1603897200@www.salemvolunteers.org
SUMMARY:Salvation Army food pantry
DESCRIPTION:Join the Salvation Army in Lynn for filling food boxes and hand-out boxes of food for clients.  Help is needed every weekday from 12 to 3pm. \nContact Emily at 617-849-1943.
URL:https://www.salemvolunteers.org/event/salvation-army-food-pantry/2020-10-28/
LOCATION:Salvation Army\, Lynn\, 1 Franklin Street\, Lynn\, MA\, 01902\, United States
GEO:42.4649268;-70.9525438
X-APPLE-STRUCTURED-LOCATION;VALUE=URI;X-ADDRESS=Salvation Army Lynn 1 Franklin Street Lynn MA 01902 United States;X-APPLE-RADIUS=500;X-TITLE=1 Franklin Street:geo:-70.9525438,42.4649268
END:VEVENT
BEGIN:VEVENT
DTSTART;TZID=America/New_York:20201027T120000
DTEND;TZID=America/New_York:20201027T150000
DTSTAMP:20260421T103656
CREATED:20200512T011841Z
LAST-MODIFIED:20210104T210623Z
UID:10001904-1603800000-1603810800@www.salemvolunteers.org
SUMMARY:Salvation Army food pantry
DESCRIPTION:Join the Salvation Army in Lynn for filling food boxes and hand-out boxes of food for clients.  Help is needed every weekday from 12 to 3pm. \nContact Emily at 617-849-1943.
URL:https://www.salemvolunteers.org/event/salvation-army-food-pantry/2020-10-27/
LOCATION:Salvation Army\, Lynn\, 1 Franklin Street\, Lynn\, MA\, 01902\, United States
GEO:42.4649268;-70.9525438
X-APPLE-STRUCTURED-LOCATION;VALUE=URI;X-ADDRESS=Salvation Army Lynn 1 Franklin Street Lynn MA 01902 United States;X-APPLE-RADIUS=500;X-TITLE=1 Franklin Street:geo:-70.9525438,42.4649268
END:VEVENT
BEGIN:VEVENT
DTSTART;TZID=America/New_York:20201026T120000
DTEND;TZID=America/New_York:20201026T150000
DTSTAMP:20260421T103656
CREATED:20200512T011841Z
LAST-MODIFIED:20210104T210623Z
UID:10001903-1603713600-1603724400@www.salemvolunteers.org
SUMMARY:Salvation Army food pantry
DESCRIPTION:Join the Salvation Army in Lynn for filling food boxes and hand-out boxes of food for clients.  Help is needed every weekday from 12 to 3pm. \nContact Emily at 617-849-1943.
URL:https://www.salemvolunteers.org/event/salvation-army-food-pantry/2020-10-26/
LOCATION:Salvation Army\, Lynn\, 1 Franklin Street\, Lynn\, MA\, 01902\, United States
GEO:42.4649268;-70.9525438
X-APPLE-STRUCTURED-LOCATION;VALUE=URI;X-ADDRESS=Salvation Army Lynn 1 Franklin Street Lynn MA 01902 United States;X-APPLE-RADIUS=500;X-TITLE=1 Franklin Street:geo:-70.9525438,42.4649268
END:VEVENT
BEGIN:VEVENT
DTSTART;TZID=America/New_York:20201023T120000
DTEND;TZID=America/New_York:20201023T150000
DTSTAMP:20260421T103656
CREATED:20200512T011841Z
LAST-MODIFIED:20210104T210623Z
UID:10001902-1603454400-1603465200@www.salemvolunteers.org
SUMMARY:Salvation Army food pantry
DESCRIPTION:Join the Salvation Army in Lynn for filling food boxes and hand-out boxes of food for clients.  Help is needed every weekday from 12 to 3pm. \nContact Emily at 617-849-1943.
URL:https://www.salemvolunteers.org/event/salvation-army-food-pantry/2020-10-23/
LOCATION:Salvation Army\, Lynn\, 1 Franklin Street\, Lynn\, MA\, 01902\, United States
GEO:42.4649268;-70.9525438
X-APPLE-STRUCTURED-LOCATION;VALUE=URI;X-ADDRESS=Salvation Army Lynn 1 Franklin Street Lynn MA 01902 United States;X-APPLE-RADIUS=500;X-TITLE=1 Franklin Street:geo:-70.9525438,42.4649268
END:VEVENT
BEGIN:VEVENT
DTSTART;TZID=America/New_York:20201022T120000
DTEND;TZID=America/New_York:20201022T150000
DTSTAMP:20260421T103656
CREATED:20200512T011841Z
LAST-MODIFIED:20210104T210623Z
UID:10001901-1603368000-1603378800@www.salemvolunteers.org
SUMMARY:Salvation Army food pantry
DESCRIPTION:Join the Salvation Army in Lynn for filling food boxes and hand-out boxes of food for clients.  Help is needed every weekday from 12 to 3pm. \nContact Emily at 617-849-1943.
URL:https://www.salemvolunteers.org/event/salvation-army-food-pantry/2020-10-22/
LOCATION:Salvation Army\, Lynn\, 1 Franklin Street\, Lynn\, MA\, 01902\, United States
GEO:42.4649268;-70.9525438
X-APPLE-STRUCTURED-LOCATION;VALUE=URI;X-ADDRESS=Salvation Army Lynn 1 Franklin Street Lynn MA 01902 United States;X-APPLE-RADIUS=500;X-TITLE=1 Franklin Street:geo:-70.9525438,42.4649268
END:VEVENT
BEGIN:VEVENT
DTSTART;TZID=America/New_York:20201021T120000
DTEND;TZID=America/New_York:20201021T150000
DTSTAMP:20260421T103656
CREATED:20200512T011841Z
LAST-MODIFIED:20210104T210623Z
UID:10001900-1603281600-1603292400@www.salemvolunteers.org
SUMMARY:Salvation Army food pantry
DESCRIPTION:Join the Salvation Army in Lynn for filling food boxes and hand-out boxes of food for clients.  Help is needed every weekday from 12 to 3pm. \nContact Emily at 617-849-1943.
URL:https://www.salemvolunteers.org/event/salvation-army-food-pantry/2020-10-21/
LOCATION:Salvation Army\, Lynn\, 1 Franklin Street\, Lynn\, MA\, 01902\, United States
GEO:42.4649268;-70.9525438
X-APPLE-STRUCTURED-LOCATION;VALUE=URI;X-ADDRESS=Salvation Army Lynn 1 Franklin Street Lynn MA 01902 United States;X-APPLE-RADIUS=500;X-TITLE=1 Franklin Street:geo:-70.9525438,42.4649268
END:VEVENT
BEGIN:VEVENT
DTSTART;TZID=America/New_York:20201020T120000
DTEND;TZID=America/New_York:20201020T150000
DTSTAMP:20260421T103656
CREATED:20200512T011841Z
LAST-MODIFIED:20210104T210623Z
UID:10001899-1603195200-1603206000@www.salemvolunteers.org
SUMMARY:Salvation Army food pantry
DESCRIPTION:Join the Salvation Army in Lynn for filling food boxes and hand-out boxes of food for clients.  Help is needed every weekday from 12 to 3pm. \nContact Emily at 617-849-1943.
URL:https://www.salemvolunteers.org/event/salvation-army-food-pantry/2020-10-20/
LOCATION:Salvation Army\, Lynn\, 1 Franklin Street\, Lynn\, MA\, 01902\, United States
GEO:42.4649268;-70.9525438
X-APPLE-STRUCTURED-LOCATION;VALUE=URI;X-ADDRESS=Salvation Army Lynn 1 Franklin Street Lynn MA 01902 United States;X-APPLE-RADIUS=500;X-TITLE=1 Franklin Street:geo:-70.9525438,42.4649268
END:VEVENT
BEGIN:VEVENT
DTSTART;TZID=America/New_York:20201019T120000
DTEND;TZID=America/New_York:20201019T150000
DTSTAMP:20260421T103656
CREATED:20200512T011841Z
LAST-MODIFIED:20210104T210623Z
UID:10001898-1603108800-1603119600@www.salemvolunteers.org
SUMMARY:Salvation Army food pantry
DESCRIPTION:Join the Salvation Army in Lynn for filling food boxes and hand-out boxes of food for clients.  Help is needed every weekday from 12 to 3pm. \nContact Emily at 617-849-1943.
URL:https://www.salemvolunteers.org/event/salvation-army-food-pantry/2020-10-19/
LOCATION:Salvation Army\, Lynn\, 1 Franklin Street\, Lynn\, MA\, 01902\, United States
GEO:42.4649268;-70.9525438
X-APPLE-STRUCTURED-LOCATION;VALUE=URI;X-ADDRESS=Salvation Army Lynn 1 Franklin Street Lynn MA 01902 United States;X-APPLE-RADIUS=500;X-TITLE=1 Franklin Street:geo:-70.9525438,42.4649268
END:VEVENT
BEGIN:VEVENT
DTSTART;TZID=America/New_York:20201016T120000
DTEND;TZID=America/New_York:20201016T150000
DTSTAMP:20260421T103656
CREATED:20200512T011841Z
LAST-MODIFIED:20210104T210623Z
UID:10001897-1602849600-1602860400@www.salemvolunteers.org
SUMMARY:Salvation Army food pantry
DESCRIPTION:Join the Salvation Army in Lynn for filling food boxes and hand-out boxes of food for clients.  Help is needed every weekday from 12 to 3pm. \nContact Emily at 617-849-1943.
URL:https://www.salemvolunteers.org/event/salvation-army-food-pantry/2020-10-16/
LOCATION:Salvation Army\, Lynn\, 1 Franklin Street\, Lynn\, MA\, 01902\, United States
GEO:42.4649268;-70.9525438
X-APPLE-STRUCTURED-LOCATION;VALUE=URI;X-ADDRESS=Salvation Army Lynn 1 Franklin Street Lynn MA 01902 United States;X-APPLE-RADIUS=500;X-TITLE=1 Franklin Street:geo:-70.9525438,42.4649268
END:VEVENT
BEGIN:VEVENT
DTSTART;TZID=America/New_York:20201015T120000
DTEND;TZID=America/New_York:20201015T150000
DTSTAMP:20260421T103656
CREATED:20200512T011841Z
LAST-MODIFIED:20210104T210623Z
UID:10001896-1602763200-1602774000@www.salemvolunteers.org
SUMMARY:Salvation Army food pantry
DESCRIPTION:Join the Salvation Army in Lynn for filling food boxes and hand-out boxes of food for clients.  Help is needed every weekday from 12 to 3pm. \nContact Emily at 617-849-1943.
URL:https://www.salemvolunteers.org/event/salvation-army-food-pantry/2020-10-15/
LOCATION:Salvation Army\, Lynn\, 1 Franklin Street\, Lynn\, MA\, 01902\, United States
GEO:42.4649268;-70.9525438
X-APPLE-STRUCTURED-LOCATION;VALUE=URI;X-ADDRESS=Salvation Army Lynn 1 Franklin Street Lynn MA 01902 United States;X-APPLE-RADIUS=500;X-TITLE=1 Franklin Street:geo:-70.9525438,42.4649268
END:VEVENT
BEGIN:VEVENT
DTSTART;TZID=America/New_York:20201014T120000
DTEND;TZID=America/New_York:20201014T150000
DTSTAMP:20260421T103656
CREATED:20200512T011841Z
LAST-MODIFIED:20210104T210623Z
UID:10001895-1602676800-1602687600@www.salemvolunteers.org
SUMMARY:Salvation Army food pantry
DESCRIPTION:Join the Salvation Army in Lynn for filling food boxes and hand-out boxes of food for clients.  Help is needed every weekday from 12 to 3pm. \nContact Emily at 617-849-1943.
URL:https://www.salemvolunteers.org/event/salvation-army-food-pantry/2020-10-14/
LOCATION:Salvation Army\, Lynn\, 1 Franklin Street\, Lynn\, MA\, 01902\, United States
GEO:42.4649268;-70.9525438
X-APPLE-STRUCTURED-LOCATION;VALUE=URI;X-ADDRESS=Salvation Army Lynn 1 Franklin Street Lynn MA 01902 United States;X-APPLE-RADIUS=500;X-TITLE=1 Franklin Street:geo:-70.9525438,42.4649268
END:VEVENT
BEGIN:VEVENT
DTSTART;TZID=America/New_York:20201013T120000
DTEND;TZID=America/New_York:20201013T150000
DTSTAMP:20260421T103656
CREATED:20200512T011841Z
LAST-MODIFIED:20210104T210623Z
UID:10001894-1602590400-1602601200@www.salemvolunteers.org
SUMMARY:Salvation Army food pantry
DESCRIPTION:Join the Salvation Army in Lynn for filling food boxes and hand-out boxes of food for clients.  Help is needed every weekday from 12 to 3pm. \nContact Emily at 617-849-1943.
URL:https://www.salemvolunteers.org/event/salvation-army-food-pantry/2020-10-13/
LOCATION:Salvation Army\, Lynn\, 1 Franklin Street\, Lynn\, MA\, 01902\, United States
GEO:42.4649268;-70.9525438
X-APPLE-STRUCTURED-LOCATION;VALUE=URI;X-ADDRESS=Salvation Army Lynn 1 Franklin Street Lynn MA 01902 United States;X-APPLE-RADIUS=500;X-TITLE=1 Franklin Street:geo:-70.9525438,42.4649268
END:VEVENT
BEGIN:VEVENT
DTSTART;TZID=America/New_York:20201012T120000
DTEND;TZID=America/New_York:20201012T150000
DTSTAMP:20260421T103656
CREATED:20200512T011841Z
LAST-MODIFIED:20210104T210623Z
UID:10001893-1602504000-1602514800@www.salemvolunteers.org
SUMMARY:Salvation Army food pantry
DESCRIPTION:Join the Salvation Army in Lynn for filling food boxes and hand-out boxes of food for clients.  Help is needed every weekday from 12 to 3pm. \nContact Emily at 617-849-1943.
URL:https://www.salemvolunteers.org/event/salvation-army-food-pantry/2020-10-12/
LOCATION:Salvation Army\, Lynn\, 1 Franklin Street\, Lynn\, MA\, 01902\, United States
GEO:42.4649268;-70.9525438
X-APPLE-STRUCTURED-LOCATION;VALUE=URI;X-ADDRESS=Salvation Army Lynn 1 Franklin Street Lynn MA 01902 United States;X-APPLE-RADIUS=500;X-TITLE=1 Franklin Street:geo:-70.9525438,42.4649268
END:VEVENT
BEGIN:VEVENT
DTSTART;TZID=America/New_York:20201009T120000
DTEND;TZID=America/New_York:20201009T150000
DTSTAMP:20260421T103656
CREATED:20200512T011841Z
LAST-MODIFIED:20210104T210623Z
UID:10001892-1602244800-1602255600@www.salemvolunteers.org
SUMMARY:Salvation Army food pantry
DESCRIPTION:Join the Salvation Army in Lynn for filling food boxes and hand-out boxes of food for clients.  Help is needed every weekday from 12 to 3pm. \nContact Emily at 617-849-1943.
URL:https://www.salemvolunteers.org/event/salvation-army-food-pantry/2020-10-09/
LOCATION:Salvation Army\, Lynn\, 1 Franklin Street\, Lynn\, MA\, 01902\, United States
GEO:42.4649268;-70.9525438
X-APPLE-STRUCTURED-LOCATION;VALUE=URI;X-ADDRESS=Salvation Army Lynn 1 Franklin Street Lynn MA 01902 United States;X-APPLE-RADIUS=500;X-TITLE=1 Franklin Street:geo:-70.9525438,42.4649268
END:VEVENT
BEGIN:VEVENT
DTSTART;TZID=America/New_York:20201008T120000
DTEND;TZID=America/New_York:20201008T150000
DTSTAMP:20260421T103656
CREATED:20200512T011841Z
LAST-MODIFIED:20210104T210623Z
UID:10001891-1602158400-1602169200@www.salemvolunteers.org
SUMMARY:Salvation Army food pantry
DESCRIPTION:Join the Salvation Army in Lynn for filling food boxes and hand-out boxes of food for clients.  Help is needed every weekday from 12 to 3pm. \nContact Emily at 617-849-1943.
URL:https://www.salemvolunteers.org/event/salvation-army-food-pantry/2020-10-08/
LOCATION:Salvation Army\, Lynn\, 1 Franklin Street\, Lynn\, MA\, 01902\, United States
GEO:42.4649268;-70.9525438
X-APPLE-STRUCTURED-LOCATION;VALUE=URI;X-ADDRESS=Salvation Army Lynn 1 Franklin Street Lynn MA 01902 United States;X-APPLE-RADIUS=500;X-TITLE=1 Franklin Street:geo:-70.9525438,42.4649268
END:VEVENT
BEGIN:VEVENT
DTSTART;TZID=America/New_York:20201007T120000
DTEND;TZID=America/New_York:20201007T150000
DTSTAMP:20260421T103656
CREATED:20200512T011841Z
LAST-MODIFIED:20210104T210623Z
UID:10001890-1602072000-1602082800@www.salemvolunteers.org
SUMMARY:Salvation Army food pantry
DESCRIPTION:Join the Salvation Army in Lynn for filling food boxes and hand-out boxes of food for clients.  Help is needed every weekday from 12 to 3pm. \nContact Emily at 617-849-1943.
URL:https://www.salemvolunteers.org/event/salvation-army-food-pantry/2020-10-07/
LOCATION:Salvation Army\, Lynn\, 1 Franklin Street\, Lynn\, MA\, 01902\, United States
GEO:42.4649268;-70.9525438
X-APPLE-STRUCTURED-LOCATION;VALUE=URI;X-ADDRESS=Salvation Army Lynn 1 Franklin Street Lynn MA 01902 United States;X-APPLE-RADIUS=500;X-TITLE=1 Franklin Street:geo:-70.9525438,42.4649268
END:VEVENT
BEGIN:VEVENT
DTSTART;TZID=America/New_York:20201006T120000
DTEND;TZID=America/New_York:20201006T150000
DTSTAMP:20260421T103656
CREATED:20200512T011841Z
LAST-MODIFIED:20210104T210623Z
UID:10001889-1601985600-1601996400@www.salemvolunteers.org
SUMMARY:Salvation Army food pantry
DESCRIPTION:Join the Salvation Army in Lynn for filling food boxes and hand-out boxes of food for clients.  Help is needed every weekday from 12 to 3pm. \nContact Emily at 617-849-1943.
URL:https://www.salemvolunteers.org/event/salvation-army-food-pantry/2020-10-06/
LOCATION:Salvation Army\, Lynn\, 1 Franklin Street\, Lynn\, MA\, 01902\, United States
GEO:42.4649268;-70.9525438
X-APPLE-STRUCTURED-LOCATION;VALUE=URI;X-ADDRESS=Salvation Army Lynn 1 Franklin Street Lynn MA 01902 United States;X-APPLE-RADIUS=500;X-TITLE=1 Franklin Street:geo:-70.9525438,42.4649268
END:VEVENT
BEGIN:VEVENT
DTSTART;TZID=America/New_York:20201005T120000
DTEND;TZID=America/New_York:20201005T150000
DTSTAMP:20260421T103656
CREATED:20200512T011841Z
LAST-MODIFIED:20210104T210623Z
UID:10001888-1601899200-1601910000@www.salemvolunteers.org
SUMMARY:Salvation Army food pantry
DESCRIPTION:Join the Salvation Army in Lynn for filling food boxes and hand-out boxes of food for clients.  Help is needed every weekday from 12 to 3pm. \nContact Emily at 617-849-1943.
URL:https://www.salemvolunteers.org/event/salvation-army-food-pantry/2020-10-05/
LOCATION:Salvation Army\, Lynn\, 1 Franklin Street\, Lynn\, MA\, 01902\, United States
GEO:42.4649268;-70.9525438
X-APPLE-STRUCTURED-LOCATION;VALUE=URI;X-ADDRESS=Salvation Army Lynn 1 Franklin Street Lynn MA 01902 United States;X-APPLE-RADIUS=500;X-TITLE=1 Franklin Street:geo:-70.9525438,42.4649268
END:VEVENT
BEGIN:VEVENT
DTSTART;TZID=America/New_York:20201002T120000
DTEND;TZID=America/New_York:20201002T150000
DTSTAMP:20260421T103656
CREATED:20200512T011841Z
LAST-MODIFIED:20210104T210623Z
UID:10001887-1601640000-1601650800@www.salemvolunteers.org
SUMMARY:Salvation Army food pantry
DESCRIPTION:Join the Salvation Army in Lynn for filling food boxes and hand-out boxes of food for clients.  Help is needed every weekday from 12 to 3pm. \nContact Emily at 617-849-1943.
URL:https://www.salemvolunteers.org/event/salvation-army-food-pantry/2020-10-02/
LOCATION:Salvation Army\, Lynn\, 1 Franklin Street\, Lynn\, MA\, 01902\, United States
GEO:42.4649268;-70.9525438
X-APPLE-STRUCTURED-LOCATION;VALUE=URI;X-ADDRESS=Salvation Army Lynn 1 Franklin Street Lynn MA 01902 United States;X-APPLE-RADIUS=500;X-TITLE=1 Franklin Street:geo:-70.9525438,42.4649268
END:VEVENT
BEGIN:VEVENT
DTSTART;TZID=America/New_York:20201001T120000
DTEND;TZID=America/New_York:20201001T150000
DTSTAMP:20260421T103656
CREATED:20200512T011841Z
LAST-MODIFIED:20210104T210623Z
UID:10001886-1601553600-1601564400@www.salemvolunteers.org
SUMMARY:Salvation Army food pantry
DESCRIPTION:Join the Salvation Army in Lynn for filling food boxes and hand-out boxes of food for clients.  Help is needed every weekday from 12 to 3pm. \nContact Emily at 617-849-1943.
URL:https://www.salemvolunteers.org/event/salvation-army-food-pantry/2020-10-01/
LOCATION:Salvation Army\, Lynn\, 1 Franklin Street\, Lynn\, MA\, 01902\, United States
GEO:42.4649268;-70.9525438
X-APPLE-STRUCTURED-LOCATION;VALUE=URI;X-ADDRESS=Salvation Army Lynn 1 Franklin Street Lynn MA 01902 United States;X-APPLE-RADIUS=500;X-TITLE=1 Franklin Street:geo:-70.9525438,42.4649268
END:VEVENT
BEGIN:VEVENT
DTSTART;TZID=America/New_York:20200930T120000
DTEND;TZID=America/New_York:20200930T150000
DTSTAMP:20260421T103656
CREATED:20200512T011841Z
LAST-MODIFIED:20210104T210623Z
UID:10001885-1601467200-1601478000@www.salemvolunteers.org
SUMMARY:Salvation Army food pantry
DESCRIPTION:Join the Salvation Army in Lynn for filling food boxes and hand-out boxes of food for clients.  Help is needed every weekday from 12 to 3pm. \nContact Emily at 617-849-1943.
URL:https://www.salemvolunteers.org/event/salvation-army-food-pantry/2020-09-30/
LOCATION:Salvation Army\, Lynn\, 1 Franklin Street\, Lynn\, MA\, 01902\, United States
GEO:42.4649268;-70.9525438
X-APPLE-STRUCTURED-LOCATION;VALUE=URI;X-ADDRESS=Salvation Army Lynn 1 Franklin Street Lynn MA 01902 United States;X-APPLE-RADIUS=500;X-TITLE=1 Franklin Street:geo:-70.9525438,42.4649268
END:VEVENT
BEGIN:VEVENT
DTSTART;TZID=America/New_York:20200929T120000
DTEND;TZID=America/New_York:20200929T150000
DTSTAMP:20260421T103656
CREATED:20200512T011841Z
LAST-MODIFIED:20210104T210623Z
UID:10001884-1601380800-1601391600@www.salemvolunteers.org
SUMMARY:Salvation Army food pantry
DESCRIPTION:Join the Salvation Army in Lynn for filling food boxes and hand-out boxes of food for clients.  Help is needed every weekday from 12 to 3pm. \nContact Emily at 617-849-1943.
URL:https://www.salemvolunteers.org/event/salvation-army-food-pantry/2020-09-29/
LOCATION:Salvation Army\, Lynn\, 1 Franklin Street\, Lynn\, MA\, 01902\, United States
GEO:42.4649268;-70.9525438
X-APPLE-STRUCTURED-LOCATION;VALUE=URI;X-ADDRESS=Salvation Army Lynn 1 Franklin Street Lynn MA 01902 United States;X-APPLE-RADIUS=500;X-TITLE=1 Franklin Street:geo:-70.9525438,42.4649268
END:VEVENT
BEGIN:VEVENT
DTSTART;TZID=America/New_York:20200928T120000
DTEND;TZID=America/New_York:20200928T150000
DTSTAMP:20260421T103656
CREATED:20200512T011841Z
LAST-MODIFIED:20210104T210623Z
UID:10001883-1601294400-1601305200@www.salemvolunteers.org
SUMMARY:Salvation Army food pantry
DESCRIPTION:Join the Salvation Army in Lynn for filling food boxes and hand-out boxes of food for clients.  Help is needed every weekday from 12 to 3pm. \nContact Emily at 617-849-1943.
URL:https://www.salemvolunteers.org/event/salvation-army-food-pantry/2020-09-28/
LOCATION:Salvation Army\, Lynn\, 1 Franklin Street\, Lynn\, MA\, 01902\, United States
GEO:42.4649268;-70.9525438
X-APPLE-STRUCTURED-LOCATION;VALUE=URI;X-ADDRESS=Salvation Army Lynn 1 Franklin Street Lynn MA 01902 United States;X-APPLE-RADIUS=500;X-TITLE=1 Franklin Street:geo:-70.9525438,42.4649268
END:VEVENT
BEGIN:VEVENT
DTSTART;TZID=America/New_York:20200925T120000
DTEND;TZID=America/New_York:20200925T150000
DTSTAMP:20260421T103656
CREATED:20200512T011841Z
LAST-MODIFIED:20210104T210623Z
UID:10001882-1601035200-1601046000@www.salemvolunteers.org
SUMMARY:Salvation Army food pantry
DESCRIPTION:Join the Salvation Army in Lynn for filling food boxes and hand-out boxes of food for clients.  Help is needed every weekday from 12 to 3pm. \nContact Emily at 617-849-1943.
URL:https://www.salemvolunteers.org/event/salvation-army-food-pantry/2020-09-25/
LOCATION:Salvation Army\, Lynn\, 1 Franklin Street\, Lynn\, MA\, 01902\, United States
GEO:42.4649268;-70.9525438
X-APPLE-STRUCTURED-LOCATION;VALUE=URI;X-ADDRESS=Salvation Army Lynn 1 Franklin Street Lynn MA 01902 United States;X-APPLE-RADIUS=500;X-TITLE=1 Franklin Street:geo:-70.9525438,42.4649268
END:VEVENT
BEGIN:VEVENT
DTSTART;TZID=America/New_York:20200924T120000
DTEND;TZID=America/New_York:20200924T150000
DTSTAMP:20260421T103656
CREATED:20200512T011841Z
LAST-MODIFIED:20210104T210623Z
UID:10001881-1600948800-1600959600@www.salemvolunteers.org
SUMMARY:Salvation Army food pantry
DESCRIPTION:Join the Salvation Army in Lynn for filling food boxes and hand-out boxes of food for clients.  Help is needed every weekday from 12 to 3pm. \nContact Emily at 617-849-1943.
URL:https://www.salemvolunteers.org/event/salvation-army-food-pantry/2020-09-24/
LOCATION:Salvation Army\, Lynn\, 1 Franklin Street\, Lynn\, MA\, 01902\, United States
GEO:42.4649268;-70.9525438
X-APPLE-STRUCTURED-LOCATION;VALUE=URI;X-ADDRESS=Salvation Army Lynn 1 Franklin Street Lynn MA 01902 United States;X-APPLE-RADIUS=500;X-TITLE=1 Franklin Street:geo:-70.9525438,42.4649268
END:VEVENT
BEGIN:VEVENT
DTSTART;TZID=America/New_York:20200923T120000
DTEND;TZID=America/New_York:20200923T150000
DTSTAMP:20260421T103656
CREATED:20200512T011841Z
LAST-MODIFIED:20210104T210623Z
UID:10001880-1600862400-1600873200@www.salemvolunteers.org
SUMMARY:Salvation Army food pantry
DESCRIPTION:Join the Salvation Army in Lynn for filling food boxes and hand-out boxes of food for clients.  Help is needed every weekday from 12 to 3pm. \nContact Emily at 617-849-1943.
URL:https://www.salemvolunteers.org/event/salvation-army-food-pantry/2020-09-23/
LOCATION:Salvation Army\, Lynn\, 1 Franklin Street\, Lynn\, MA\, 01902\, United States
GEO:42.4649268;-70.9525438
X-APPLE-STRUCTURED-LOCATION;VALUE=URI;X-ADDRESS=Salvation Army Lynn 1 Franklin Street Lynn MA 01902 United States;X-APPLE-RADIUS=500;X-TITLE=1 Franklin Street:geo:-70.9525438,42.4649268
END:VEVENT
BEGIN:VEVENT
DTSTART;TZID=America/New_York:20200922T120000
DTEND;TZID=America/New_York:20200922T150000
DTSTAMP:20260421T103656
CREATED:20200512T011841Z
LAST-MODIFIED:20210104T210623Z
UID:10001879-1600776000-1600786800@www.salemvolunteers.org
SUMMARY:Salvation Army food pantry
DESCRIPTION:Join the Salvation Army in Lynn for filling food boxes and hand-out boxes of food for clients.  Help is needed every weekday from 12 to 3pm. \nContact Emily at 617-849-1943.
URL:https://www.salemvolunteers.org/event/salvation-army-food-pantry/2020-09-22/
LOCATION:Salvation Army\, Lynn\, 1 Franklin Street\, Lynn\, MA\, 01902\, United States
GEO:42.4649268;-70.9525438
X-APPLE-STRUCTURED-LOCATION;VALUE=URI;X-ADDRESS=Salvation Army Lynn 1 Franklin Street Lynn MA 01902 United States;X-APPLE-RADIUS=500;X-TITLE=1 Franklin Street:geo:-70.9525438,42.4649268
END:VEVENT
END:VCALENDAR