BEGIN:VCALENDAR
VERSION:2.0
PRODID:-//Salem Volunteers - ECPv6.15.11//NONSGML v1.0//EN
CALSCALE:GREGORIAN
METHOD:PUBLISH
X-WR-CALNAME:Salem Volunteers
X-ORIGINAL-URL:https://www.salemvolunteers.org
X-WR-CALDESC:Events for Salem Volunteers
REFRESH-INTERVAL;VALUE=DURATION:PT1H
X-Robots-Tag:noindex
X-PUBLISHED-TTL:PT1H
BEGIN:VTIMEZONE
TZID:America/New_York
BEGIN:DAYLIGHT
TZOFFSETFROM:-0500
TZOFFSETTO:-0400
TZNAME:EDT
DTSTART:20190310T070000
END:DAYLIGHT
BEGIN:STANDARD
TZOFFSETFROM:-0400
TZOFFSETTO:-0500
TZNAME:EST
DTSTART:20191103T060000
END:STANDARD
BEGIN:DAYLIGHT
TZOFFSETFROM:-0500
TZOFFSETTO:-0400
TZNAME:EDT
DTSTART:20200308T070000
END:DAYLIGHT
BEGIN:STANDARD
TZOFFSETFROM:-0400
TZOFFSETTO:-0500
TZNAME:EST
DTSTART:20201101T060000
END:STANDARD
BEGIN:DAYLIGHT
TZOFFSETFROM:-0500
TZOFFSETTO:-0400
TZNAME:EDT
DTSTART:20210314T070000
END:DAYLIGHT
BEGIN:STANDARD
TZOFFSETFROM:-0400
TZOFFSETTO:-0500
TZNAME:EST
DTSTART:20211107T060000
END:STANDARD
END:VTIMEZONE
BEGIN:VEVENT
DTSTART;TZID=America/New_York:20201126T120000
DTEND;TZID=America/New_York:20201126T150000
DTSTAMP:20260421T062440
CREATED:20200512T011841Z
LAST-MODIFIED:20210104T210623Z
UID:10001926-1606392000-1606402800@www.salemvolunteers.org
SUMMARY:Salvation Army food pantry
DESCRIPTION:Join the Salvation Army in Lynn for filling food boxes and hand-out boxes of food for clients.  Help is needed every weekday from 12 to 3pm. \nContact Emily at 617-849-1943.
URL:https://www.salemvolunteers.org/event/salvation-army-food-pantry/2020-11-26/
LOCATION:Salvation Army\, Lynn\, 1 Franklin Street\, Lynn\, MA\, 01902\, United States
GEO:42.4649268;-70.9525438
X-APPLE-STRUCTURED-LOCATION;VALUE=URI;X-ADDRESS=Salvation Army Lynn 1 Franklin Street Lynn MA 01902 United States;X-APPLE-RADIUS=500;X-TITLE=1 Franklin Street:geo:-70.9525438,42.4649268
END:VEVENT
BEGIN:VEVENT
DTSTART;TZID=America/New_York:20201125T120000
DTEND;TZID=America/New_York:20201125T150000
DTSTAMP:20260421T062440
CREATED:20200512T011841Z
LAST-MODIFIED:20210104T210623Z
UID:10001925-1606305600-1606316400@www.salemvolunteers.org
SUMMARY:Salvation Army food pantry
DESCRIPTION:Join the Salvation Army in Lynn for filling food boxes and hand-out boxes of food for clients.  Help is needed every weekday from 12 to 3pm. \nContact Emily at 617-849-1943.
URL:https://www.salemvolunteers.org/event/salvation-army-food-pantry/2020-11-25/
LOCATION:Salvation Army\, Lynn\, 1 Franklin Street\, Lynn\, MA\, 01902\, United States
GEO:42.4649268;-70.9525438
X-APPLE-STRUCTURED-LOCATION;VALUE=URI;X-ADDRESS=Salvation Army Lynn 1 Franklin Street Lynn MA 01902 United States;X-APPLE-RADIUS=500;X-TITLE=1 Franklin Street:geo:-70.9525438,42.4649268
END:VEVENT
BEGIN:VEVENT
DTSTART;TZID=America/New_York:20201124T120000
DTEND;TZID=America/New_York:20201124T150000
DTSTAMP:20260421T062440
CREATED:20200512T011841Z
LAST-MODIFIED:20210104T210623Z
UID:10001924-1606219200-1606230000@www.salemvolunteers.org
SUMMARY:Salvation Army food pantry
DESCRIPTION:Join the Salvation Army in Lynn for filling food boxes and hand-out boxes of food for clients.  Help is needed every weekday from 12 to 3pm. \nContact Emily at 617-849-1943.
URL:https://www.salemvolunteers.org/event/salvation-army-food-pantry/2020-11-24/
LOCATION:Salvation Army\, Lynn\, 1 Franklin Street\, Lynn\, MA\, 01902\, United States
GEO:42.4649268;-70.9525438
X-APPLE-STRUCTURED-LOCATION;VALUE=URI;X-ADDRESS=Salvation Army Lynn 1 Franklin Street Lynn MA 01902 United States;X-APPLE-RADIUS=500;X-TITLE=1 Franklin Street:geo:-70.9525438,42.4649268
END:VEVENT
BEGIN:VEVENT
DTSTART;TZID=America/New_York:20201123T120000
DTEND;TZID=America/New_York:20201123T150000
DTSTAMP:20260421T062440
CREATED:20200512T011841Z
LAST-MODIFIED:20210104T210623Z
UID:10001923-1606132800-1606143600@www.salemvolunteers.org
SUMMARY:Salvation Army food pantry
DESCRIPTION:Join the Salvation Army in Lynn for filling food boxes and hand-out boxes of food for clients.  Help is needed every weekday from 12 to 3pm. \nContact Emily at 617-849-1943.
URL:https://www.salemvolunteers.org/event/salvation-army-food-pantry/2020-11-23/
LOCATION:Salvation Army\, Lynn\, 1 Franklin Street\, Lynn\, MA\, 01902\, United States
GEO:42.4649268;-70.9525438
X-APPLE-STRUCTURED-LOCATION;VALUE=URI;X-ADDRESS=Salvation Army Lynn 1 Franklin Street Lynn MA 01902 United States;X-APPLE-RADIUS=500;X-TITLE=1 Franklin Street:geo:-70.9525438,42.4649268
END:VEVENT
BEGIN:VEVENT
DTSTART;TZID=America/New_York:20201120T120000
DTEND;TZID=America/New_York:20201120T150000
DTSTAMP:20260421T062440
CREATED:20200512T011841Z
LAST-MODIFIED:20210104T210623Z
UID:10001922-1605873600-1605884400@www.salemvolunteers.org
SUMMARY:Salvation Army food pantry
DESCRIPTION:Join the Salvation Army in Lynn for filling food boxes and hand-out boxes of food for clients.  Help is needed every weekday from 12 to 3pm. \nContact Emily at 617-849-1943.
URL:https://www.salemvolunteers.org/event/salvation-army-food-pantry/2020-11-20/
LOCATION:Salvation Army\, Lynn\, 1 Franklin Street\, Lynn\, MA\, 01902\, United States
GEO:42.4649268;-70.9525438
X-APPLE-STRUCTURED-LOCATION;VALUE=URI;X-ADDRESS=Salvation Army Lynn 1 Franklin Street Lynn MA 01902 United States;X-APPLE-RADIUS=500;X-TITLE=1 Franklin Street:geo:-70.9525438,42.4649268
END:VEVENT
BEGIN:VEVENT
DTSTART;TZID=America/New_York:20201119T120000
DTEND;TZID=America/New_York:20201119T150000
DTSTAMP:20260421T062440
CREATED:20200512T011841Z
LAST-MODIFIED:20210104T210623Z
UID:10001921-1605787200-1605798000@www.salemvolunteers.org
SUMMARY:Salvation Army food pantry
DESCRIPTION:Join the Salvation Army in Lynn for filling food boxes and hand-out boxes of food for clients.  Help is needed every weekday from 12 to 3pm. \nContact Emily at 617-849-1943.
URL:https://www.salemvolunteers.org/event/salvation-army-food-pantry/2020-11-19/
LOCATION:Salvation Army\, Lynn\, 1 Franklin Street\, Lynn\, MA\, 01902\, United States
GEO:42.4649268;-70.9525438
X-APPLE-STRUCTURED-LOCATION;VALUE=URI;X-ADDRESS=Salvation Army Lynn 1 Franklin Street Lynn MA 01902 United States;X-APPLE-RADIUS=500;X-TITLE=1 Franklin Street:geo:-70.9525438,42.4649268
END:VEVENT
BEGIN:VEVENT
DTSTART;TZID=America/New_York:20201118T120000
DTEND;TZID=America/New_York:20201118T150000
DTSTAMP:20260421T062440
CREATED:20200512T011841Z
LAST-MODIFIED:20210104T210623Z
UID:10001920-1605700800-1605711600@www.salemvolunteers.org
SUMMARY:Salvation Army food pantry
DESCRIPTION:Join the Salvation Army in Lynn for filling food boxes and hand-out boxes of food for clients.  Help is needed every weekday from 12 to 3pm. \nContact Emily at 617-849-1943.
URL:https://www.salemvolunteers.org/event/salvation-army-food-pantry/2020-11-18/
LOCATION:Salvation Army\, Lynn\, 1 Franklin Street\, Lynn\, MA\, 01902\, United States
GEO:42.4649268;-70.9525438
X-APPLE-STRUCTURED-LOCATION;VALUE=URI;X-ADDRESS=Salvation Army Lynn 1 Franklin Street Lynn MA 01902 United States;X-APPLE-RADIUS=500;X-TITLE=1 Franklin Street:geo:-70.9525438,42.4649268
END:VEVENT
BEGIN:VEVENT
DTSTART;TZID=America/New_York:20201117T120000
DTEND;TZID=America/New_York:20201117T150000
DTSTAMP:20260421T062440
CREATED:20200512T011841Z
LAST-MODIFIED:20210104T210623Z
UID:10001919-1605614400-1605625200@www.salemvolunteers.org
SUMMARY:Salvation Army food pantry
DESCRIPTION:Join the Salvation Army in Lynn for filling food boxes and hand-out boxes of food for clients.  Help is needed every weekday from 12 to 3pm. \nContact Emily at 617-849-1943.
URL:https://www.salemvolunteers.org/event/salvation-army-food-pantry/2020-11-17/
LOCATION:Salvation Army\, Lynn\, 1 Franklin Street\, Lynn\, MA\, 01902\, United States
GEO:42.4649268;-70.9525438
X-APPLE-STRUCTURED-LOCATION;VALUE=URI;X-ADDRESS=Salvation Army Lynn 1 Franklin Street Lynn MA 01902 United States;X-APPLE-RADIUS=500;X-TITLE=1 Franklin Street:geo:-70.9525438,42.4649268
END:VEVENT
BEGIN:VEVENT
DTSTART;TZID=America/New_York:20201116T120000
DTEND;TZID=America/New_York:20201116T150000
DTSTAMP:20260421T062440
CREATED:20200512T011841Z
LAST-MODIFIED:20210104T210623Z
UID:10001918-1605528000-1605538800@www.salemvolunteers.org
SUMMARY:Salvation Army food pantry
DESCRIPTION:Join the Salvation Army in Lynn for filling food boxes and hand-out boxes of food for clients.  Help is needed every weekday from 12 to 3pm. \nContact Emily at 617-849-1943.
URL:https://www.salemvolunteers.org/event/salvation-army-food-pantry/2020-11-16/
LOCATION:Salvation Army\, Lynn\, 1 Franklin Street\, Lynn\, MA\, 01902\, United States
GEO:42.4649268;-70.9525438
X-APPLE-STRUCTURED-LOCATION;VALUE=URI;X-ADDRESS=Salvation Army Lynn 1 Franklin Street Lynn MA 01902 United States;X-APPLE-RADIUS=500;X-TITLE=1 Franklin Street:geo:-70.9525438,42.4649268
END:VEVENT
BEGIN:VEVENT
DTSTART;TZID=America/New_York:20201113T120000
DTEND;TZID=America/New_York:20201113T150000
DTSTAMP:20260421T062440
CREATED:20200512T011841Z
LAST-MODIFIED:20210104T210623Z
UID:10001917-1605268800-1605279600@www.salemvolunteers.org
SUMMARY:Salvation Army food pantry
DESCRIPTION:Join the Salvation Army in Lynn for filling food boxes and hand-out boxes of food for clients.  Help is needed every weekday from 12 to 3pm. \nContact Emily at 617-849-1943.
URL:https://www.salemvolunteers.org/event/salvation-army-food-pantry/2020-11-13/
LOCATION:Salvation Army\, Lynn\, 1 Franklin Street\, Lynn\, MA\, 01902\, United States
GEO:42.4649268;-70.9525438
X-APPLE-STRUCTURED-LOCATION;VALUE=URI;X-ADDRESS=Salvation Army Lynn 1 Franklin Street Lynn MA 01902 United States;X-APPLE-RADIUS=500;X-TITLE=1 Franklin Street:geo:-70.9525438,42.4649268
END:VEVENT
BEGIN:VEVENT
DTSTART;TZID=America/New_York:20201112T120000
DTEND;TZID=America/New_York:20201112T150000
DTSTAMP:20260421T062440
CREATED:20200512T011841Z
LAST-MODIFIED:20210104T210623Z
UID:10001916-1605182400-1605193200@www.salemvolunteers.org
SUMMARY:Salvation Army food pantry
DESCRIPTION:Join the Salvation Army in Lynn for filling food boxes and hand-out boxes of food for clients.  Help is needed every weekday from 12 to 3pm. \nContact Emily at 617-849-1943.
URL:https://www.salemvolunteers.org/event/salvation-army-food-pantry/2020-11-12/
LOCATION:Salvation Army\, Lynn\, 1 Franklin Street\, Lynn\, MA\, 01902\, United States
GEO:42.4649268;-70.9525438
X-APPLE-STRUCTURED-LOCATION;VALUE=URI;X-ADDRESS=Salvation Army Lynn 1 Franklin Street Lynn MA 01902 United States;X-APPLE-RADIUS=500;X-TITLE=1 Franklin Street:geo:-70.9525438,42.4649268
END:VEVENT
BEGIN:VEVENT
DTSTART;TZID=America/New_York:20201111T120000
DTEND;TZID=America/New_York:20201111T150000
DTSTAMP:20260421T062440
CREATED:20200512T011841Z
LAST-MODIFIED:20210104T210623Z
UID:10001915-1605096000-1605106800@www.salemvolunteers.org
SUMMARY:Salvation Army food pantry
DESCRIPTION:Join the Salvation Army in Lynn for filling food boxes and hand-out boxes of food for clients.  Help is needed every weekday from 12 to 3pm. \nContact Emily at 617-849-1943.
URL:https://www.salemvolunteers.org/event/salvation-army-food-pantry/2020-11-11/
LOCATION:Salvation Army\, Lynn\, 1 Franklin Street\, Lynn\, MA\, 01902\, United States
GEO:42.4649268;-70.9525438
X-APPLE-STRUCTURED-LOCATION;VALUE=URI;X-ADDRESS=Salvation Army Lynn 1 Franklin Street Lynn MA 01902 United States;X-APPLE-RADIUS=500;X-TITLE=1 Franklin Street:geo:-70.9525438,42.4649268
END:VEVENT
BEGIN:VEVENT
DTSTART;TZID=America/New_York:20201110T120000
DTEND;TZID=America/New_York:20201110T150000
DTSTAMP:20260421T062440
CREATED:20200512T011841Z
LAST-MODIFIED:20210104T210623Z
UID:10001914-1605009600-1605020400@www.salemvolunteers.org
SUMMARY:Salvation Army food pantry
DESCRIPTION:Join the Salvation Army in Lynn for filling food boxes and hand-out boxes of food for clients.  Help is needed every weekday from 12 to 3pm. \nContact Emily at 617-849-1943.
URL:https://www.salemvolunteers.org/event/salvation-army-food-pantry/2020-11-10/
LOCATION:Salvation Army\, Lynn\, 1 Franklin Street\, Lynn\, MA\, 01902\, United States
GEO:42.4649268;-70.9525438
X-APPLE-STRUCTURED-LOCATION;VALUE=URI;X-ADDRESS=Salvation Army Lynn 1 Franklin Street Lynn MA 01902 United States;X-APPLE-RADIUS=500;X-TITLE=1 Franklin Street:geo:-70.9525438,42.4649268
END:VEVENT
BEGIN:VEVENT
DTSTART;TZID=America/New_York:20201109T120000
DTEND;TZID=America/New_York:20201109T150000
DTSTAMP:20260421T062440
CREATED:20200512T011841Z
LAST-MODIFIED:20210104T210623Z
UID:10001913-1604923200-1604934000@www.salemvolunteers.org
SUMMARY:Salvation Army food pantry
DESCRIPTION:Join the Salvation Army in Lynn for filling food boxes and hand-out boxes of food for clients.  Help is needed every weekday from 12 to 3pm. \nContact Emily at 617-849-1943.
URL:https://www.salemvolunteers.org/event/salvation-army-food-pantry/2020-11-09/
LOCATION:Salvation Army\, Lynn\, 1 Franklin Street\, Lynn\, MA\, 01902\, United States
GEO:42.4649268;-70.9525438
X-APPLE-STRUCTURED-LOCATION;VALUE=URI;X-ADDRESS=Salvation Army Lynn 1 Franklin Street Lynn MA 01902 United States;X-APPLE-RADIUS=500;X-TITLE=1 Franklin Street:geo:-70.9525438,42.4649268
END:VEVENT
BEGIN:VEVENT
DTSTART;TZID=America/New_York:20201106T120000
DTEND;TZID=America/New_York:20201106T150000
DTSTAMP:20260421T062440
CREATED:20200512T011841Z
LAST-MODIFIED:20210104T210623Z
UID:10001912-1604664000-1604674800@www.salemvolunteers.org
SUMMARY:Salvation Army food pantry
DESCRIPTION:Join the Salvation Army in Lynn for filling food boxes and hand-out boxes of food for clients.  Help is needed every weekday from 12 to 3pm. \nContact Emily at 617-849-1943.
URL:https://www.salemvolunteers.org/event/salvation-army-food-pantry/2020-11-06/
LOCATION:Salvation Army\, Lynn\, 1 Franklin Street\, Lynn\, MA\, 01902\, United States
GEO:42.4649268;-70.9525438
X-APPLE-STRUCTURED-LOCATION;VALUE=URI;X-ADDRESS=Salvation Army Lynn 1 Franklin Street Lynn MA 01902 United States;X-APPLE-RADIUS=500;X-TITLE=1 Franklin Street:geo:-70.9525438,42.4649268
END:VEVENT
BEGIN:VEVENT
DTSTART;TZID=America/New_York:20201105T120000
DTEND;TZID=America/New_York:20201105T150000
DTSTAMP:20260421T062440
CREATED:20200512T011841Z
LAST-MODIFIED:20210104T210623Z
UID:10001911-1604577600-1604588400@www.salemvolunteers.org
SUMMARY:Salvation Army food pantry
DESCRIPTION:Join the Salvation Army in Lynn for filling food boxes and hand-out boxes of food for clients.  Help is needed every weekday from 12 to 3pm. \nContact Emily at 617-849-1943.
URL:https://www.salemvolunteers.org/event/salvation-army-food-pantry/2020-11-05/
LOCATION:Salvation Army\, Lynn\, 1 Franklin Street\, Lynn\, MA\, 01902\, United States
GEO:42.4649268;-70.9525438
X-APPLE-STRUCTURED-LOCATION;VALUE=URI;X-ADDRESS=Salvation Army Lynn 1 Franklin Street Lynn MA 01902 United States;X-APPLE-RADIUS=500;X-TITLE=1 Franklin Street:geo:-70.9525438,42.4649268
END:VEVENT
BEGIN:VEVENT
DTSTART;TZID=America/New_York:20201104T120000
DTEND;TZID=America/New_York:20201104T150000
DTSTAMP:20260421T062440
CREATED:20200512T011841Z
LAST-MODIFIED:20210104T210623Z
UID:10001910-1604491200-1604502000@www.salemvolunteers.org
SUMMARY:Salvation Army food pantry
DESCRIPTION:Join the Salvation Army in Lynn for filling food boxes and hand-out boxes of food for clients.  Help is needed every weekday from 12 to 3pm. \nContact Emily at 617-849-1943.
URL:https://www.salemvolunteers.org/event/salvation-army-food-pantry/2020-11-04/
LOCATION:Salvation Army\, Lynn\, 1 Franklin Street\, Lynn\, MA\, 01902\, United States
GEO:42.4649268;-70.9525438
X-APPLE-STRUCTURED-LOCATION;VALUE=URI;X-ADDRESS=Salvation Army Lynn 1 Franklin Street Lynn MA 01902 United States;X-APPLE-RADIUS=500;X-TITLE=1 Franklin Street:geo:-70.9525438,42.4649268
END:VEVENT
BEGIN:VEVENT
DTSTART;TZID=America/New_York:20201103T120000
DTEND;TZID=America/New_York:20201103T150000
DTSTAMP:20260421T062440
CREATED:20200512T011841Z
LAST-MODIFIED:20210104T210623Z
UID:10001909-1604404800-1604415600@www.salemvolunteers.org
SUMMARY:Salvation Army food pantry
DESCRIPTION:Join the Salvation Army in Lynn for filling food boxes and hand-out boxes of food for clients.  Help is needed every weekday from 12 to 3pm. \nContact Emily at 617-849-1943.
URL:https://www.salemvolunteers.org/event/salvation-army-food-pantry/2020-11-03/
LOCATION:Salvation Army\, Lynn\, 1 Franklin Street\, Lynn\, MA\, 01902\, United States
GEO:42.4649268;-70.9525438
X-APPLE-STRUCTURED-LOCATION;VALUE=URI;X-ADDRESS=Salvation Army Lynn 1 Franklin Street Lynn MA 01902 United States;X-APPLE-RADIUS=500;X-TITLE=1 Franklin Street:geo:-70.9525438,42.4649268
END:VEVENT
BEGIN:VEVENT
DTSTART;TZID=America/New_York:20201102T120000
DTEND;TZID=America/New_York:20201102T150000
DTSTAMP:20260421T062440
CREATED:20200512T011841Z
LAST-MODIFIED:20210104T210623Z
UID:10001908-1604318400-1604329200@www.salemvolunteers.org
SUMMARY:Salvation Army food pantry
DESCRIPTION:Join the Salvation Army in Lynn for filling food boxes and hand-out boxes of food for clients.  Help is needed every weekday from 12 to 3pm. \nContact Emily at 617-849-1943.
URL:https://www.salemvolunteers.org/event/salvation-army-food-pantry/2020-11-02/
LOCATION:Salvation Army\, Lynn\, 1 Franklin Street\, Lynn\, MA\, 01902\, United States
GEO:42.4649268;-70.9525438
X-APPLE-STRUCTURED-LOCATION;VALUE=URI;X-ADDRESS=Salvation Army Lynn 1 Franklin Street Lynn MA 01902 United States;X-APPLE-RADIUS=500;X-TITLE=1 Franklin Street:geo:-70.9525438,42.4649268
END:VEVENT
BEGIN:VEVENT
DTSTART;TZID=America/New_York:20201030T120000
DTEND;TZID=America/New_York:20201030T150000
DTSTAMP:20260421T062440
CREATED:20200512T011841Z
LAST-MODIFIED:20210104T210623Z
UID:10001907-1604059200-1604070000@www.salemvolunteers.org
SUMMARY:Salvation Army food pantry
DESCRIPTION:Join the Salvation Army in Lynn for filling food boxes and hand-out boxes of food for clients.  Help is needed every weekday from 12 to 3pm. \nContact Emily at 617-849-1943.
URL:https://www.salemvolunteers.org/event/salvation-army-food-pantry/2020-10-30/
LOCATION:Salvation Army\, Lynn\, 1 Franklin Street\, Lynn\, MA\, 01902\, United States
GEO:42.4649268;-70.9525438
X-APPLE-STRUCTURED-LOCATION;VALUE=URI;X-ADDRESS=Salvation Army Lynn 1 Franklin Street Lynn MA 01902 United States;X-APPLE-RADIUS=500;X-TITLE=1 Franklin Street:geo:-70.9525438,42.4649268
END:VEVENT
BEGIN:VEVENT
DTSTART;TZID=America/New_York:20201029T120000
DTEND;TZID=America/New_York:20201029T150000
DTSTAMP:20260421T062440
CREATED:20200512T011841Z
LAST-MODIFIED:20210104T210623Z
UID:10001906-1603972800-1603983600@www.salemvolunteers.org
SUMMARY:Salvation Army food pantry
DESCRIPTION:Join the Salvation Army in Lynn for filling food boxes and hand-out boxes of food for clients.  Help is needed every weekday from 12 to 3pm. \nContact Emily at 617-849-1943.
URL:https://www.salemvolunteers.org/event/salvation-army-food-pantry/2020-10-29/
LOCATION:Salvation Army\, Lynn\, 1 Franklin Street\, Lynn\, MA\, 01902\, United States
GEO:42.4649268;-70.9525438
X-APPLE-STRUCTURED-LOCATION;VALUE=URI;X-ADDRESS=Salvation Army Lynn 1 Franklin Street Lynn MA 01902 United States;X-APPLE-RADIUS=500;X-TITLE=1 Franklin Street:geo:-70.9525438,42.4649268
END:VEVENT
BEGIN:VEVENT
DTSTART;TZID=America/New_York:20201028T120000
DTEND;TZID=America/New_York:20201028T150000
DTSTAMP:20260421T062440
CREATED:20200512T011841Z
LAST-MODIFIED:20210104T210623Z
UID:10001905-1603886400-1603897200@www.salemvolunteers.org
SUMMARY:Salvation Army food pantry
DESCRIPTION:Join the Salvation Army in Lynn for filling food boxes and hand-out boxes of food for clients.  Help is needed every weekday from 12 to 3pm. \nContact Emily at 617-849-1943.
URL:https://www.salemvolunteers.org/event/salvation-army-food-pantry/2020-10-28/
LOCATION:Salvation Army\, Lynn\, 1 Franklin Street\, Lynn\, MA\, 01902\, United States
GEO:42.4649268;-70.9525438
X-APPLE-STRUCTURED-LOCATION;VALUE=URI;X-ADDRESS=Salvation Army Lynn 1 Franklin Street Lynn MA 01902 United States;X-APPLE-RADIUS=500;X-TITLE=1 Franklin Street:geo:-70.9525438,42.4649268
END:VEVENT
BEGIN:VEVENT
DTSTART;TZID=America/New_York:20201027T120000
DTEND;TZID=America/New_York:20201027T150000
DTSTAMP:20260421T062440
CREATED:20200512T011841Z
LAST-MODIFIED:20210104T210623Z
UID:10001904-1603800000-1603810800@www.salemvolunteers.org
SUMMARY:Salvation Army food pantry
DESCRIPTION:Join the Salvation Army in Lynn for filling food boxes and hand-out boxes of food for clients.  Help is needed every weekday from 12 to 3pm. \nContact Emily at 617-849-1943.
URL:https://www.salemvolunteers.org/event/salvation-army-food-pantry/2020-10-27/
LOCATION:Salvation Army\, Lynn\, 1 Franklin Street\, Lynn\, MA\, 01902\, United States
GEO:42.4649268;-70.9525438
X-APPLE-STRUCTURED-LOCATION;VALUE=URI;X-ADDRESS=Salvation Army Lynn 1 Franklin Street Lynn MA 01902 United States;X-APPLE-RADIUS=500;X-TITLE=1 Franklin Street:geo:-70.9525438,42.4649268
END:VEVENT
BEGIN:VEVENT
DTSTART;TZID=America/New_York:20201026T120000
DTEND;TZID=America/New_York:20201026T150000
DTSTAMP:20260421T062440
CREATED:20200512T011841Z
LAST-MODIFIED:20210104T210623Z
UID:10001903-1603713600-1603724400@www.salemvolunteers.org
SUMMARY:Salvation Army food pantry
DESCRIPTION:Join the Salvation Army in Lynn for filling food boxes and hand-out boxes of food for clients.  Help is needed every weekday from 12 to 3pm. \nContact Emily at 617-849-1943.
URL:https://www.salemvolunteers.org/event/salvation-army-food-pantry/2020-10-26/
LOCATION:Salvation Army\, Lynn\, 1 Franklin Street\, Lynn\, MA\, 01902\, United States
GEO:42.4649268;-70.9525438
X-APPLE-STRUCTURED-LOCATION;VALUE=URI;X-ADDRESS=Salvation Army Lynn 1 Franklin Street Lynn MA 01902 United States;X-APPLE-RADIUS=500;X-TITLE=1 Franklin Street:geo:-70.9525438,42.4649268
END:VEVENT
BEGIN:VEVENT
DTSTART;TZID=America/New_York:20201023T120000
DTEND;TZID=America/New_York:20201023T150000
DTSTAMP:20260421T062440
CREATED:20200512T011841Z
LAST-MODIFIED:20210104T210623Z
UID:10001902-1603454400-1603465200@www.salemvolunteers.org
SUMMARY:Salvation Army food pantry
DESCRIPTION:Join the Salvation Army in Lynn for filling food boxes and hand-out boxes of food for clients.  Help is needed every weekday from 12 to 3pm. \nContact Emily at 617-849-1943.
URL:https://www.salemvolunteers.org/event/salvation-army-food-pantry/2020-10-23/
LOCATION:Salvation Army\, Lynn\, 1 Franklin Street\, Lynn\, MA\, 01902\, United States
GEO:42.4649268;-70.9525438
X-APPLE-STRUCTURED-LOCATION;VALUE=URI;X-ADDRESS=Salvation Army Lynn 1 Franklin Street Lynn MA 01902 United States;X-APPLE-RADIUS=500;X-TITLE=1 Franklin Street:geo:-70.9525438,42.4649268
END:VEVENT
BEGIN:VEVENT
DTSTART;TZID=America/New_York:20201022T120000
DTEND;TZID=America/New_York:20201022T150000
DTSTAMP:20260421T062440
CREATED:20200512T011841Z
LAST-MODIFIED:20210104T210623Z
UID:10001901-1603368000-1603378800@www.salemvolunteers.org
SUMMARY:Salvation Army food pantry
DESCRIPTION:Join the Salvation Army in Lynn for filling food boxes and hand-out boxes of food for clients.  Help is needed every weekday from 12 to 3pm. \nContact Emily at 617-849-1943.
URL:https://www.salemvolunteers.org/event/salvation-army-food-pantry/2020-10-22/
LOCATION:Salvation Army\, Lynn\, 1 Franklin Street\, Lynn\, MA\, 01902\, United States
GEO:42.4649268;-70.9525438
X-APPLE-STRUCTURED-LOCATION;VALUE=URI;X-ADDRESS=Salvation Army Lynn 1 Franklin Street Lynn MA 01902 United States;X-APPLE-RADIUS=500;X-TITLE=1 Franklin Street:geo:-70.9525438,42.4649268
END:VEVENT
BEGIN:VEVENT
DTSTART;TZID=America/New_York:20201021T120000
DTEND;TZID=America/New_York:20201021T150000
DTSTAMP:20260421T062440
CREATED:20200512T011841Z
LAST-MODIFIED:20210104T210623Z
UID:10001900-1603281600-1603292400@www.salemvolunteers.org
SUMMARY:Salvation Army food pantry
DESCRIPTION:Join the Salvation Army in Lynn for filling food boxes and hand-out boxes of food for clients.  Help is needed every weekday from 12 to 3pm. \nContact Emily at 617-849-1943.
URL:https://www.salemvolunteers.org/event/salvation-army-food-pantry/2020-10-21/
LOCATION:Salvation Army\, Lynn\, 1 Franklin Street\, Lynn\, MA\, 01902\, United States
GEO:42.4649268;-70.9525438
X-APPLE-STRUCTURED-LOCATION;VALUE=URI;X-ADDRESS=Salvation Army Lynn 1 Franklin Street Lynn MA 01902 United States;X-APPLE-RADIUS=500;X-TITLE=1 Franklin Street:geo:-70.9525438,42.4649268
END:VEVENT
BEGIN:VEVENT
DTSTART;TZID=America/New_York:20201020T120000
DTEND;TZID=America/New_York:20201020T150000
DTSTAMP:20260421T062440
CREATED:20200512T011841Z
LAST-MODIFIED:20210104T210623Z
UID:10001899-1603195200-1603206000@www.salemvolunteers.org
SUMMARY:Salvation Army food pantry
DESCRIPTION:Join the Salvation Army in Lynn for filling food boxes and hand-out boxes of food for clients.  Help is needed every weekday from 12 to 3pm. \nContact Emily at 617-849-1943.
URL:https://www.salemvolunteers.org/event/salvation-army-food-pantry/2020-10-20/
LOCATION:Salvation Army\, Lynn\, 1 Franklin Street\, Lynn\, MA\, 01902\, United States
GEO:42.4649268;-70.9525438
X-APPLE-STRUCTURED-LOCATION;VALUE=URI;X-ADDRESS=Salvation Army Lynn 1 Franklin Street Lynn MA 01902 United States;X-APPLE-RADIUS=500;X-TITLE=1 Franklin Street:geo:-70.9525438,42.4649268
END:VEVENT
BEGIN:VEVENT
DTSTART;TZID=America/New_York:20201019T120000
DTEND;TZID=America/New_York:20201019T150000
DTSTAMP:20260421T062440
CREATED:20200512T011841Z
LAST-MODIFIED:20210104T210623Z
UID:10001898-1603108800-1603119600@www.salemvolunteers.org
SUMMARY:Salvation Army food pantry
DESCRIPTION:Join the Salvation Army in Lynn for filling food boxes and hand-out boxes of food for clients.  Help is needed every weekday from 12 to 3pm. \nContact Emily at 617-849-1943.
URL:https://www.salemvolunteers.org/event/salvation-army-food-pantry/2020-10-19/
LOCATION:Salvation Army\, Lynn\, 1 Franklin Street\, Lynn\, MA\, 01902\, United States
GEO:42.4649268;-70.9525438
X-APPLE-STRUCTURED-LOCATION;VALUE=URI;X-ADDRESS=Salvation Army Lynn 1 Franklin Street Lynn MA 01902 United States;X-APPLE-RADIUS=500;X-TITLE=1 Franklin Street:geo:-70.9525438,42.4649268
END:VEVENT
BEGIN:VEVENT
DTSTART;TZID=America/New_York:20201016T120000
DTEND;TZID=America/New_York:20201016T150000
DTSTAMP:20260421T062440
CREATED:20200512T011841Z
LAST-MODIFIED:20210104T210623Z
UID:10001897-1602849600-1602860400@www.salemvolunteers.org
SUMMARY:Salvation Army food pantry
DESCRIPTION:Join the Salvation Army in Lynn for filling food boxes and hand-out boxes of food for clients.  Help is needed every weekday from 12 to 3pm. \nContact Emily at 617-849-1943.
URL:https://www.salemvolunteers.org/event/salvation-army-food-pantry/2020-10-16/
LOCATION:Salvation Army\, Lynn\, 1 Franklin Street\, Lynn\, MA\, 01902\, United States
GEO:42.4649268;-70.9525438
X-APPLE-STRUCTURED-LOCATION;VALUE=URI;X-ADDRESS=Salvation Army Lynn 1 Franklin Street Lynn MA 01902 United States;X-APPLE-RADIUS=500;X-TITLE=1 Franklin Street:geo:-70.9525438,42.4649268
END:VEVENT
END:VCALENDAR