BEGIN:VCALENDAR
VERSION:2.0
PRODID:-//Salem Volunteers - ECPv6.15.11//NONSGML v1.0//EN
CALSCALE:GREGORIAN
METHOD:PUBLISH
X-ORIGINAL-URL:https://www.salemvolunteers.org
X-WR-CALDESC:Events for Salem Volunteers
REFRESH-INTERVAL;VALUE=DURATION:PT1H
X-Robots-Tag:noindex
X-PUBLISHED-TTL:PT1H
BEGIN:VTIMEZONE
TZID:America/New_York
BEGIN:DAYLIGHT
TZOFFSETFROM:-0500
TZOFFSETTO:-0400
TZNAME:EDT
DTSTART:20180311T070000
END:DAYLIGHT
BEGIN:STANDARD
TZOFFSETFROM:-0400
TZOFFSETTO:-0500
TZNAME:EST
DTSTART:20181104T060000
END:STANDARD
BEGIN:DAYLIGHT
TZOFFSETFROM:-0500
TZOFFSETTO:-0400
TZNAME:EDT
DTSTART:20190310T070000
END:DAYLIGHT
BEGIN:STANDARD
TZOFFSETFROM:-0400
TZOFFSETTO:-0500
TZNAME:EST
DTSTART:20191103T060000
END:STANDARD
BEGIN:DAYLIGHT
TZOFFSETFROM:-0500
TZOFFSETTO:-0400
TZNAME:EDT
DTSTART:20200308T070000
END:DAYLIGHT
BEGIN:STANDARD
TZOFFSETFROM:-0400
TZOFFSETTO:-0500
TZNAME:EST
DTSTART:20201101T060000
END:STANDARD
END:VTIMEZONE
BEGIN:VEVENT
DTSTART;TZID=America/New_York:20190515T090000
DTEND;TZID=America/New_York:20190515T143000
DTSTAMP:20260418T000327
CREATED:20190510T152304Z
LAST-MODIFIED:20190510T152304Z
UID:10000092-1557910800-1557930600@www.salemvolunteers.org
SUMMARY:Fresh Harvest Mobile Pop-Up
DESCRIPTION:Join the Salem Pantry for a Fresh Harvest Mobile Pop-Up on Wednesday\, May 15 from 8:30am to 2:30pm at its Salem State University location at 68 Loring Avenue in Salem. \nHelp is needed for setup and cleanup\, at the registration table\, for food distribution\, and more. \nSign up online\, or for more information contact Kerry Murphy via web form.
URL:https://www.salemvolunteers.org/event/fresh-harvest-mobile-pop-up-2/
LOCATION:Salem Pantry\, Salem State University\, 68 Loring Avenue\, Salem\, MA\, 01970\, United States
GEO:42.50238;-70.894498
X-APPLE-STRUCTURED-LOCATION;VALUE=URI;X-ADDRESS=Salem Pantry Salem State University 68 Loring Avenue Salem MA 01970 United States;X-APPLE-RADIUS=500;X-TITLE=68 Loring Avenue:geo:-70.894498,42.50238
END:VEVENT
BEGIN:VEVENT
DTSTART;TZID=America/New_York:20190501T073000
DTEND;TZID=America/New_York:20190501T143000
DTSTAMP:20260418T000327
CREATED:20190429T174644Z
LAST-MODIFIED:20190429T174644Z
UID:10000851-1556695800-1556721000@www.salemvolunteers.org
SUMMARY:Salem Pantry Mobile Pantry
DESCRIPTION:The Salem Pantry will be holding a Mobile Pantry at Salem State University on Wednesday\, May 1 from 10am to 2pm at 68 Loring Ave in Salem.  Volunteers are needed to help in a variety of capacities from 7:30am through 2:30pm. \nSign up online\, or for more information contact Kerry Murphy via web form. \n 
URL:https://www.salemvolunteers.org/event/salem-pantry-mobile-pantry-2/
LOCATION:Salem Pantry\, Salem State University\, 68 Loring Avenue\, Salem\, MA\, 01970\, United States
GEO:42.50238;-70.894498
X-APPLE-STRUCTURED-LOCATION;VALUE=URI;X-ADDRESS=Salem Pantry Salem State University 68 Loring Avenue Salem MA 01970 United States;X-APPLE-RADIUS=500;X-TITLE=68 Loring Avenue:geo:-70.894498,42.50238
END:VEVENT
END:VCALENDAR