BEGIN:VCALENDAR
VERSION:2.0
PRODID:-//Salem Volunteers - ECPv6.15.11//NONSGML v1.0//EN
CALSCALE:GREGORIAN
METHOD:PUBLISH
X-ORIGINAL-URL:https://www.salemvolunteers.org
X-WR-CALDESC:Events for Salem Volunteers
REFRESH-INTERVAL;VALUE=DURATION:PT1H
X-Robots-Tag:noindex
X-PUBLISHED-TTL:PT1H
BEGIN:VTIMEZONE
TZID:America/New_York
BEGIN:DAYLIGHT
TZOFFSETFROM:-0500
TZOFFSETTO:-0400
TZNAME:EDT
DTSTART:20170312T070000
END:DAYLIGHT
BEGIN:STANDARD
TZOFFSETFROM:-0400
TZOFFSETTO:-0500
TZNAME:EST
DTSTART:20171105T060000
END:STANDARD
BEGIN:DAYLIGHT
TZOFFSETFROM:-0500
TZOFFSETTO:-0400
TZNAME:EDT
DTSTART:20180311T070000
END:DAYLIGHT
BEGIN:STANDARD
TZOFFSETFROM:-0400
TZOFFSETTO:-0500
TZNAME:EST
DTSTART:20181104T060000
END:STANDARD
BEGIN:DAYLIGHT
TZOFFSETFROM:-0500
TZOFFSETTO:-0400
TZNAME:EDT
DTSTART:20190310T070000
END:DAYLIGHT
BEGIN:STANDARD
TZOFFSETFROM:-0400
TZOFFSETTO:-0500
TZNAME:EST
DTSTART:20191103T060000
END:STANDARD
END:VTIMEZONE
BEGIN:VEVENT
DTSTART;TZID=America/New_York:20181027T100000
DTEND;TZID=America/New_York:20181027T180000
DTSTAMP:20260421T072728
CREATED:20181008T151726Z
LAST-MODIFIED:20181023T113014Z
UID:10000716-1540634400-1540663200@www.salemvolunteers.org
SUMMARY:SCNA Kids Fun Fest
DESCRIPTION:Join the Salem Common Neighborhood Association at this year’s Kids’ Fun Fest! A yearly tradition held on the Salem Common in October\, the Fun Fest has lots of great family activities for kids of all ages. \nThe Kids’ Fun Fest is run by the Salem Common Neighborhood Association and is sponsored by Fiesta Shows. The event is volunteer run; sign up online.
URL:https://www.salemvolunteers.org/event/scna-kids-fun-fest/2018-10-27/
LOCATION:Salem Common\, N Washington Square\, Salem\, MA\, 01970\, United States
GEO:42.5244945;-70.8899584
X-APPLE-STRUCTURED-LOCATION;VALUE=URI;X-ADDRESS=Salem Common N Washington Square Salem MA 01970 United States;X-APPLE-RADIUS=500;X-TITLE=N Washington Square:geo:-70.8899584,42.5244945
END:VEVENT
BEGIN:VEVENT
DTSTART;TZID=America/New_York:20181021T100000
DTEND;TZID=America/New_York:20181021T180000
DTSTAMP:20260421T072728
CREATED:20181008T151726Z
LAST-MODIFIED:20181023T113014Z
UID:10000715-1540116000-1540144800@www.salemvolunteers.org
SUMMARY:SCNA Kids Fun Fest
DESCRIPTION:Join the Salem Common Neighborhood Association at this year’s Kids’ Fun Fest! A yearly tradition held on the Salem Common in October\, the Fun Fest has lots of great family activities for kids of all ages. \nThe Kids’ Fun Fest is run by the Salem Common Neighborhood Association and is sponsored by Fiesta Shows. The event is volunteer run; sign up online.
URL:https://www.salemvolunteers.org/event/scna-kids-fun-fest/2018-10-21/
LOCATION:Salem Common\, N Washington Square\, Salem\, MA\, 01970\, United States
GEO:42.5244945;-70.8899584
X-APPLE-STRUCTURED-LOCATION;VALUE=URI;X-ADDRESS=Salem Common N Washington Square Salem MA 01970 United States;X-APPLE-RADIUS=500;X-TITLE=N Washington Square:geo:-70.8899584,42.5244945
END:VEVENT
BEGIN:VEVENT
DTSTART;TZID=America/New_York:20181020T100000
DTEND;TZID=America/New_York:20181020T180000
DTSTAMP:20260421T072728
CREATED:20181008T151726Z
LAST-MODIFIED:20181023T113014Z
UID:10000714-1540029600-1540058400@www.salemvolunteers.org
SUMMARY:SCNA Kids Fun Fest
DESCRIPTION:Join the Salem Common Neighborhood Association at this year’s Kids’ Fun Fest! A yearly tradition held on the Salem Common in October\, the Fun Fest has lots of great family activities for kids of all ages. \nThe Kids’ Fun Fest is run by the Salem Common Neighborhood Association and is sponsored by Fiesta Shows. The event is volunteer run; sign up online.
URL:https://www.salemvolunteers.org/event/scna-kids-fun-fest/2018-10-20/
LOCATION:Salem Common\, N Washington Square\, Salem\, MA\, 01970\, United States
GEO:42.5244945;-70.8899584
X-APPLE-STRUCTURED-LOCATION;VALUE=URI;X-ADDRESS=Salem Common N Washington Square Salem MA 01970 United States;X-APPLE-RADIUS=500;X-TITLE=N Washington Square:geo:-70.8899584,42.5244945
END:VEVENT
END:VCALENDAR