BEGIN:VCALENDAR
VERSION:2.0
PRODID:-//Salem Volunteers - ECPv6.15.11//NONSGML v1.0//EN
CALSCALE:GREGORIAN
METHOD:PUBLISH
X-ORIGINAL-URL:https://www.salemvolunteers.org
X-WR-CALDESC:Events for Salem Volunteers
REFRESH-INTERVAL;VALUE=DURATION:PT1H
X-Robots-Tag:noindex
X-PUBLISHED-TTL:PT1H
BEGIN:VTIMEZONE
TZID:America/New_York
BEGIN:DAYLIGHT
TZOFFSETFROM:-0500
TZOFFSETTO:-0400
TZNAME:EDT
DTSTART:20170312T070000
END:DAYLIGHT
BEGIN:STANDARD
TZOFFSETFROM:-0400
TZOFFSETTO:-0500
TZNAME:EST
DTSTART:20171105T060000
END:STANDARD
BEGIN:DAYLIGHT
TZOFFSETFROM:-0500
TZOFFSETTO:-0400
TZNAME:EDT
DTSTART:20180311T070000
END:DAYLIGHT
BEGIN:STANDARD
TZOFFSETFROM:-0400
TZOFFSETTO:-0500
TZNAME:EST
DTSTART:20181104T060000
END:STANDARD
BEGIN:DAYLIGHT
TZOFFSETFROM:-0500
TZOFFSETTO:-0400
TZNAME:EDT
DTSTART:20190310T070000
END:DAYLIGHT
BEGIN:STANDARD
TZOFFSETFROM:-0400
TZOFFSETTO:-0500
TZNAME:EST
DTSTART:20191103T060000
END:STANDARD
BEGIN:DAYLIGHT
TZOFFSETFROM:-0500
TZOFFSETTO:-0400
TZNAME:EDT
DTSTART:20200308T070000
END:DAYLIGHT
BEGIN:STANDARD
TZOFFSETFROM:-0400
TZOFFSETTO:-0500
TZNAME:EST
DTSTART:20201101T060000
END:STANDARD
END:VTIMEZONE
BEGIN:VEVENT
DTSTART;VALUE=DATE:20190202
DTEND;VALUE=DATE:20190203
DTSTAMP:20260417T000631
CREATED:20190121T160824Z
LAST-MODIFIED:20190122T112813Z
UID:10000002-1549065600-1549151999@www.salemvolunteers.org
SUMMARY:Generation Games Salem
DESCRIPTION:Generation Games is an inter-generational\, worldwide community sports event where everyone can participate. The venue is designed in a way that allows people of all ages and abilities to experience new and traditional sports in a festive environment. The event is about generations sharing and learning from each other. \nGeneration Games Salem will take place Saturday\, February 2\, 2019. \nAre you Interested in organizing an event?  Learning several new skills?  Making new connections & meet new people?  Do you like to be part of a fun\, sporty environment and community? \nIf you are interested in helping out during the event or finding out more\, contact salemgenerationgames@gmail.com. \n 
URL:https://www.salemvolunteers.org/event/generation-games-salem/
LOCATION:Salem\, Salem\, MA
GEO:42.51954;-70.8967155
END:VEVENT
BEGIN:VEVENT
DTSTART;TZID=America/New_York:20181202T113000
DTEND;TZID=America/New_York:20181202T163000
DTSTAMP:20260417T000631
CREATED:20181008T132736Z
LAST-MODIFIED:20181008T132736Z
UID:10000709-1543750200-1543768200@www.salemvolunteers.org
SUMMARY:Christmas in Salem
DESCRIPTION:Historic Salem is looking for volunteer tour guides for its 39th annual Christmas in Salem Holiday House Tour. The tour will be headquartered at the House of the Seven Gables and will feature the Historic Derby Street Neighborhood\, including several sites related to Nathaniel Hawthorne. \nTour guides will be stationed in a room of one of the houses featured on the tour\, where they will share information about the architecture\, history\, and decorations of the house (this information will be provided to you). Guide shifts will be: \n\nFriday\, November 30 from 5:30pm to 8:30pm;\nSaturday\, December 1 from 10:30am to 1pm and from 1 to 4:30pm;\nSunday\, December 2 from 11:30am to 2pm and from 2 to 4:30pm.\n\nAll tour guides will receive one free ticket to attend the tour. \nPlease see the list of tour guide responsibilities for more information. \nContact Alyssa at 978-745-0799 or alyssa@historicsalem.org or sign up online.
URL:https://www.salemvolunteers.org/event/christmas-in-salem/2018-12-02/
LOCATION:Salem\, Salem\, MA
GEO:42.51954;-70.8967155
END:VEVENT
BEGIN:VEVENT
DTSTART;TZID=America/New_York:20181201T103000
DTEND;TZID=America/New_York:20181201T163000
DTSTAMP:20260417T000631
CREATED:20181008T132736Z
LAST-MODIFIED:20181008T132736Z
UID:10000708-1543660200-1543681800@www.salemvolunteers.org
SUMMARY:Christmas in Salem
DESCRIPTION:Historic Salem is looking for volunteer tour guides for its 39th annual Christmas in Salem Holiday House Tour. The tour will be headquartered at the House of the Seven Gables and will feature the Historic Derby Street Neighborhood\, including several sites related to Nathaniel Hawthorne. \nTour guides will be stationed in a room of one of the houses featured on the tour\, where they will share information about the architecture\, history\, and decorations of the house (this information will be provided to you). Guide shifts will be: \n\nFriday\, November 30 from 5:30pm to 8:30pm;\nSaturday\, December 1 from 10:30am to 1pm and from 1 to 4:30pm;\nSunday\, December 2 from 11:30am to 2pm and from 2 to 4:30pm.\n\nAll tour guides will receive one free ticket to attend the tour. \nPlease see the list of tour guide responsibilities for more information. \nContact Alyssa at 978-745-0799 or alyssa@historicsalem.org or sign up online.
URL:https://www.salemvolunteers.org/event/christmas-in-salem/2018-12-01/
LOCATION:Salem\, Salem\, MA
GEO:42.51954;-70.8967155
END:VEVENT
BEGIN:VEVENT
DTSTART;TZID=America/New_York:20181201T083000
DTEND;TZID=America/New_York:20181201T120000
DTSTAMP:20260417T000631
CREATED:20181121T150804Z
LAST-MODIFIED:20181121T150804Z
UID:10000738-1543653000-1543665600@www.salemvolunteers.org
SUMMARY:Downtown Salem ribbon wrapping
DESCRIPTION:Join Salem Main Streets for one the coldest and cheerful volunteer jobs of the year! Help decorate downtown Salem for the holidays. \nWork will be on Saturday\, December 1 from 8:30am until noon\, and volunteers are needed for the whole time or just an hour or two. \nVolunteers will be outside (possibly in the cold) for two to three hours\, and some volunteers will need to be comfortable climbing ladders. Ladders are also needed. \nContact Kylie at kylie@salemmainstreets.org or 978-744-0004.
URL:https://www.salemvolunteers.org/event/downtown-salem-ribbon-wrapping/
LOCATION:Salem\, Salem\, MA
GEO:42.51954;-70.8967155
END:VEVENT
BEGIN:VEVENT
DTSTART;TZID=America/New_York:20181130T173000
DTEND;TZID=America/New_York:20181130T203000
DTSTAMP:20260417T000631
CREATED:20181008T132736Z
LAST-MODIFIED:20181008T132736Z
UID:10000707-1543599000-1543609800@www.salemvolunteers.org
SUMMARY:Christmas in Salem
DESCRIPTION:Historic Salem is looking for volunteer tour guides for its 39th annual Christmas in Salem Holiday House Tour. The tour will be headquartered at the House of the Seven Gables and will feature the Historic Derby Street Neighborhood\, including several sites related to Nathaniel Hawthorne. \nTour guides will be stationed in a room of one of the houses featured on the tour\, where they will share information about the architecture\, history\, and decorations of the house (this information will be provided to you). Guide shifts will be: \n\nFriday\, November 30 from 5:30pm to 8:30pm;\nSaturday\, December 1 from 10:30am to 1pm and from 1 to 4:30pm;\nSunday\, December 2 from 11:30am to 2pm and from 2 to 4:30pm.\n\nAll tour guides will receive one free ticket to attend the tour. \nPlease see the list of tour guide responsibilities for more information. \nContact Alyssa at 978-745-0799 or alyssa@historicsalem.org or sign up online.
URL:https://www.salemvolunteers.org/event/christmas-in-salem/2018-11-30/
LOCATION:Salem\, Salem\, MA
GEO:42.51954;-70.8967155
END:VEVENT
BEGIN:VEVENT
DTSTART;TZID=America/New_York:20181117T073000
DTEND;TZID=America/New_York:20181117T133000
DTSTAMP:20260417T000631
CREATED:20181008T132234Z
LAST-MODIFIED:20181008T132234Z
UID:10000700-1542439800-1542461400@www.salemvolunteers.org
SUMMARY:SalemRecycles textile drive
DESCRIPTION:SalemRecycles\, Salem’s all-volunteer recycling committee\, will be holding its annual clothing and textile recycling drive on Saturday\, November 17. All dropped off items will be either reused through Goodwill retail stores or shredded and recycled into other items. \nVolunteers will greet residents\, direct cars\, unload textiles\, and answer questions. Shifts are 7:30 to 10:15am and 10am to 1:15pm. \nContact Julie Rose at 978-619-5679 or jrose@salem.com.
URL:https://www.salemvolunteers.org/event/salemrecycles-textile-drive/
LOCATION:Salem\, Salem\, MA
GEO:42.51954;-70.8967155
END:VEVENT
END:VCALENDAR