BEGIN:VCALENDAR
VERSION:2.0
PRODID:-//Salem Volunteers - ECPv6.15.11//NONSGML v1.0//EN
CALSCALE:GREGORIAN
METHOD:PUBLISH
X-WR-CALNAME:Salem Volunteers
X-ORIGINAL-URL:https://www.salemvolunteers.org
X-WR-CALDESC:Events for Salem Volunteers
REFRESH-INTERVAL;VALUE=DURATION:PT1H
X-Robots-Tag:noindex
X-PUBLISHED-TTL:PT1H
BEGIN:VTIMEZONE
TZID:America/New_York
BEGIN:DAYLIGHT
TZOFFSETFROM:-0500
TZOFFSETTO:-0400
TZNAME:EDT
DTSTART:20190310T070000
END:DAYLIGHT
BEGIN:STANDARD
TZOFFSETFROM:-0400
TZOFFSETTO:-0500
TZNAME:EST
DTSTART:20191103T060000
END:STANDARD
BEGIN:DAYLIGHT
TZOFFSETFROM:-0500
TZOFFSETTO:-0400
TZNAME:EDT
DTSTART:20200308T070000
END:DAYLIGHT
BEGIN:STANDARD
TZOFFSETFROM:-0400
TZOFFSETTO:-0500
TZNAME:EST
DTSTART:20201101T060000
END:STANDARD
BEGIN:DAYLIGHT
TZOFFSETFROM:-0500
TZOFFSETTO:-0400
TZNAME:EDT
DTSTART:20210314T070000
END:DAYLIGHT
BEGIN:STANDARD
TZOFFSETFROM:-0400
TZOFFSETTO:-0500
TZNAME:EST
DTSTART:20211107T060000
END:STANDARD
END:VTIMEZONE
BEGIN:VEVENT
DTSTART;TZID=America/New_York:20201115T090000
DTEND;TZID=America/New_York:20201115T130000
DTSTAMP:20260416T035510
CREATED:20201113T202833Z
LAST-MODIFIED:20201113T202833Z
UID:10002918-1605430800-1605445200@www.salemvolunteers.org
SUMMARY:Salem Woods bridge repair
DESCRIPTION:Join the Friends of Salem Woods for work on the boardwalk.  We’ll rebuild the second boardwalk\, and we’ll re-align and reinforce the third boardwalk. Work days are Saturday\, November 14 from 9am to 1pm and Sunday\, November 15 from 9am to 1pm. \nMeet in the parking lot of Olde Salem Greens Golf Course at 75 Willson Street in Salem. \nBring protective footwear\, work gloves\, proper clothing\, and a face mask. We’ll prioritize social distancing. Tools will be provided by NEMBA. Please bring your own snacks and beverage for COVID safety. \nFor more information or to RSVP\, contact Mike Salerno at Busted_Spoke@yahoo.com.
URL:https://www.salemvolunteers.org/event/salem-woods-bridge-repair/2020-11-15/
LOCATION:Olde Salem Greens Golf Course\, 75 Willson Street\, Salem\, MA\, 01970\, United States
GEO:42.5073483;-70.9084191
X-APPLE-STRUCTURED-LOCATION;VALUE=URI;X-ADDRESS=Olde Salem Greens Golf Course 75 Willson Street Salem MA 01970 United States;X-APPLE-RADIUS=500;X-TITLE=75 Willson Street:geo:-70.9084191,42.5073483
END:VEVENT
BEGIN:VEVENT
DTSTART;TZID=America/New_York:20201114T090000
DTEND;TZID=America/New_York:20201114T130000
DTSTAMP:20260416T035510
CREATED:20201113T202833Z
LAST-MODIFIED:20201113T202833Z
UID:10002917-1605344400-1605358800@www.salemvolunteers.org
SUMMARY:Salem Woods bridge repair
DESCRIPTION:Join the Friends of Salem Woods for work on the boardwalk.  We’ll rebuild the second boardwalk\, and we’ll re-align and reinforce the third boardwalk. Work days are Saturday\, November 14 from 9am to 1pm and Sunday\, November 15 from 9am to 1pm. \nMeet in the parking lot of Olde Salem Greens Golf Course at 75 Willson Street in Salem. \nBring protective footwear\, work gloves\, proper clothing\, and a face mask. We’ll prioritize social distancing. Tools will be provided by NEMBA. Please bring your own snacks and beverage for COVID safety. \nFor more information or to RSVP\, contact Mike Salerno at Busted_Spoke@yahoo.com.
URL:https://www.salemvolunteers.org/event/salem-woods-bridge-repair/2020-11-14/
LOCATION:Olde Salem Greens Golf Course\, 75 Willson Street\, Salem\, MA\, 01970\, United States
GEO:42.5073483;-70.9084191
X-APPLE-STRUCTURED-LOCATION;VALUE=URI;X-ADDRESS=Olde Salem Greens Golf Course 75 Willson Street Salem MA 01970 United States;X-APPLE-RADIUS=500;X-TITLE=75 Willson Street:geo:-70.9084191,42.5073483
END:VEVENT
END:VCALENDAR