BEGIN:VCALENDAR
VERSION:2.0
PRODID:-//Salem Volunteers - ECPv6.15.11//NONSGML v1.0//EN
CALSCALE:GREGORIAN
METHOD:PUBLISH
X-WR-CALNAME:Salem Volunteers
X-ORIGINAL-URL:https://www.salemvolunteers.org
X-WR-CALDESC:Events for Salem Volunteers
REFRESH-INTERVAL;VALUE=DURATION:PT1H
X-Robots-Tag:noindex
X-PUBLISHED-TTL:PT1H
BEGIN:VTIMEZONE
TZID:America/New_York
BEGIN:DAYLIGHT
TZOFFSETFROM:-0500
TZOFFSETTO:-0400
TZNAME:EDT
DTSTART:20180311T070000
END:DAYLIGHT
BEGIN:STANDARD
TZOFFSETFROM:-0400
TZOFFSETTO:-0500
TZNAME:EST
DTSTART:20181104T060000
END:STANDARD
BEGIN:DAYLIGHT
TZOFFSETFROM:-0500
TZOFFSETTO:-0400
TZNAME:EDT
DTSTART:20190310T070000
END:DAYLIGHT
BEGIN:STANDARD
TZOFFSETFROM:-0400
TZOFFSETTO:-0500
TZNAME:EST
DTSTART:20191103T060000
END:STANDARD
BEGIN:DAYLIGHT
TZOFFSETFROM:-0500
TZOFFSETTO:-0400
TZNAME:EDT
DTSTART:20200308T070000
END:DAYLIGHT
BEGIN:STANDARD
TZOFFSETFROM:-0400
TZOFFSETTO:-0500
TZNAME:EST
DTSTART:20201101T060000
END:STANDARD
BEGIN:DAYLIGHT
TZOFFSETFROM:-0500
TZOFFSETTO:-0400
TZNAME:EDT
DTSTART:20210314T070000
END:DAYLIGHT
BEGIN:STANDARD
TZOFFSETFROM:-0400
TZOFFSETTO:-0500
TZNAME:EST
DTSTART:20211107T060000
END:STANDARD
END:VTIMEZONE
BEGIN:VEVENT
DTSTART;TZID=America/New_York:20201128T100000
DTEND;TZID=America/New_York:20201128T120000
DTSTAMP:20260425T070000
CREATED:20201123T144407Z
LAST-MODIFIED:20201123T144407Z
UID:10002926-1606557600-1606564800@www.salemvolunteers.org
SUMMARY:SPUR fall yard cleanup
DESCRIPTION:Join SPUR for its second day of raking leaves for neighbors who need a hand! Please bring your own rakes and gloves. Bags will be provided and brought to the site by the Team Leader. Masks are required while volunteering. \nSign up online\, or contact SPUR via web form. \n  \n 
URL:https://www.salemvolunteers.org/event/spur-fall-yard-cleanup-2/
LOCATION:Marblehead
ORGANIZER;CN="SPUR":MAILTO:spurcommunity.spur@gmail.com
END:VEVENT
BEGIN:VEVENT
DTSTART;TZID=America/New_York:20190608T100000
DTEND;TZID=America/New_York:20190608T120000
DTSTAMP:20260425T070000
CREATED:20190527T151523Z
LAST-MODIFIED:20190527T151523Z
UID:10000873-1559988000-1559995200@www.salemvolunteers.org
SUMMARY:Marblehead cleanup and marine debris sort
DESCRIPTION:Join Salem Sound Coastwatch and the Rozalia Project for a cleanup of beaches in Marblehead on Saturday\, June 8 from 10am until noon. \nPick your favorite beach spot in Marblehead\, clean up\, and then bring your bag to the public multi-beach sort in the Marblehead Community Charter School parking lot at 17 Lime Street.  We will sort through all the trash\, collect all the data\, and have a discussion of what we have found and why it matters!  If you are not sure what beach to go to\, a team from Rozalia Project will be at Riverhead beach at 102 Ocean Ave in Marblehead from 9am. We will have extra gloves and bags. There is plenty of parking there\, and you will have access to clean both Riverhead and Devereux Beaches. \nContact Salem Sound Coastwatch at at 978-7900 or info@salemsound.org.
URL:https://www.salemvolunteers.org/event/marblehead-cleanup-and-marine-debris-sort/
LOCATION:Marblehead
END:VEVENT
END:VCALENDAR