BEGIN:VCALENDAR
VERSION:2.0
PRODID:-//Salem Volunteers - ECPv6.15.11//NONSGML v1.0//EN
CALSCALE:GREGORIAN
METHOD:PUBLISH
X-ORIGINAL-URL:https://www.salemvolunteers.org
X-WR-CALDESC:Events for Salem Volunteers
REFRESH-INTERVAL;VALUE=DURATION:PT1H
X-Robots-Tag:noindex
X-PUBLISHED-TTL:PT1H
BEGIN:VTIMEZONE
TZID:America/New_York
BEGIN:DAYLIGHT
TZOFFSETFROM:-0500
TZOFFSETTO:-0400
TZNAME:EDT
DTSTART:20180311T070000
END:DAYLIGHT
BEGIN:STANDARD
TZOFFSETFROM:-0400
TZOFFSETTO:-0500
TZNAME:EST
DTSTART:20181104T060000
END:STANDARD
BEGIN:DAYLIGHT
TZOFFSETFROM:-0500
TZOFFSETTO:-0400
TZNAME:EDT
DTSTART:20190310T070000
END:DAYLIGHT
BEGIN:STANDARD
TZOFFSETFROM:-0400
TZOFFSETTO:-0500
TZNAME:EST
DTSTART:20191103T060000
END:STANDARD
BEGIN:DAYLIGHT
TZOFFSETFROM:-0500
TZOFFSETTO:-0400
TZNAME:EDT
DTSTART:20200308T070000
END:DAYLIGHT
BEGIN:STANDARD
TZOFFSETFROM:-0400
TZOFFSETTO:-0500
TZNAME:EST
DTSTART:20201101T060000
END:STANDARD
END:VTIMEZONE
BEGIN:VEVENT
DTSTART;TZID=America/New_York:20190830T170000
DTEND;TZID=America/New_York:20190830T183000
DTSTAMP:20260424T065709
CREATED:20190819T154037Z
LAST-MODIFIED:20190819T154037Z
UID:10000972-1567184400-1567189800@www.salemvolunteers.org
SUMMARY:Citizen science monitoring
DESCRIPTION:Join Salem Sound Coastwatch for a marine invasive species survey at Lynch Park in Beverly. We will be conducting a marine invasive species survey of rocky intertidal.  To learn more about the technique\, read our online Monitoring Guide pages 12-17. \nLearners of all ages are welcome. \nRSVP required at info@salemsound.org or by calling 978-741-7900.
URL:https://www.salemvolunteers.org/event/citizen-science-monitoring-6/
LOCATION:Lynch Park\, 55 Ober Street\, Beverly\, MA\, 01915\, United States
GEO:42.54837;-70.8593422
X-APPLE-STRUCTURED-LOCATION;VALUE=URI;X-ADDRESS=Lynch Park 55 Ober Street Beverly MA 01915 United States;X-APPLE-RADIUS=500;X-TITLE=55 Ober Street:geo:-70.8593422,42.54837
END:VEVENT
BEGIN:VEVENT
DTSTART;TZID=America/New_York:20190719T070000
DTEND;TZID=America/New_York:20190719T083000
DTSTAMP:20260424T065709
CREATED:20190715T180530Z
LAST-MODIFIED:20190715T180530Z
UID:10000934-1563519600-1563525000@www.salemvolunteers.org
SUMMARY:Citizen Science Monitoring
DESCRIPTION:Join Salem Sound Coastwatch for a marine invasive species survey of the rocky intertidal at Lynch Park at 55 Ober Street in Beverly.  We will set up 4 random quadrants and record everything that is living in the square.  Then we will do a marine invasive species survey of the area.  To learn more about the technique\, read our online Monitoring Guide pages 12-17. \nLearners of all ages are welcome. \nRSVP required at info@salemsound.org or by calling 978-741-7900.
URL:https://www.salemvolunteers.org/event/citizen-science-monitoring/
LOCATION:Lynch Park\, 55 Ober Street\, Beverly\, MA\, 01915\, United States
GEO:42.54837;-70.8593422
X-APPLE-STRUCTURED-LOCATION;VALUE=URI;X-ADDRESS=Lynch Park 55 Ober Street Beverly MA 01915 United States;X-APPLE-RADIUS=500;X-TITLE=55 Ober Street:geo:-70.8593422,42.54837
END:VEVENT
END:VCALENDAR