BEGIN:VCALENDAR
VERSION:2.0
PRODID:-//Salem Volunteers - ECPv6.15.11//NONSGML v1.0//EN
CALSCALE:GREGORIAN
METHOD:PUBLISH
X-WR-CALNAME:Salem Volunteers
X-ORIGINAL-URL:https://www.salemvolunteers.org
X-WR-CALDESC:Events for Salem Volunteers
REFRESH-INTERVAL;VALUE=DURATION:PT1H
X-Robots-Tag:noindex
X-PUBLISHED-TTL:PT1H
BEGIN:VTIMEZONE
TZID:America/New_York
BEGIN:DAYLIGHT
TZOFFSETFROM:-0500
TZOFFSETTO:-0400
TZNAME:EDT
DTSTART:20180311T070000
END:DAYLIGHT
BEGIN:STANDARD
TZOFFSETFROM:-0400
TZOFFSETTO:-0500
TZNAME:EST
DTSTART:20181104T060000
END:STANDARD
BEGIN:DAYLIGHT
TZOFFSETFROM:-0500
TZOFFSETTO:-0400
TZNAME:EDT
DTSTART:20190310T070000
END:DAYLIGHT
BEGIN:STANDARD
TZOFFSETFROM:-0400
TZOFFSETTO:-0500
TZNAME:EST
DTSTART:20191103T060000
END:STANDARD
BEGIN:DAYLIGHT
TZOFFSETFROM:-0500
TZOFFSETTO:-0400
TZNAME:EDT
DTSTART:20200308T070000
END:DAYLIGHT
BEGIN:STANDARD
TZOFFSETFROM:-0400
TZOFFSETTO:-0500
TZNAME:EST
DTSTART:20201101T060000
END:STANDARD
END:VTIMEZONE
BEGIN:VEVENT
DTSTART;TZID=America/New_York:20190424T190000
DTEND;TZID=America/New_York:20190424T210000
DTSTAMP:20260422T073432
CREATED:20190408T181400Z
LAST-MODIFIED:20190408T181400Z
UID:10000040-1556132400-1556139600@www.salemvolunteers.org
SUMMARY:Weed Watchers training
DESCRIPTION:Invasive aquatic plants can infest water bodies\, crowd out native plants\, block sunlight and make recreation almost impossible. The Weed Watchers program is a chance to get involved in restoration work on the Ipswich River and its tributaries. Using identification guides that are very user friendly and reliable\, this training will teach identification of native and invasive aquatic plants. \nFor more information or to RSVP\, contact rodonnell@ipswichriver.org.
URL:https://www.salemvolunteers.org/event/weed-watchers-training/
LOCATION:Ipswich River Watershed Association\, 143 County Road\, Ipswich\, MA\, 01938\, United States
GEO:42.666399;-70.842906
X-APPLE-STRUCTURED-LOCATION;VALUE=URI;X-ADDRESS=Ipswich River Watershed Association 143 County Road Ipswich MA 01938 United States;X-APPLE-RADIUS=500;X-TITLE=143 County Road:geo:-70.842906,42.666399
END:VEVENT
END:VCALENDAR