BEGIN:VCALENDAR
VERSION:2.0
PRODID:-//Salem Volunteers - ECPv6.15.11//NONSGML v1.0//EN
CALSCALE:GREGORIAN
METHOD:PUBLISH
X-WR-CALNAME:Salem Volunteers
X-ORIGINAL-URL:https://www.salemvolunteers.org
X-WR-CALDESC:Events for Salem Volunteers
REFRESH-INTERVAL;VALUE=DURATION:PT1H
X-Robots-Tag:noindex
X-PUBLISHED-TTL:PT1H
BEGIN:VTIMEZONE
TZID:America/New_York
BEGIN:DAYLIGHT
TZOFFSETFROM:-0500
TZOFFSETTO:-0400
TZNAME:EDT
DTSTART:20170312T070000
END:DAYLIGHT
BEGIN:STANDARD
TZOFFSETFROM:-0400
TZOFFSETTO:-0500
TZNAME:EST
DTSTART:20171105T060000
END:STANDARD
BEGIN:DAYLIGHT
TZOFFSETFROM:-0500
TZOFFSETTO:-0400
TZNAME:EDT
DTSTART:20180311T070000
END:DAYLIGHT
BEGIN:STANDARD
TZOFFSETFROM:-0400
TZOFFSETTO:-0500
TZNAME:EST
DTSTART:20181104T060000
END:STANDARD
BEGIN:DAYLIGHT
TZOFFSETFROM:-0500
TZOFFSETTO:-0400
TZNAME:EDT
DTSTART:20190310T070000
END:DAYLIGHT
BEGIN:STANDARD
TZOFFSETFROM:-0400
TZOFFSETTO:-0500
TZNAME:EST
DTSTART:20191103T060000
END:STANDARD
END:VTIMEZONE
BEGIN:VEVENT
DTSTART;VALUE=DATE:20181014
DTEND;VALUE=DATE:20181015
DTSTAMP:20260424T200032
CREATED:20181008T131502Z
LAST-MODIFIED:20181008T131502Z
UID:10000692-1539475200-1539561599@www.salemvolunteers.org
SUMMARY:North Shore Cancer RUN
DESCRIPTION:Join the North Shore Medical Center on Sunday\, October 14 for its annual North Shore Cancer RUN. The RUN will feature 5K and 10K road races starting at the Cove Community Center in Beverly\, MA. \nVolunteers are needed to help with the event on race day. \nContact Susan Lausier at cancerwalk@partners.org or sign up online.
URL:https://www.salemvolunteers.org/event/north-shore-cancer-run/
LOCATION:Cove Community Center\, 19 East Corning Street\, Beverly\, MA
GEO:42.5510964;-70.85998
X-APPLE-STRUCTURED-LOCATION;VALUE=URI;X-ADDRESS=Cove Community Center 19 East Corning Street Beverly MA;X-APPLE-RADIUS=500;X-TITLE=19 East Corning Street:geo:-70.85998,42.5510964
END:VEVENT
END:VCALENDAR