BEGIN:VCALENDAR
VERSION:2.0
PRODID:-//Salem Volunteers - ECPv6.15.11//NONSGML v1.0//EN
CALSCALE:GREGORIAN
METHOD:PUBLISH
X-WR-CALNAME:Salem Volunteers
X-ORIGINAL-URL:https://www.salemvolunteers.org
X-WR-CALDESC:Events for Salem Volunteers
REFRESH-INTERVAL;VALUE=DURATION:PT1H
X-Robots-Tag:noindex
X-PUBLISHED-TTL:PT1H
BEGIN:VTIMEZONE
TZID:America/New_York
BEGIN:DAYLIGHT
TZOFFSETFROM:-0500
TZOFFSETTO:-0400
TZNAME:EDT
DTSTART:20170312T070000
END:DAYLIGHT
BEGIN:STANDARD
TZOFFSETFROM:-0400
TZOFFSETTO:-0500
TZNAME:EST
DTSTART:20171105T060000
END:STANDARD
BEGIN:DAYLIGHT
TZOFFSETFROM:-0500
TZOFFSETTO:-0400
TZNAME:EDT
DTSTART:20180311T070000
END:DAYLIGHT
BEGIN:STANDARD
TZOFFSETFROM:-0400
TZOFFSETTO:-0500
TZNAME:EST
DTSTART:20181104T060000
END:STANDARD
BEGIN:DAYLIGHT
TZOFFSETFROM:-0500
TZOFFSETTO:-0400
TZNAME:EDT
DTSTART:20190310T070000
END:DAYLIGHT
BEGIN:STANDARD
TZOFFSETFROM:-0400
TZOFFSETTO:-0500
TZNAME:EST
DTSTART:20191103T060000
END:STANDARD
BEGIN:DAYLIGHT
TZOFFSETFROM:-0500
TZOFFSETTO:-0400
TZNAME:EDT
DTSTART:20200308T070000
END:DAYLIGHT
BEGIN:STANDARD
TZOFFSETFROM:-0400
TZOFFSETTO:-0500
TZNAME:EST
DTSTART:20201101T060000
END:STANDARD
END:VTIMEZONE
BEGIN:VEVENT
DTSTART;VALUE=DATE:20190823
DTEND;VALUE=DATE:20190826
DTSTAMP:20260424T115842
CREATED:20190722T181617Z
LAST-MODIFIED:20190722T183732Z
UID:10000697-1566518400-1566777599@www.salemvolunteers.org
SUMMARY:Antique and Classic Boat Festival
DESCRIPTION:The 2019 Antique and Classic Boat Festival will be held August 24-25 at Brewer Hawthorne Cove Marina in Salem. \nVolunteers are needed for a number of jobs including taking admissions\, selling t-shirts\, making signs\, and setting up tables and chairs Friday through Sunday. A commitment of 4 to 5 hours is requested. Help is especially needed on Friday morning and Sunday afternoon to set up and take down the show. Volunteers enjoy free admission to the boats\, music\, and other activities. \nContact via web form.
URL:https://www.salemvolunteers.org/event/antique-and-classic-boat-festival-2/
LOCATION:Hawthorne Cove Marina\, 10 White St\, Salem\, MA\, 01970\, United States
GEO:42.5225143;-70.8827165
X-APPLE-STRUCTURED-LOCATION;VALUE=URI;X-ADDRESS=Hawthorne Cove Marina 10 White St Salem MA 01970 United States;X-APPLE-RADIUS=500;X-TITLE=10 White St:geo:-70.8827165,42.5225143
END:VEVENT
BEGIN:VEVENT
DTSTART;VALUE=DATE:20180826
DTEND;VALUE=DATE:20180827
DTSTAMP:20260424T115842
CREATED:20180713T170322Z
LAST-MODIFIED:20180713T170322Z
UID:10000657-1535241600-1535327999@www.salemvolunteers.org
SUMMARY:Antique and Classic Boat Festival
DESCRIPTION:The 2018 Antique and Classic Boat Festival will be held August 25-26 at Brewer Hawthorne Cove Marina in Salem. \nVolunteers are needed for a number of jobs including taking admissions\, selling t-shirts\, making signs\, and setting up tables and chairs Friday through Sunday. A commitment of 4 to 5 hours is requested. Help is especially needed on Friday morning and Sunday afternoon to set up and take down the show. Volunteers enjoy free admission to the boats\, music\, and other activities. \nContact Pat Wells at patwells@earthlink.net or Jean Fisher at jeanfish21@gmail.com.
URL:https://www.salemvolunteers.org/event/antique-and-classic-boat-festival/2018-08-26/
LOCATION:Hawthorne Cove Marina\, 10 White St\, Salem\, MA\, 01970\, United States
GEO:42.5225143;-70.8827165
X-APPLE-STRUCTURED-LOCATION;VALUE=URI;X-ADDRESS=Hawthorne Cove Marina 10 White St Salem MA 01970 United States;X-APPLE-RADIUS=500;X-TITLE=10 White St:geo:-70.8827165,42.5225143
END:VEVENT
BEGIN:VEVENT
DTSTART;VALUE=DATE:20180825
DTEND;VALUE=DATE:20180826
DTSTAMP:20260424T115842
CREATED:20180713T170322Z
LAST-MODIFIED:20180713T170322Z
UID:10000656-1535155200-1535241599@www.salemvolunteers.org
SUMMARY:Antique and Classic Boat Festival
DESCRIPTION:The 2018 Antique and Classic Boat Festival will be held August 25-26 at Brewer Hawthorne Cove Marina in Salem. \nVolunteers are needed for a number of jobs including taking admissions\, selling t-shirts\, making signs\, and setting up tables and chairs Friday through Sunday. A commitment of 4 to 5 hours is requested. Help is especially needed on Friday morning and Sunday afternoon to set up and take down the show. Volunteers enjoy free admission to the boats\, music\, and other activities. \nContact Pat Wells at patwells@earthlink.net or Jean Fisher at jeanfish21@gmail.com.
URL:https://www.salemvolunteers.org/event/antique-and-classic-boat-festival/2018-08-25/
LOCATION:Hawthorne Cove Marina\, 10 White St\, Salem\, MA\, 01970\, United States
GEO:42.5225143;-70.8827165
X-APPLE-STRUCTURED-LOCATION;VALUE=URI;X-ADDRESS=Hawthorne Cove Marina 10 White St Salem MA 01970 United States;X-APPLE-RADIUS=500;X-TITLE=10 White St:geo:-70.8827165,42.5225143
END:VEVENT
END:VCALENDAR