BEGIN:VCALENDAR
VERSION:2.0
PRODID:-//Salem Volunteers - ECPv6.15.11//NONSGML v1.0//EN
CALSCALE:GREGORIAN
METHOD:PUBLISH
X-WR-CALNAME:Salem Volunteers
X-ORIGINAL-URL:https://www.salemvolunteers.org
X-WR-CALDESC:Events for Salem Volunteers
REFRESH-INTERVAL;VALUE=DURATION:PT1H
X-Robots-Tag:noindex
X-PUBLISHED-TTL:PT1H
BEGIN:VTIMEZONE
TZID:America/New_York
BEGIN:DAYLIGHT
TZOFFSETFROM:-0500
TZOFFSETTO:-0400
TZNAME:EDT
DTSTART:20190310T070000
END:DAYLIGHT
BEGIN:STANDARD
TZOFFSETFROM:-0400
TZOFFSETTO:-0500
TZNAME:EST
DTSTART:20191103T060000
END:STANDARD
BEGIN:DAYLIGHT
TZOFFSETFROM:-0500
TZOFFSETTO:-0400
TZNAME:EDT
DTSTART:20200308T070000
END:DAYLIGHT
BEGIN:STANDARD
TZOFFSETFROM:-0400
TZOFFSETTO:-0500
TZNAME:EST
DTSTART:20201101T060000
END:STANDARD
BEGIN:DAYLIGHT
TZOFFSETFROM:-0500
TZOFFSETTO:-0400
TZNAME:EDT
DTSTART:20210314T070000
END:DAYLIGHT
BEGIN:STANDARD
TZOFFSETFROM:-0400
TZOFFSETTO:-0500
TZNAME:EST
DTSTART:20211107T060000
END:STANDARD
END:VTIMEZONE
BEGIN:VEVENT
DTSTART;TZID=America/New_York:20200612T080000
DTEND;TZID=America/New_York:20200612T123000
DTSTAMP:20260425T024012
CREATED:20200608T150256Z
LAST-MODIFIED:20200608T150256Z
UID:10002782-1591948800-1591965000@www.salemvolunteers.org
SUMMARY:Salem Public Schools grocery packing and distribution
DESCRIPTION:The Salem Pantry is working with the Salem Public Schools in the coming weeks to help supply their families with bags of groceries each week. \nSign up online.
URL:https://www.salemvolunteers.org/event/salem-public-schools-grocery-packing-and-distribution-28/2020-06-12/
ORGANIZER;CN="The Salem Pantry":MAILTO:director@thesalempantry.org
END:VEVENT
BEGIN:VEVENT
DTSTART;TZID=America/New_York:20200610T080000
DTEND;TZID=America/New_York:20200610T123000
DTSTAMP:20260425T024012
CREATED:20200608T150256Z
LAST-MODIFIED:20200608T150256Z
UID:10002781-1591776000-1591792200@www.salemvolunteers.org
SUMMARY:Salem Public Schools grocery packing and distribution
DESCRIPTION:The Salem Pantry is working with the Salem Public Schools in the coming weeks to help supply their families with bags of groceries each week. \nSign up online.
URL:https://www.salemvolunteers.org/event/salem-public-schools-grocery-packing-and-distribution-28/2020-06-10/
ORGANIZER;CN="The Salem Pantry":MAILTO:director@thesalempantry.org
END:VEVENT
BEGIN:VEVENT
DTSTART;TZID=America/New_York:20200610T073000
DTEND;TZID=America/New_York:20200610T150000
DTSTAMP:20260425T024012
CREATED:20200608T150539Z
LAST-MODIFIED:20200608T150539Z
UID:10000994-1591774200-1591801200@www.salemvolunteers.org
SUMMARY:Salem Pantry pop-up harvest market
DESCRIPTION:Join The Salem Pantry for a pop-up harvest market at its Salem State University location at 68 Loring Avenue on Wednesday\, June 10 from 7:30am until 3pm. Volunteers are needed for setup\, food distribution\, registration\, and cleanup. \nSign up online. \n 
URL:https://www.salemvolunteers.org/event/salem-pantry-pop-up-harvest-market-34/
LOCATION:68 Loring Avenue\, Salem\, 68 Loring Avenue\, Salem\, MA\, 01970\, United States
ORGANIZER;CN="The Salem Pantry":MAILTO:director@thesalempantry.org
GEO:42.50238;-70.894498
X-APPLE-STRUCTURED-LOCATION;VALUE=URI;X-ADDRESS=68 Loring Avenue Salem 68 Loring Avenue Salem MA 01970 United States;X-APPLE-RADIUS=500;X-TITLE=68 Loring Avenue:geo:-70.894498,42.50238
END:VEVENT
BEGIN:VEVENT
DTSTART;TZID=America/New_York:20200608T080000
DTEND;TZID=America/New_York:20200608T123000
DTSTAMP:20260425T024012
CREATED:20200608T150256Z
LAST-MODIFIED:20200608T150256Z
UID:10002780-1591603200-1591619400@www.salemvolunteers.org
SUMMARY:Salem Public Schools grocery packing and distribution
DESCRIPTION:The Salem Pantry is working with the Salem Public Schools in the coming weeks to help supply their families with bags of groceries each week. \nSign up online.
URL:https://www.salemvolunteers.org/event/salem-public-schools-grocery-packing-and-distribution-28/2020-06-08/
ORGANIZER;CN="The Salem Pantry":MAILTO:director@thesalempantry.org
END:VEVENT
BEGIN:VEVENT
DTSTART;TZID=America/New_York:20200605T080000
DTEND;TZID=America/New_York:20200605T123000
DTSTAMP:20260425T024012
CREATED:20200601T222210Z
LAST-MODIFIED:20200601T222210Z
UID:10002760-1591344000-1591360200@www.salemvolunteers.org
SUMMARY:Salem Public Schools grocery packing and distribution
DESCRIPTION:The Salem Pantry is working with the Salem Public Schools in the coming weeks to help supply their families with bags of groceries each week. \nSign up online.
URL:https://www.salemvolunteers.org/event/salem-public-schools-grocery-packing-and-distribution-27/2020-06-05/
LOCATION:Gateways of Peace\, 54 Margin Street\, Salem\, MA\, 01970\, United States
ORGANIZER;CN="The Salem Pantry":MAILTO:director@thesalempantry.org
GEO:42.5185087;-70.8964828
X-APPLE-STRUCTURED-LOCATION;VALUE=URI;X-ADDRESS=Gateways of Peace 54 Margin Street Salem MA 01970 United States;X-APPLE-RADIUS=500;X-TITLE=54 Margin Street:geo:-70.8964828,42.5185087
END:VEVENT
BEGIN:VEVENT
DTSTART;TZID=America/New_York:20200603T080000
DTEND;TZID=America/New_York:20200603T123000
DTSTAMP:20260425T024012
CREATED:20200601T222210Z
LAST-MODIFIED:20200601T222210Z
UID:10002759-1591171200-1591187400@www.salemvolunteers.org
SUMMARY:Salem Public Schools grocery packing and distribution
DESCRIPTION:The Salem Pantry is working with the Salem Public Schools in the coming weeks to help supply their families with bags of groceries each week. \nSign up online.
URL:https://www.salemvolunteers.org/event/salem-public-schools-grocery-packing-and-distribution-27/2020-06-03/
LOCATION:Gateways of Peace\, 54 Margin Street\, Salem\, MA\, 01970\, United States
ORGANIZER;CN="The Salem Pantry":MAILTO:director@thesalempantry.org
GEO:42.5185087;-70.8964828
X-APPLE-STRUCTURED-LOCATION;VALUE=URI;X-ADDRESS=Gateways of Peace 54 Margin Street Salem MA 01970 United States;X-APPLE-RADIUS=500;X-TITLE=54 Margin Street:geo:-70.8964828,42.5185087
END:VEVENT
BEGIN:VEVENT
DTSTART;TZID=America/New_York:20200601T080000
DTEND;TZID=America/New_York:20200601T123000
DTSTAMP:20260425T024012
CREATED:20200601T222210Z
LAST-MODIFIED:20200601T222210Z
UID:10002758-1590998400-1591014600@www.salemvolunteers.org
SUMMARY:Salem Public Schools grocery packing and distribution
DESCRIPTION:The Salem Pantry is working with the Salem Public Schools in the coming weeks to help supply their families with bags of groceries each week. \nSign up online.
URL:https://www.salemvolunteers.org/event/salem-public-schools-grocery-packing-and-distribution-27/2020-06-01/
LOCATION:Gateways of Peace\, 54 Margin Street\, Salem\, MA\, 01970\, United States
ORGANIZER;CN="The Salem Pantry":MAILTO:director@thesalempantry.org
GEO:42.5185087;-70.8964828
X-APPLE-STRUCTURED-LOCATION;VALUE=URI;X-ADDRESS=Gateways of Peace 54 Margin Street Salem MA 01970 United States;X-APPLE-RADIUS=500;X-TITLE=54 Margin Street:geo:-70.8964828,42.5185087
END:VEVENT
BEGIN:VEVENT
DTSTART;TZID=America/New_York:20200530T073000
DTEND;TZID=America/New_York:20200530T150000
DTSTAMP:20260425T024012
CREATED:20200528T144627Z
LAST-MODIFIED:20200528T144627Z
UID:10002754-1590823800-1590850800@www.salemvolunteers.org
SUMMARY:Salem Pantry pop-up harvest market
DESCRIPTION:Join The Salem Pantry for a pop-up harvest market at Palmer Cove Park on Saturday\, May 30 from 7:30am until 3pm. Volunteers are needed for setup\, food distribution\, registration\, and cleanup. \nSign up online. \n 
URL:https://www.salemvolunteers.org/event/salem-pantry-pop-up-harvest-market-33/
LOCATION:Palmer Cove Park\, Leavitt Street\, Salem\, MA\, 01970\, United States
ORGANIZER;CN="The Salem Pantry":MAILTO:director@thesalempantry.org
GEO:42.51483;-70.8903284
X-APPLE-STRUCTURED-LOCATION;VALUE=URI;X-ADDRESS=Palmer Cove Park Leavitt Street Salem MA 01970 United States;X-APPLE-RADIUS=500;X-TITLE=Leavitt Street:geo:-70.8903284,42.51483
END:VEVENT
BEGIN:VEVENT
DTSTART;TZID=America/New_York:20200529T080000
DTEND;TZID=America/New_York:20200529T123000
DTSTAMP:20260425T024012
CREATED:20200528T145014Z
LAST-MODIFIED:20200528T145014Z
UID:10002757-1590739200-1590755400@www.salemvolunteers.org
SUMMARY:Salem Public Schools grocery packing and distribution
DESCRIPTION:The Salem Pantry is working with the Salem Public Schools in the coming weeks to help supply their families with bags of groceries each week. \nSign up online.
URL:https://www.salemvolunteers.org/event/salem-public-schools-grocery-packing-and-distribution-26/2020-05-29/
LOCATION:Gateways of Peace\, 54 Margin Street\, Salem\, MA\, 01970\, United States
ORGANIZER;CN="The Salem Pantry":MAILTO:director@thesalempantry.org
GEO:42.5185087;-70.8964828
X-APPLE-STRUCTURED-LOCATION;VALUE=URI;X-ADDRESS=Gateways of Peace 54 Margin Street Salem MA 01970 United States;X-APPLE-RADIUS=500;X-TITLE=54 Margin Street:geo:-70.8964828,42.5185087
END:VEVENT
BEGIN:VEVENT
DTSTART;TZID=America/New_York:20200528T080000
DTEND;TZID=America/New_York:20200528T123000
DTSTAMP:20260425T024012
CREATED:20200528T145014Z
LAST-MODIFIED:20200528T145014Z
UID:10002756-1590652800-1590669000@www.salemvolunteers.org
SUMMARY:Salem Public Schools grocery packing and distribution
DESCRIPTION:The Salem Pantry is working with the Salem Public Schools in the coming weeks to help supply their families with bags of groceries each week. \nSign up online.
URL:https://www.salemvolunteers.org/event/salem-public-schools-grocery-packing-and-distribution-26/2020-05-28/
LOCATION:Gateways of Peace\, 54 Margin Street\, Salem\, MA\, 01970\, United States
ORGANIZER;CN="The Salem Pantry":MAILTO:director@thesalempantry.org
GEO:42.5185087;-70.8964828
X-APPLE-STRUCTURED-LOCATION;VALUE=URI;X-ADDRESS=Gateways of Peace 54 Margin Street Salem MA 01970 United States;X-APPLE-RADIUS=500;X-TITLE=54 Margin Street:geo:-70.8964828,42.5185087
END:VEVENT
BEGIN:VEVENT
DTSTART;TZID=America/New_York:20200527T080000
DTEND;TZID=America/New_York:20200527T123000
DTSTAMP:20260425T024012
CREATED:20200528T145014Z
LAST-MODIFIED:20200528T145014Z
UID:10002755-1590566400-1590582600@www.salemvolunteers.org
SUMMARY:Salem Public Schools grocery packing and distribution
DESCRIPTION:The Salem Pantry is working with the Salem Public Schools in the coming weeks to help supply their families with bags of groceries each week. \nSign up online.
URL:https://www.salemvolunteers.org/event/salem-public-schools-grocery-packing-and-distribution-26/2020-05-27/
LOCATION:Gateways of Peace\, 54 Margin Street\, Salem\, MA\, 01970\, United States
ORGANIZER;CN="The Salem Pantry":MAILTO:director@thesalempantry.org
GEO:42.5185087;-70.8964828
X-APPLE-STRUCTURED-LOCATION;VALUE=URI;X-ADDRESS=Gateways of Peace 54 Margin Street Salem MA 01970 United States;X-APPLE-RADIUS=500;X-TITLE=54 Margin Street:geo:-70.8964828,42.5185087
END:VEVENT
BEGIN:VEVENT
DTSTART;TZID=America/New_York:20200527T073000
DTEND;TZID=America/New_York:20200527T150000
DTSTAMP:20260425T024012
CREATED:20200518T204339Z
LAST-MODIFIED:20200518T204339Z
UID:10002752-1590564600-1590591600@www.salemvolunteers.org
SUMMARY:Salem Pantry pop-up harvest market
DESCRIPTION:Join The Salem Pantry for a pop-up harvest market at its Salem State location at 68 Loring Avenue on Wednesday\, May 27 from 7:30am until 3pm. Volunteers are needed for setup\, food distribution\, registration\, and cleanup. \nSign up online. \n 
URL:https://www.salemvolunteers.org/event/salem-pantry-pop-up-harvest-market-32/
LOCATION:68 Loring Avenue\, Salem\, 68 Loring Avenue\, Salem\, MA\, 01970\, United States
ORGANIZER;CN="The Salem Pantry":MAILTO:director@thesalempantry.org
GEO:42.50238;-70.894498
X-APPLE-STRUCTURED-LOCATION;VALUE=URI;X-ADDRESS=68 Loring Avenue Salem 68 Loring Avenue Salem MA 01970 United States;X-APPLE-RADIUS=500;X-TITLE=68 Loring Avenue:geo:-70.894498,42.50238
END:VEVENT
BEGIN:VEVENT
DTSTART;TZID=America/New_York:20200523T073000
DTEND;TZID=America/New_York:20200523T150000
DTSTAMP:20260425T024012
CREATED:20200518T131654Z
LAST-MODIFIED:20200518T131654Z
UID:10002751-1590219000-1590246000@www.salemvolunteers.org
SUMMARY:Salem Pantry pop-up harvest market
DESCRIPTION:Join The Salem Pantry for a pop-up harvest market at Palmer Cove Park on Saturday\, May 23 from 7:30am until 3pm. Volunteers are needed for setup\, food distribution\, registration\, and cleanup. \nSign up online. \n 
URL:https://www.salemvolunteers.org/event/salem-pantry-pop-up-harvest-market-31/
LOCATION:Palmer Cove Park\, Leavitt Street\, Salem\, MA\, 01970\, United States
ORGANIZER;CN="The Salem Pantry":MAILTO:director@thesalempantry.org
GEO:42.51483;-70.8903284
X-APPLE-STRUCTURED-LOCATION;VALUE=URI;X-ADDRESS=Palmer Cove Park Leavitt Street Salem MA 01970 United States;X-APPLE-RADIUS=500;X-TITLE=Leavitt Street:geo:-70.8903284,42.51483
END:VEVENT
BEGIN:VEVENT
DTSTART;TZID=America/New_York:20200522T080000
DTEND;TZID=America/New_York:20200522T113000
DTSTAMP:20260425T024012
CREATED:20200518T131355Z
LAST-MODIFIED:20200518T131355Z
UID:10002750-1590134400-1590147000@www.salemvolunteers.org
SUMMARY:Salem Public Schools grocery packing and distribution
DESCRIPTION:The Salem Pantry is working with the Salem Public Schools in the coming weeks to help supply their families with bags of groceries each week. \nSign up online.
URL:https://www.salemvolunteers.org/event/salem-public-schools-grocery-packing-and-distribution-25/
LOCATION:Gateways of Peace\, 54 Margin Street\, Salem\, MA\, 01970\, United States
ORGANIZER;CN="The Salem Pantry":MAILTO:director@thesalempantry.org
GEO:42.5185087;-70.8964828
X-APPLE-STRUCTURED-LOCATION;VALUE=URI;X-ADDRESS=Gateways of Peace 54 Margin Street Salem MA 01970 United States;X-APPLE-RADIUS=500;X-TITLE=54 Margin Street:geo:-70.8964828,42.5185087
END:VEVENT
BEGIN:VEVENT
DTSTART;TZID=America/New_York:20200521T080000
DTEND;TZID=America/New_York:20200521T120000
DTSTAMP:20260425T024012
CREATED:20200518T131306Z
LAST-MODIFIED:20200518T131306Z
UID:10001995-1590048000-1590062400@www.salemvolunteers.org
SUMMARY:Salem Public Schools grocery packing and distribution
DESCRIPTION:The Salem Pantry is working with the Salem Public Schools in the coming weeks to help supply their families with bags of groceries each week. \nSign up online.
URL:https://www.salemvolunteers.org/event/salem-public-schools-grocery-packing-and-distribution-24/
LOCATION:Gateways of Peace\, 54 Margin Street\, Salem\, MA\, 01970\, United States
ORGANIZER;CN="The Salem Pantry":MAILTO:director@thesalempantry.org
GEO:42.5185087;-70.8964828
X-APPLE-STRUCTURED-LOCATION;VALUE=URI;X-ADDRESS=Gateways of Peace 54 Margin Street Salem MA 01970 United States;X-APPLE-RADIUS=500;X-TITLE=54 Margin Street:geo:-70.8964828,42.5185087
END:VEVENT
BEGIN:VEVENT
DTSTART;TZID=America/New_York:20200520T080000
DTEND;TZID=America/New_York:20200520T123000
DTSTAMP:20260425T024012
CREATED:20200518T131227Z
LAST-MODIFIED:20200518T131449Z
UID:10001994-1589961600-1589977800@www.salemvolunteers.org
SUMMARY:Salem Public Schools grocery packing and distribution
DESCRIPTION:The Salem Pantry is working with the Salem Public Schools in the coming weeks to help supply their families with bags of groceries each week. \nSign up online.
URL:https://www.salemvolunteers.org/event/salem-public-schools-grocery-packing-and-distribution-23/
LOCATION:Gateways of Peace\, 54 Margin Street\, Salem\, MA\, 01970\, United States
ORGANIZER;CN="The Salem Pantry":MAILTO:director@thesalempantry.org
GEO:42.5185087;-70.8964828
X-APPLE-STRUCTURED-LOCATION;VALUE=URI;X-ADDRESS=Gateways of Peace 54 Margin Street Salem MA 01970 United States;X-APPLE-RADIUS=500;X-TITLE=54 Margin Street:geo:-70.8964828,42.5185087
END:VEVENT
BEGIN:VEVENT
DTSTART;TZID=America/New_York:20200518T083000
DTEND;TZID=America/New_York:20200518T143000
DTSTAMP:20260425T024012
CREATED:20200518T131151Z
LAST-MODIFIED:20200518T131151Z
UID:10001993-1589790600-1589812200@www.salemvolunteers.org
SUMMARY:Salem Public Schools grocery packing and distribution
DESCRIPTION:The Salem Pantry is working with the Salem Public Schools in the coming weeks to help supply their families with bags of groceries each week. \nSign up online.
URL:https://www.salemvolunteers.org/event/salem-public-schools-grocery-packing-and-distribution-22/
LOCATION:Gateways of Peace\, 54 Margin Street\, Salem\, MA\, 01970\, United States
ORGANIZER;CN="The Salem Pantry":MAILTO:director@thesalempantry.org
GEO:42.5185087;-70.8964828
X-APPLE-STRUCTURED-LOCATION;VALUE=URI;X-ADDRESS=Gateways of Peace 54 Margin Street Salem MA 01970 United States;X-APPLE-RADIUS=500;X-TITLE=54 Margin Street:geo:-70.8964828,42.5185087
END:VEVENT
BEGIN:VEVENT
DTSTART;TZID=America/New_York:20200515T080000
DTEND;TZID=America/New_York:20200515T113000
DTSTAMP:20260425T024012
CREATED:20200512T011242Z
LAST-MODIFIED:20200512T011242Z
UID:10001780-1589529600-1589542200@www.salemvolunteers.org
SUMMARY:Salem Public Schools grocery packing and distribution
DESCRIPTION:The Salem Pantry is working with the Salem Public Schools in the coming weeks to help supply their families with bags of groceries each week. \nSign up online.
URL:https://www.salemvolunteers.org/event/salem-public-schools-grocery-packing-and-distribution-21/
LOCATION:Gateways of Peace\, 54 Margin Street\, Salem\, MA\, 01970\, United States
ORGANIZER;CN="The Salem Pantry":MAILTO:director@thesalempantry.org
GEO:42.5185087;-70.8964828
X-APPLE-STRUCTURED-LOCATION;VALUE=URI;X-ADDRESS=Gateways of Peace 54 Margin Street Salem MA 01970 United States;X-APPLE-RADIUS=500;X-TITLE=54 Margin Street:geo:-70.8964828,42.5185087
END:VEVENT
BEGIN:VEVENT
DTSTART;TZID=America/New_York:20200514T080000
DTEND;TZID=America/New_York:20200514T120000
DTSTAMP:20260425T024012
CREATED:20200512T011212Z
LAST-MODIFIED:20200512T011212Z
UID:10001782-1589443200-1589457600@www.salemvolunteers.org
SUMMARY:Salem Public Schools grocery packing and distribution
DESCRIPTION:The Salem Pantry is working with the Salem Public Schools in the coming weeks to help supply their families with bags of groceries each week. \nSign up online.
URL:https://www.salemvolunteers.org/event/salem-public-schools-grocery-packing-and-distribution-20/
LOCATION:Gateways of Peace\, 54 Margin Street\, Salem\, MA\, 01970\, United States
ORGANIZER;CN="The Salem Pantry":MAILTO:director@thesalempantry.org
GEO:42.5185087;-70.8964828
X-APPLE-STRUCTURED-LOCATION;VALUE=URI;X-ADDRESS=Gateways of Peace 54 Margin Street Salem MA 01970 United States;X-APPLE-RADIUS=500;X-TITLE=54 Margin Street:geo:-70.8964828,42.5185087
END:VEVENT
BEGIN:VEVENT
DTSTART;TZID=America/New_York:20200513T073000
DTEND;TZID=America/New_York:20200513T163000
DTSTAMP:20260425T024012
CREATED:20200512T011141Z
LAST-MODIFIED:20200512T011141Z
UID:10001781-1589355000-1589387400@www.salemvolunteers.org
SUMMARY:Salem Public Schools grocery packing and distribution
DESCRIPTION:The Salem Pantry is working with the Salem Public Schools in the coming weeks to help supply their families with bags of groceries each week. \nSign up online.
URL:https://www.salemvolunteers.org/event/salem-public-schools-grocery-packing-and-distribution-19/
ORGANIZER;CN="The Salem Pantry":MAILTO:director@thesalempantry.org
END:VEVENT
BEGIN:VEVENT
DTSTART;TZID=America/New_York:20200513T073000
DTEND;TZID=America/New_York:20200513T163000
DTSTAMP:20260425T024012
CREATED:20200504T213304Z
LAST-MODIFIED:20200504T213304Z
UID:10001774-1589355000-1589387400@www.salemvolunteers.org
SUMMARY:Salem Pantry pop-up harvest market
DESCRIPTION:Join The Salem Pantry for a pop-up harvest market at its Salem State University location at 68 Loring Avenue on Wednesday\, May 13 from 7:45am until 4:30pm. Volunteers are needed for setup\, food distribution\, registration\, and cleanup. \nSign up online. \n 
URL:https://www.salemvolunteers.org/event/salem-pantry-pop-up-harvest-market-29/
LOCATION:68 Loring Avenue\, Salem\, 68 Loring Avenue\, Salem\, MA\, 01970\, United States
ORGANIZER;CN="The Salem Pantry":MAILTO:director@thesalempantry.org
GEO:42.50238;-70.894498
X-APPLE-STRUCTURED-LOCATION;VALUE=URI;X-ADDRESS=68 Loring Avenue Salem 68 Loring Avenue Salem MA 01970 United States;X-APPLE-RADIUS=500;X-TITLE=68 Loring Avenue:geo:-70.894498,42.50238
END:VEVENT
BEGIN:VEVENT
DTSTART;TZID=America/New_York:20200512T080000
DTEND;TZID=America/New_York:20200512T120000
DTSTAMP:20260425T024012
CREATED:20200512T011058Z
LAST-MODIFIED:20200512T011058Z
UID:10001779-1589270400-1589284800@www.salemvolunteers.org
SUMMARY:Salem Public Schools grocery packing and distribution
DESCRIPTION:The Salem Pantry is working with the Salem Public Schools in the coming weeks to help supply their families with bags of groceries each week. \nSign up online.
URL:https://www.salemvolunteers.org/event/salem-public-schools-grocery-packing-and-distribution-18/
LOCATION:Gateways of Peace\, 54 Margin Street\, Salem\, MA\, 01970\, United States
ORGANIZER;CN="The Salem Pantry":MAILTO:director@thesalempantry.org
GEO:42.5185087;-70.8964828
X-APPLE-STRUCTURED-LOCATION;VALUE=URI;X-ADDRESS=Gateways of Peace 54 Margin Street Salem MA 01970 United States;X-APPLE-RADIUS=500;X-TITLE=54 Margin Street:geo:-70.8964828,42.5185087
END:VEVENT
BEGIN:VEVENT
DTSTART;TZID=America/New_York:20200511T083000
DTEND;TZID=America/New_York:20200511T143000
DTSTAMP:20260425T024012
CREATED:20200512T011020Z
LAST-MODIFIED:20200512T011020Z
UID:10001778-1589185800-1589207400@www.salemvolunteers.org
SUMMARY:Salem Public Schools grocery packing and distribution
DESCRIPTION:The Salem Pantry is working with the Salem Public Schools in the coming weeks to help supply their families with bags of groceries each week. \nSign up online.
URL:https://www.salemvolunteers.org/event/salem-public-schools-grocery-packing-and-distribution-17/
LOCATION:Gateways of Peace\, 54 Margin Street\, Salem\, MA\, 01970\, United States
ORGANIZER;CN="The Salem Pantry":MAILTO:director@thesalempantry.org
GEO:42.5185087;-70.8964828
X-APPLE-STRUCTURED-LOCATION;VALUE=URI;X-ADDRESS=Gateways of Peace 54 Margin Street Salem MA 01970 United States;X-APPLE-RADIUS=500;X-TITLE=54 Margin Street:geo:-70.8964828,42.5185087
END:VEVENT
BEGIN:VEVENT
DTSTART;TZID=America/New_York:20200509T083000
DTEND;TZID=America/New_York:20200509T143000
DTSTAMP:20260425T024012
CREATED:20200504T213425Z
LAST-MODIFIED:20200504T213425Z
UID:10001775-1589013000-1589034600@www.salemvolunteers.org
SUMMARY:Salem Pantry pop-up harvest market
DESCRIPTION:Join The Salem Pantry for a pop-up harvest market at Palmer Cove Park on Saturday\, May 9 from 8:30am until 2:30pm. Volunteers are needed for setup\, food distribution\, registration\, and cleanup. \nSign up online. \n 
URL:https://www.salemvolunteers.org/event/salem-pantry-pop-up-harvest-market-30/
LOCATION:Palmer Cove Park\, Leavitt Street\, Salem\, MA\, 01970\, United States
ORGANIZER;CN="The Salem Pantry":MAILTO:director@thesalempantry.org
GEO:42.51483;-70.8903284
X-APPLE-STRUCTURED-LOCATION;VALUE=URI;X-ADDRESS=Palmer Cove Park Leavitt Street Salem MA 01970 United States;X-APPLE-RADIUS=500;X-TITLE=Leavitt Street:geo:-70.8903284,42.51483
END:VEVENT
BEGIN:VEVENT
DTSTART;TZID=America/New_York:20200508T080000
DTEND;TZID=America/New_York:20200508T113000
DTSTAMP:20260425T024012
CREATED:20200507T130009Z
LAST-MODIFIED:20200507T130009Z
UID:10001777-1588924800-1588937400@www.salemvolunteers.org
SUMMARY:Salem Public Schools grocery packing and distribution
DESCRIPTION:The Salem Pantry is working with the Salem Public Schools in the coming weeks to help supply their families with bags of groceries each week. \nSign up online.
URL:https://www.salemvolunteers.org/event/salem-public-schools-grocery-packing-and-distribution-16/
LOCATION:Gateways of Peace\, 54 Margin Street\, Salem\, MA\, 01970\, United States
ORGANIZER;CN="The Salem Pantry":MAILTO:director@thesalempantry.org
GEO:42.5185087;-70.8964828
X-APPLE-STRUCTURED-LOCATION;VALUE=URI;X-ADDRESS=Gateways of Peace 54 Margin Street Salem MA 01970 United States;X-APPLE-RADIUS=500;X-TITLE=54 Margin Street:geo:-70.8964828,42.5185087
END:VEVENT
BEGIN:VEVENT
DTSTART;TZID=America/New_York:20200507T080000
DTEND;TZID=America/New_York:20200507T123000
DTSTAMP:20260425T024012
CREATED:20200507T125921Z
LAST-MODIFIED:20200507T125921Z
UID:10001776-1588838400-1588854600@www.salemvolunteers.org
SUMMARY:Salem Public Schools grocery packing and distribution
DESCRIPTION:The Salem Pantry is working with the Salem Public Schools in the coming weeks to help supply their families with bags of groceries each week. \nSign up online.
URL:https://www.salemvolunteers.org/event/salem-public-schools-grocery-packing-and-distribution-15/
LOCATION:Gateways of Peace\, 54 Margin Street\, Salem\, MA\, 01970\, United States
ORGANIZER;CN="The Salem Pantry":MAILTO:director@thesalempantry.org
GEO:42.5185087;-70.8964828
X-APPLE-STRUCTURED-LOCATION;VALUE=URI;X-ADDRESS=Gateways of Peace 54 Margin Street Salem MA 01970 United States;X-APPLE-RADIUS=500;X-TITLE=54 Margin Street:geo:-70.8964828,42.5185087
END:VEVENT
BEGIN:VEVENT
DTSTART;TZID=America/New_York:20200506T080000
DTEND;TZID=America/New_York:20200506T123000
DTSTAMP:20260425T024012
CREATED:20200504T213036Z
LAST-MODIFIED:20200504T213036Z
UID:10001773-1588752000-1588768200@www.salemvolunteers.org
SUMMARY:Salem Public Schools grocery packing and distribution
DESCRIPTION:The Salem Pantry is working with the Salem Public Schools in the coming weeks to help supply their families with bags of groceries each week. \nSign up online.
URL:https://www.salemvolunteers.org/event/salem-public-schools-grocery-packing-and-distribution-14/
LOCATION:Gateways of Peace\, 54 Margin Street\, Salem\, MA\, 01970\, United States
ORGANIZER;CN="The Salem Pantry":MAILTO:director@thesalempantry.org
GEO:42.5185087;-70.8964828
X-APPLE-STRUCTURED-LOCATION;VALUE=URI;X-ADDRESS=Gateways of Peace 54 Margin Street Salem MA 01970 United States;X-APPLE-RADIUS=500;X-TITLE=54 Margin Street:geo:-70.8964828,42.5185087
END:VEVENT
BEGIN:VEVENT
DTSTART;TZID=America/New_York:20200505T080000
DTEND;TZID=America/New_York:20200505T123000
DTSTAMP:20260425T024012
CREATED:20200504T212940Z
LAST-MODIFIED:20200504T212940Z
UID:10001772-1588665600-1588681800@www.salemvolunteers.org
SUMMARY:Salem Public Schools grocery packing and distribution
DESCRIPTION:The Salem Pantry is working with the Salem Public Schools in the coming weeks to help supply their families with bags of groceries each week. \nSign up online.
URL:https://www.salemvolunteers.org/event/salem-public-schools-grocery-packing-and-distribution-13/
LOCATION:Gateways of Peace\, 54 Margin Street\, Salem\, MA\, 01970\, United States
ORGANIZER;CN="The Salem Pantry":MAILTO:director@thesalempantry.org
GEO:42.5185087;-70.8964828
X-APPLE-STRUCTURED-LOCATION;VALUE=URI;X-ADDRESS=Gateways of Peace 54 Margin Street Salem MA 01970 United States;X-APPLE-RADIUS=500;X-TITLE=54 Margin Street:geo:-70.8964828,42.5185087
END:VEVENT
BEGIN:VEVENT
DTSTART;TZID=America/New_York:20200504T103000
DTEND;TZID=America/New_York:20200504T153000
DTSTAMP:20260425T024012
CREATED:20200504T212750Z
LAST-MODIFIED:20200504T212750Z
UID:10001771-1588588200-1588606200@www.salemvolunteers.org
SUMMARY:Salem Public Schools grocery packing and distribution
DESCRIPTION:The Salem Pantry is working with the Salem Public Schools in the coming weeks to help supply their families with bags of groceries each week. \nSign up online.
URL:https://www.salemvolunteers.org/event/salem-public-schools-grocery-packing-and-distribution-12/
LOCATION:Gateways of Peace\, 54 Margin Street\, Salem\, MA\, 01970\, United States
ORGANIZER;CN="The Salem Pantry":MAILTO:director@thesalempantry.org
GEO:42.5185087;-70.8964828
X-APPLE-STRUCTURED-LOCATION;VALUE=URI;X-ADDRESS=Gateways of Peace 54 Margin Street Salem MA 01970 United States;X-APPLE-RADIUS=500;X-TITLE=54 Margin Street:geo:-70.8964828,42.5185087
END:VEVENT
BEGIN:VEVENT
DTSTART;TZID=America/New_York:20200501T080000
DTEND;TZID=America/New_York:20200501T113000
DTSTAMP:20260425T024012
CREATED:20200427T215549Z
LAST-MODIFIED:20200427T215647Z
UID:10001765-1588320000-1588332600@www.salemvolunteers.org
SUMMARY:Salem Public Schools grocery packing and delivery
DESCRIPTION:The Salem Pantry is working with the Salem Public Schools in the coming weeks to help supply their families with bags of groceries each week. \nSign up online.
URL:https://www.salemvolunteers.org/event/salem-public-schools-grocery-packing-and-delivery-5/
LOCATION:Gateways of Peace\, 54 Margin Street\, Salem\, MA\, 01970\, United States
ORGANIZER;CN="The Salem Pantry":MAILTO:director@thesalempantry.org
GEO:42.5185087;-70.8964828
X-APPLE-STRUCTURED-LOCATION;VALUE=URI;X-ADDRESS=Gateways of Peace 54 Margin Street Salem MA 01970 United States;X-APPLE-RADIUS=500;X-TITLE=54 Margin Street:geo:-70.8964828,42.5185087
END:VEVENT
END:VCALENDAR