BEGIN:VCALENDAR
VERSION:2.0
PRODID:-//Salem Volunteers - ECPv6.15.11//NONSGML v1.0//EN
CALSCALE:GREGORIAN
METHOD:PUBLISH
X-WR-CALNAME:Salem Volunteers
X-ORIGINAL-URL:https://www.salemvolunteers.org
X-WR-CALDESC:Events for Salem Volunteers
REFRESH-INTERVAL;VALUE=DURATION:PT1H
X-Robots-Tag:noindex
X-PUBLISHED-TTL:PT1H
BEGIN:VTIMEZONE
TZID:America/New_York
BEGIN:DAYLIGHT
TZOFFSETFROM:-0500
TZOFFSETTO:-0400
TZNAME:EDT
DTSTART:20190310T070000
END:DAYLIGHT
BEGIN:STANDARD
TZOFFSETFROM:-0400
TZOFFSETTO:-0500
TZNAME:EST
DTSTART:20191103T060000
END:STANDARD
BEGIN:DAYLIGHT
TZOFFSETFROM:-0500
TZOFFSETTO:-0400
TZNAME:EDT
DTSTART:20200308T070000
END:DAYLIGHT
BEGIN:STANDARD
TZOFFSETFROM:-0400
TZOFFSETTO:-0500
TZNAME:EST
DTSTART:20201101T060000
END:STANDARD
BEGIN:DAYLIGHT
TZOFFSETFROM:-0500
TZOFFSETTO:-0400
TZNAME:EDT
DTSTART:20210314T070000
END:DAYLIGHT
BEGIN:STANDARD
TZOFFSETFROM:-0400
TZOFFSETTO:-0500
TZNAME:EST
DTSTART:20211107T060000
END:STANDARD
END:VTIMEZONE
BEGIN:VEVENT
DTSTART;TZID=America/New_York:20200824T080000
DTEND;TZID=America/New_York:20200824T123000
DTSTAMP:20260424T223125
CREATED:20200824T153359Z
LAST-MODIFIED:20200824T153359Z
UID:10002859-1598256000-1598272200@www.salemvolunteers.org
SUMMARY:Salem Public Schools grocery packing and distribution
DESCRIPTION:The Salem Pantry is working with the Salem Public Schools to help supply their families with bags of groceries each week. \nSign up online.
URL:https://www.salemvolunteers.org/event/salem-public-schools-grocery-packing-and-distribution-39/2020-08-24/
ORGANIZER;CN="The Salem Pantry":MAILTO:director@thesalempantry.org
END:VEVENT
BEGIN:VEVENT
DTSTART;TZID=America/New_York:20200822T073000
DTEND;TZID=America/New_York:20200822T133000
DTSTAMP:20260424T223125
CREATED:20200817T141157Z
LAST-MODIFIED:20200817T141157Z
UID:10002857-1598081400-1598103000@www.salemvolunteers.org
SUMMARY:Salem Pantry pop-up harvest market
DESCRIPTION:Join The Salem Pantry for a pop-up harvest market at Palmer Cove Park on Saturday\, August 22 from 7:30am until 1:30pm. Volunteers are needed for setup\, food distribution\, registration\, and cleanup. \nSign up online. \n 
URL:https://www.salemvolunteers.org/event/salem-pantry-pop-up-harvest-market-44/
LOCATION:Palmer Cove Park\, Leavitt Street\, Salem\, MA\, 01970\, United States
ORGANIZER;CN="The Salem Pantry":MAILTO:director@thesalempantry.org
GEO:42.51483;-70.8903284
X-APPLE-STRUCTURED-LOCATION;VALUE=URI;X-ADDRESS=Palmer Cove Park Leavitt Street Salem MA 01970 United States;X-APPLE-RADIUS=500;X-TITLE=Leavitt Street:geo:-70.8903284,42.51483
END:VEVENT
BEGIN:VEVENT
DTSTART;TZID=America/New_York:20200821T080000
DTEND;TZID=America/New_York:20200821T123000
DTSTAMP:20260424T223125
CREATED:20200817T141022Z
LAST-MODIFIED:20200817T141022Z
UID:10002856-1597996800-1598013000@www.salemvolunteers.org
SUMMARY:Salem Public Schools grocery packing and distribution
DESCRIPTION:The Salem Pantry is working with the Salem Public Schools to help supply their families with bags of groceries each week. \nSign up online.
URL:https://www.salemvolunteers.org/event/salem-public-schools-grocery-packing-and-distribution-38/2020-08-21/
ORGANIZER;CN="The Salem Pantry":MAILTO:director@thesalempantry.org
END:VEVENT
BEGIN:VEVENT
DTSTART;TZID=America/New_York:20200819T080000
DTEND;TZID=America/New_York:20200819T123000
DTSTAMP:20260424T223125
CREATED:20200817T141022Z
LAST-MODIFIED:20200817T141022Z
UID:10002855-1597824000-1597840200@www.salemvolunteers.org
SUMMARY:Salem Public Schools grocery packing and distribution
DESCRIPTION:The Salem Pantry is working with the Salem Public Schools to help supply their families with bags of groceries each week. \nSign up online.
URL:https://www.salemvolunteers.org/event/salem-public-schools-grocery-packing-and-distribution-38/2020-08-19/
ORGANIZER;CN="The Salem Pantry":MAILTO:director@thesalempantry.org
END:VEVENT
BEGIN:VEVENT
DTSTART;TZID=America/New_York:20200819T073000
DTEND;TZID=America/New_York:20200819T150000
DTSTAMP:20260424T223125
CREATED:20200817T141319Z
LAST-MODIFIED:20200817T141319Z
UID:10002858-1597822200-1597849200@www.salemvolunteers.org
SUMMARY:Salem Pantry pop-up harvest market
DESCRIPTION:Join The Salem Pantry for a pop-up harvest market at its Salem State University location at 68 Loring Avenue on Wednesday\, August 19 from 7:30am until 3pm. Volunteers are needed for setup\, food distribution\, registration\, and cleanup. \nSign up online. \n 
URL:https://www.salemvolunteers.org/event/salem-pantry-pop-up-harvest-market-45/
LOCATION:68 Loring Avenue\, Salem\, 68 Loring Avenue\, Salem\, MA\, 01970\, United States
ORGANIZER;CN="The Salem Pantry":MAILTO:director@thesalempantry.org
GEO:42.50238;-70.894498
X-APPLE-STRUCTURED-LOCATION;VALUE=URI;X-ADDRESS=68 Loring Avenue Salem 68 Loring Avenue Salem MA 01970 United States;X-APPLE-RADIUS=500;X-TITLE=68 Loring Avenue:geo:-70.894498,42.50238
END:VEVENT
BEGIN:VEVENT
DTSTART;TZID=America/New_York:20200817T080000
DTEND;TZID=America/New_York:20200817T123000
DTSTAMP:20260424T223125
CREATED:20200817T141022Z
LAST-MODIFIED:20200817T141022Z
UID:10002854-1597651200-1597667400@www.salemvolunteers.org
SUMMARY:Salem Public Schools grocery packing and distribution
DESCRIPTION:The Salem Pantry is working with the Salem Public Schools to help supply their families with bags of groceries each week. \nSign up online.
URL:https://www.salemvolunteers.org/event/salem-public-schools-grocery-packing-and-distribution-38/2020-08-17/
ORGANIZER;CN="The Salem Pantry":MAILTO:director@thesalempantry.org
END:VEVENT
BEGIN:VEVENT
DTSTART;TZID=America/New_York:20200814T080000
DTEND;TZID=America/New_York:20200814T123000
DTSTAMP:20260424T223125
CREATED:20200810T011641Z
LAST-MODIFIED:20200810T011641Z
UID:10002853-1597392000-1597408200@www.salemvolunteers.org
SUMMARY:Salem Public Schools grocery packing and distribution
DESCRIPTION:The Salem Pantry is working with the Salem Public Schools to help supply their families with bags of groceries each week. \nSign up online.
URL:https://www.salemvolunteers.org/event/salem-public-schools-grocery-packing-and-distribution-37/2020-08-14/
ORGANIZER;CN="The Salem Pantry":MAILTO:director@thesalempantry.org
END:VEVENT
BEGIN:VEVENT
DTSTART;TZID=America/New_York:20200812T080000
DTEND;TZID=America/New_York:20200812T123000
DTSTAMP:20260424T223125
CREATED:20200810T011641Z
LAST-MODIFIED:20200810T011641Z
UID:10002852-1597219200-1597235400@www.salemvolunteers.org
SUMMARY:Salem Public Schools grocery packing and distribution
DESCRIPTION:The Salem Pantry is working with the Salem Public Schools to help supply their families with bags of groceries each week. \nSign up online.
URL:https://www.salemvolunteers.org/event/salem-public-schools-grocery-packing-and-distribution-37/2020-08-12/
ORGANIZER;CN="The Salem Pantry":MAILTO:director@thesalempantry.org
END:VEVENT
BEGIN:VEVENT
DTSTART;TZID=America/New_York:20200810T080000
DTEND;TZID=America/New_York:20200810T123000
DTSTAMP:20260424T223125
CREATED:20200810T011641Z
LAST-MODIFIED:20200810T011641Z
UID:10002851-1597046400-1597062600@www.salemvolunteers.org
SUMMARY:Salem Public Schools grocery packing and distribution
DESCRIPTION:The Salem Pantry is working with the Salem Public Schools to help supply their families with bags of groceries each week. \nSign up online.
URL:https://www.salemvolunteers.org/event/salem-public-schools-grocery-packing-and-distribution-37/2020-08-10/
ORGANIZER;CN="The Salem Pantry":MAILTO:director@thesalempantry.org
END:VEVENT
BEGIN:VEVENT
DTSTART;TZID=America/New_York:20200808T073000
DTEND;TZID=America/New_York:20200808T133000
DTSTAMP:20260424T223125
CREATED:20200803T130345Z
LAST-MODIFIED:20200803T130345Z
UID:10002848-1596871800-1596893400@www.salemvolunteers.org
SUMMARY:Salem Pantry pop-up harvest market
DESCRIPTION:Join The Salem Pantry for a pop-up harvest market at Palmer Cove Park on Saturday\, August 8 from 7:30am until 1:30pm. Volunteers are needed for setup\, food distribution\, registration\, and cleanup. \nSign up online. \n 
URL:https://www.salemvolunteers.org/event/salem-pantry-pop-up-harvest-market-43/
LOCATION:Palmer Cove Park\, Leavitt Street\, Salem\, MA\, 01970\, United States
ORGANIZER;CN="The Salem Pantry":MAILTO:director@thesalempantry.org
GEO:42.51483;-70.8903284
X-APPLE-STRUCTURED-LOCATION;VALUE=URI;X-ADDRESS=Palmer Cove Park Leavitt Street Salem MA 01970 United States;X-APPLE-RADIUS=500;X-TITLE=Leavitt Street:geo:-70.8903284,42.51483
END:VEVENT
BEGIN:VEVENT
DTSTART;TZID=America/New_York:20200807T080000
DTEND;TZID=America/New_York:20200807T123000
DTSTAMP:20260424T223125
CREATED:20200803T130038Z
LAST-MODIFIED:20200803T130038Z
UID:10002847-1596787200-1596803400@www.salemvolunteers.org
SUMMARY:Salem Public Schools grocery packing and distribution
DESCRIPTION:The Salem Pantry is working with the Salem Public Schools to help supply their families with bags of groceries each week. \nSign up online.
URL:https://www.salemvolunteers.org/event/salem-public-schools-grocery-packing-and-distribution-36/2020-08-07/
ORGANIZER;CN="The Salem Pantry":MAILTO:director@thesalempantry.org
END:VEVENT
BEGIN:VEVENT
DTSTART;TZID=America/New_York:20200805T080000
DTEND;TZID=America/New_York:20200805T123000
DTSTAMP:20260424T223125
CREATED:20200803T130038Z
LAST-MODIFIED:20200803T130038Z
UID:10002846-1596614400-1596630600@www.salemvolunteers.org
SUMMARY:Salem Public Schools grocery packing and distribution
DESCRIPTION:The Salem Pantry is working with the Salem Public Schools to help supply their families with bags of groceries each week. \nSign up online.
URL:https://www.salemvolunteers.org/event/salem-public-schools-grocery-packing-and-distribution-36/2020-08-05/
ORGANIZER;CN="The Salem Pantry":MAILTO:director@thesalempantry.org
END:VEVENT
BEGIN:VEVENT
DTSTART;TZID=America/New_York:20200805T073000
DTEND;TZID=America/New_York:20200805T150000
DTSTAMP:20260424T223125
CREATED:20200803T130244Z
LAST-MODIFIED:20200803T130244Z
UID:10002849-1596612600-1596639600@www.salemvolunteers.org
SUMMARY:Salem Pantry pop-up harvest market
DESCRIPTION:Join The Salem Pantry for a pop-up harvest market at its Salem State University location at 68 Loring Avenue on Wednesday\, August 5 from 7:30am until 3pm. Volunteers are needed for setup\, food distribution\, registration\, and cleanup. \nSign up online. \n 
URL:https://www.salemvolunteers.org/event/salem-pantry-pop-up-harvest-market-42/
LOCATION:68 Loring Avenue\, Salem\, 68 Loring Avenue\, Salem\, MA\, 01970\, United States
ORGANIZER;CN="The Salem Pantry":MAILTO:director@thesalempantry.org
GEO:42.50238;-70.894498
X-APPLE-STRUCTURED-LOCATION;VALUE=URI;X-ADDRESS=68 Loring Avenue Salem 68 Loring Avenue Salem MA 01970 United States;X-APPLE-RADIUS=500;X-TITLE=68 Loring Avenue:geo:-70.894498,42.50238
END:VEVENT
BEGIN:VEVENT
DTSTART;TZID=America/New_York:20200803T080000
DTEND;TZID=America/New_York:20200803T123000
DTSTAMP:20260424T223125
CREATED:20200803T130038Z
LAST-MODIFIED:20200803T130038Z
UID:10002845-1596441600-1596457800@www.salemvolunteers.org
SUMMARY:Salem Public Schools grocery packing and distribution
DESCRIPTION:The Salem Pantry is working with the Salem Public Schools to help supply their families with bags of groceries each week. \nSign up online.
URL:https://www.salemvolunteers.org/event/salem-public-schools-grocery-packing-and-distribution-36/2020-08-03/
ORGANIZER;CN="The Salem Pantry":MAILTO:director@thesalempantry.org
END:VEVENT
BEGIN:VEVENT
DTSTART;TZID=America/New_York:20200731T080000
DTEND;TZID=America/New_York:20200731T123000
DTSTAMP:20260424T223125
CREATED:20200727T183959Z
LAST-MODIFIED:20200727T183959Z
UID:10002841-1596182400-1596198600@www.salemvolunteers.org
SUMMARY:Salem Public Schools grocery packing and distribution
DESCRIPTION:The Salem Pantry is working with the Salem Public Schools to help supply their families with bags of groceries each week. \nSign up online.
URL:https://www.salemvolunteers.org/event/salem-public-schools-grocery-packing-and-distribution-35/2020-07-31/
ORGANIZER;CN="The Salem Pantry":MAILTO:director@thesalempantry.org
END:VEVENT
BEGIN:VEVENT
DTSTART;TZID=America/New_York:20200729T080000
DTEND;TZID=America/New_York:20200729T123000
DTSTAMP:20260424T223125
CREATED:20200727T183959Z
LAST-MODIFIED:20200727T183959Z
UID:10002840-1596009600-1596025800@www.salemvolunteers.org
SUMMARY:Salem Public Schools grocery packing and distribution
DESCRIPTION:The Salem Pantry is working with the Salem Public Schools to help supply their families with bags of groceries each week. \nSign up online.
URL:https://www.salemvolunteers.org/event/salem-public-schools-grocery-packing-and-distribution-35/2020-07-29/
ORGANIZER;CN="The Salem Pantry":MAILTO:director@thesalempantry.org
END:VEVENT
BEGIN:VEVENT
DTSTART;TZID=America/New_York:20200727T080000
DTEND;TZID=America/New_York:20200727T123000
DTSTAMP:20260424T223125
CREATED:20200727T183959Z
LAST-MODIFIED:20200727T183959Z
UID:10002839-1595836800-1595853000@www.salemvolunteers.org
SUMMARY:Salem Public Schools grocery packing and distribution
DESCRIPTION:The Salem Pantry is working with the Salem Public Schools to help supply their families with bags of groceries each week. \nSign up online.
URL:https://www.salemvolunteers.org/event/salem-public-schools-grocery-packing-and-distribution-35/2020-07-27/
ORGANIZER;CN="The Salem Pantry":MAILTO:director@thesalempantry.org
END:VEVENT
BEGIN:VEVENT
DTSTART;TZID=America/New_York:20200725T073000
DTEND;TZID=America/New_York:20200725T133000
DTSTAMP:20260424T223125
CREATED:20200720T143946Z
LAST-MODIFIED:20200720T143946Z
UID:10002835-1595662200-1595683800@www.salemvolunteers.org
SUMMARY:Salem Pantry pop-up harvest market
DESCRIPTION:Join The Salem Pantry for a pop-up harvest market at Palmer Cove Park on Saturday\, July 25 from 7:30am until 1:30pm. Volunteers are needed for setup\, food distribution\, registration\, and cleanup. \nSign up online. \n 
URL:https://www.salemvolunteers.org/event/salem-pantry-pop-up-harvest-market-41/
LOCATION:Palmer Cove Park\, Leavitt Street\, Salem\, MA\, 01970\, United States
ORGANIZER;CN="The Salem Pantry":MAILTO:director@thesalempantry.org
GEO:42.51483;-70.8903284
X-APPLE-STRUCTURED-LOCATION;VALUE=URI;X-ADDRESS=Palmer Cove Park Leavitt Street Salem MA 01970 United States;X-APPLE-RADIUS=500;X-TITLE=Leavitt Street:geo:-70.8903284,42.51483
END:VEVENT
BEGIN:VEVENT
DTSTART;TZID=America/New_York:20200724T080000
DTEND;TZID=America/New_York:20200724T123000
DTSTAMP:20260424T223125
CREATED:20200720T144222Z
LAST-MODIFIED:20200720T144222Z
UID:10002838-1595577600-1595593800@www.salemvolunteers.org
SUMMARY:Salem Public Schools grocery packing and distribution
DESCRIPTION:The Salem Pantry is working with the Salem Public Schools to help supply their families with bags of groceries each week. \nSign up online.
URL:https://www.salemvolunteers.org/event/salem-public-schools-grocery-packing-and-distribution-34/2020-07-24/
ORGANIZER;CN="The Salem Pantry":MAILTO:director@thesalempantry.org
END:VEVENT
BEGIN:VEVENT
DTSTART;TZID=America/New_York:20200722T080000
DTEND;TZID=America/New_York:20200722T123000
DTSTAMP:20260424T223125
CREATED:20200720T144222Z
LAST-MODIFIED:20200720T144222Z
UID:10002837-1595404800-1595421000@www.salemvolunteers.org
SUMMARY:Salem Public Schools grocery packing and distribution
DESCRIPTION:The Salem Pantry is working with the Salem Public Schools to help supply their families with bags of groceries each week. \nSign up online.
URL:https://www.salemvolunteers.org/event/salem-public-schools-grocery-packing-and-distribution-34/2020-07-22/
ORGANIZER;CN="The Salem Pantry":MAILTO:director@thesalempantry.org
END:VEVENT
BEGIN:VEVENT
DTSTART;TZID=America/New_York:20200722T073000
DTEND;TZID=America/New_York:20200722T150000
DTSTAMP:20260424T223125
CREATED:20200720T143838Z
LAST-MODIFIED:20200720T144023Z
UID:10002834-1595403000-1595430000@www.salemvolunteers.org
SUMMARY:Salem Pantry pop-up harvest market
DESCRIPTION:Join The Salem Pantry for a pop-up harvest market at its Salem State University location at 68 Loring Avenue on Wednesday\, July 22 from 7:30am until 3pm. Volunteers are needed for setup\, food distribution\, registration\, and cleanup. \nSign up online. \n 
URL:https://www.salemvolunteers.org/event/salem-pantry-pop-up-harvest-market-40/
LOCATION:68 Loring Avenue\, Salem\, 68 Loring Avenue\, Salem\, MA\, 01970\, United States
ORGANIZER;CN="The Salem Pantry":MAILTO:director@thesalempantry.org
GEO:42.50238;-70.894498
X-APPLE-STRUCTURED-LOCATION;VALUE=URI;X-ADDRESS=68 Loring Avenue Salem 68 Loring Avenue Salem MA 01970 United States;X-APPLE-RADIUS=500;X-TITLE=68 Loring Avenue:geo:-70.894498,42.50238
END:VEVENT
BEGIN:VEVENT
DTSTART;TZID=America/New_York:20200720T080000
DTEND;TZID=America/New_York:20200720T123000
DTSTAMP:20260424T223125
CREATED:20200720T144222Z
LAST-MODIFIED:20200720T144222Z
UID:10002836-1595232000-1595248200@www.salemvolunteers.org
SUMMARY:Salem Public Schools grocery packing and distribution
DESCRIPTION:The Salem Pantry is working with the Salem Public Schools to help supply their families with bags of groceries each week. \nSign up online.
URL:https://www.salemvolunteers.org/event/salem-public-schools-grocery-packing-and-distribution-34/2020-07-20/
ORGANIZER;CN="The Salem Pantry":MAILTO:director@thesalempantry.org
END:VEVENT
BEGIN:VEVENT
DTSTART;TZID=America/New_York:20200717T080000
DTEND;TZID=America/New_York:20200717T123000
DTSTAMP:20260424T223125
CREATED:20200713T160729Z
LAST-MODIFIED:20200713T160729Z
UID:10002833-1594972800-1594989000@www.salemvolunteers.org
SUMMARY:Salem Public Schools grocery packing and distribution
DESCRIPTION:The Salem Pantry is working with the Salem Public Schools to help supply their families with bags of groceries each week. \nSign up online.
URL:https://www.salemvolunteers.org/event/salem-public-schools-grocery-packing-and-distribution-33/2020-07-17/
LOCATION:Shetland Park
ORGANIZER;CN="The Salem Pantry":MAILTO:director@thesalempantry.org
END:VEVENT
BEGIN:VEVENT
DTSTART;TZID=America/New_York:20200715T080000
DTEND;TZID=America/New_York:20200715T123000
DTSTAMP:20260424T223125
CREATED:20200713T160729Z
LAST-MODIFIED:20200713T160729Z
UID:10002832-1594800000-1594816200@www.salemvolunteers.org
SUMMARY:Salem Public Schools grocery packing and distribution
DESCRIPTION:The Salem Pantry is working with the Salem Public Schools to help supply their families with bags of groceries each week. \nSign up online.
URL:https://www.salemvolunteers.org/event/salem-public-schools-grocery-packing-and-distribution-33/2020-07-15/
LOCATION:Shetland Park
ORGANIZER;CN="The Salem Pantry":MAILTO:director@thesalempantry.org
END:VEVENT
BEGIN:VEVENT
DTSTART;TZID=America/New_York:20200713T080000
DTEND;TZID=America/New_York:20200713T123000
DTSTAMP:20260424T223125
CREATED:20200713T160729Z
LAST-MODIFIED:20200713T160729Z
UID:10002831-1594627200-1594643400@www.salemvolunteers.org
SUMMARY:Salem Public Schools grocery packing and distribution
DESCRIPTION:The Salem Pantry is working with the Salem Public Schools to help supply their families with bags of groceries each week. \nSign up online.
URL:https://www.salemvolunteers.org/event/salem-public-schools-grocery-packing-and-distribution-33/2020-07-13/
LOCATION:Shetland Park
ORGANIZER;CN="The Salem Pantry":MAILTO:director@thesalempantry.org
END:VEVENT
BEGIN:VEVENT
DTSTART;TZID=America/New_York:20200711T073000
DTEND;TZID=America/New_York:20200711T133000
DTSTAMP:20260424T223125
CREATED:20200706T133516Z
LAST-MODIFIED:20200706T133516Z
UID:10001010-1594452600-1594474200@www.salemvolunteers.org
SUMMARY:Salem Pantry pop-up harvest market
DESCRIPTION:Join The Salem Pantry for a pop-up harvest market at Palmer Cove Park on Saturday\, July 11 from 7:30am until 1:30pm. Volunteers are needed for setup\, food distribution\, registration\, and cleanup. \nSign up online. \n 
URL:https://www.salemvolunteers.org/event/salem-pantry-pop-up-harvest-market-39/
LOCATION:Palmer Cove Park\, Leavitt Street\, Salem\, MA\, 01970\, United States
ORGANIZER;CN="The Salem Pantry":MAILTO:director@thesalempantry.org
GEO:42.51483;-70.8903284
X-APPLE-STRUCTURED-LOCATION;VALUE=URI;X-ADDRESS=Palmer Cove Park Leavitt Street Salem MA 01970 United States;X-APPLE-RADIUS=500;X-TITLE=Leavitt Street:geo:-70.8903284,42.51483
END:VEVENT
BEGIN:VEVENT
DTSTART;TZID=America/New_York:20200710T080000
DTEND;TZID=America/New_York:20200710T123000
DTSTAMP:20260424T223125
CREATED:20200706T133713Z
LAST-MODIFIED:20200706T133713Z
UID:10002785-1594368000-1594384200@www.salemvolunteers.org
SUMMARY:Salem Public Schools grocery packing and distribution
DESCRIPTION:The Salem Pantry is working with the Salem Public Schools to help supply their families with bags of groceries each week. \nSign up online.
URL:https://www.salemvolunteers.org/event/salem-public-schools-grocery-packing-and-distribution-32/2020-07-10/
ORGANIZER;CN="The Salem Pantry":MAILTO:director@thesalempantry.org
END:VEVENT
BEGIN:VEVENT
DTSTART;TZID=America/New_York:20200708T080000
DTEND;TZID=America/New_York:20200708T123000
DTSTAMP:20260424T223125
CREATED:20200706T133713Z
LAST-MODIFIED:20200706T133713Z
UID:10002784-1594195200-1594211400@www.salemvolunteers.org
SUMMARY:Salem Public Schools grocery packing and distribution
DESCRIPTION:The Salem Pantry is working with the Salem Public Schools to help supply their families with bags of groceries each week. \nSign up online.
URL:https://www.salemvolunteers.org/event/salem-public-schools-grocery-packing-and-distribution-32/2020-07-08/
ORGANIZER;CN="The Salem Pantry":MAILTO:director@thesalempantry.org
END:VEVENT
BEGIN:VEVENT
DTSTART;TZID=America/New_York:20200708T073000
DTEND;TZID=America/New_York:20200708T150000
DTSTAMP:20260424T223125
CREATED:20200706T133351Z
LAST-MODIFIED:20200706T133351Z
UID:10001009-1594193400-1594220400@www.salemvolunteers.org
SUMMARY:Salem Pantry pop-up harvest market
DESCRIPTION:Join The Salem Pantry for a pop-up harvest market at 68 Loring Avenue in Salem on Wednesday\, July 8 from 7:30am until 3pm. Volunteers are needed for setup\, food distribution\, registration\, and cleanup. \nSign up online. \n 
URL:https://www.salemvolunteers.org/event/salem-pantry-pop-up-harvest-market-38/
LOCATION:68 Loring Avenue\, Salem\, 68 Loring Avenue\, Salem\, MA\, 01970\, United States
ORGANIZER;CN="The Salem Pantry":MAILTO:director@thesalempantry.org
GEO:42.50238;-70.894498
X-APPLE-STRUCTURED-LOCATION;VALUE=URI;X-ADDRESS=68 Loring Avenue Salem 68 Loring Avenue Salem MA 01970 United States;X-APPLE-RADIUS=500;X-TITLE=68 Loring Avenue:geo:-70.894498,42.50238
END:VEVENT
BEGIN:VEVENT
DTSTART;TZID=America/New_York:20200706T080000
DTEND;TZID=America/New_York:20200706T123000
DTSTAMP:20260424T223125
CREATED:20200706T133713Z
LAST-MODIFIED:20200706T133713Z
UID:10002783-1594022400-1594038600@www.salemvolunteers.org
SUMMARY:Salem Public Schools grocery packing and distribution
DESCRIPTION:The Salem Pantry is working with the Salem Public Schools to help supply their families with bags of groceries each week. \nSign up online.
URL:https://www.salemvolunteers.org/event/salem-public-schools-grocery-packing-and-distribution-32/2020-07-06/
ORGANIZER;CN="The Salem Pantry":MAILTO:director@thesalempantry.org
END:VEVENT
END:VCALENDAR