BEGIN:VCALENDAR
VERSION:2.0
PRODID:-//Salem Volunteers - ECPv6.15.11//NONSGML v1.0//EN
CALSCALE:GREGORIAN
METHOD:PUBLISH
X-WR-CALNAME:Salem Volunteers
X-ORIGINAL-URL:https://www.salemvolunteers.org
X-WR-CALDESC:Events for Salem Volunteers
REFRESH-INTERVAL;VALUE=DURATION:PT1H
X-Robots-Tag:noindex
X-PUBLISHED-TTL:PT1H
BEGIN:VTIMEZONE
TZID:America/New_York
BEGIN:DAYLIGHT
TZOFFSETFROM:-0500
TZOFFSETTO:-0400
TZNAME:EDT
DTSTART:20190310T070000
END:DAYLIGHT
BEGIN:STANDARD
TZOFFSETFROM:-0400
TZOFFSETTO:-0500
TZNAME:EST
DTSTART:20191103T060000
END:STANDARD
BEGIN:DAYLIGHT
TZOFFSETFROM:-0500
TZOFFSETTO:-0400
TZNAME:EDT
DTSTART:20200308T070000
END:DAYLIGHT
BEGIN:STANDARD
TZOFFSETFROM:-0400
TZOFFSETTO:-0500
TZNAME:EST
DTSTART:20201101T060000
END:STANDARD
BEGIN:DAYLIGHT
TZOFFSETFROM:-0500
TZOFFSETTO:-0400
TZNAME:EDT
DTSTART:20210314T070000
END:DAYLIGHT
BEGIN:STANDARD
TZOFFSETFROM:-0400
TZOFFSETTO:-0500
TZNAME:EST
DTSTART:20211107T060000
END:STANDARD
END:VTIMEZONE
BEGIN:VEVENT
DTSTART;TZID=America/New_York:20201016T080000
DTEND;TZID=America/New_York:20201016T103000
DTSTAMP:20260424T150351
CREATED:20201013T221419Z
LAST-MODIFIED:20201013T221419Z
UID:10002889-1602835200-1602844200@www.salemvolunteers.org
SUMMARY:Salem Public Schools grocery packing and distribution
DESCRIPTION:The Salem Pantry is working with the Salem Public Schools to help supply their families with bags of groceries each week. \nSign up online.
URL:https://www.salemvolunteers.org/event/salem-public-schools-grocery-packing-and-distribution-46/2020-10-16/
ORGANIZER;CN="The Salem Pantry":MAILTO:director@thesalempantry.org
END:VEVENT
BEGIN:VEVENT
DTSTART;TZID=America/New_York:20201015T100000
DTEND;TZID=America/New_York:20201015T170000
DTSTAMP:20260424T150351
CREATED:20201013T221419Z
LAST-MODIFIED:20201013T221419Z
UID:10002888-1602756000-1602781200@www.salemvolunteers.org
SUMMARY:Salem Public Schools grocery packing and distribution
DESCRIPTION:The Salem Pantry is working with the Salem Public Schools to help supply their families with bags of groceries each week. \nSign up online.
URL:https://www.salemvolunteers.org/event/salem-public-schools-grocery-packing-and-distribution-46/2020-10-15/
ORGANIZER;CN="The Salem Pantry":MAILTO:director@thesalempantry.org
END:VEVENT
BEGIN:VEVENT
DTSTART;TZID=America/New_York:20201014T100000
DTEND;TZID=America/New_York:20201014T120000
DTSTAMP:20260424T150351
CREATED:20201013T221419Z
LAST-MODIFIED:20201013T221419Z
UID:10002887-1602669600-1602676800@www.salemvolunteers.org
SUMMARY:Salem Public Schools grocery packing and distribution
DESCRIPTION:The Salem Pantry is working with the Salem Public Schools to help supply their families with bags of groceries each week. \nSign up online.
URL:https://www.salemvolunteers.org/event/salem-public-schools-grocery-packing-and-distribution-46/2020-10-14/
ORGANIZER;CN="The Salem Pantry":MAILTO:director@thesalempantry.org
END:VEVENT
BEGIN:VEVENT
DTSTART;TZID=America/New_York:20201014T073000
DTEND;TZID=America/New_York:20201014T140000
DTSTAMP:20260424T150351
CREATED:20201013T220929Z
LAST-MODIFIED:20201013T220929Z
UID:10001095-1602660600-1602684000@www.salemvolunteers.org
SUMMARY:Salem Pantry pop-up market
DESCRIPTION:Join The Salem Pantry for a pop-up market at its Salem State University location at 68 Loring Avenue from 7:30am until 2pm. Volunteers are needed for setup\, food distribution\, registration\, and cleanup. \nSign up online. \n 
URL:https://www.salemvolunteers.org/event/salem-pantry-pop-up-market-4/
LOCATION:68 Loring Avenue\, Salem\, 68 Loring Avenue\, Salem\, MA\, 01970\, United States
ORGANIZER;CN="The Salem Pantry":MAILTO:director@thesalempantry.org
GEO:42.50238;-70.894498
X-APPLE-STRUCTURED-LOCATION;VALUE=URI;X-ADDRESS=68 Loring Avenue Salem 68 Loring Avenue Salem MA 01970 United States;X-APPLE-RADIUS=500;X-TITLE=68 Loring Avenue:geo:-70.894498,42.50238
END:VEVENT
BEGIN:VEVENT
DTSTART;TZID=America/New_York:20201010T073000
DTEND;TZID=America/New_York:20201010T133000
DTSTAMP:20260424T150351
CREATED:20201005T180141Z
LAST-MODIFIED:20201005T180141Z
UID:10001086-1602315000-1602336600@www.salemvolunteers.org
SUMMARY:Salem Pantry pop-up market
DESCRIPTION:Join The Salem Pantry for a pop-up market at Palmer Cover Park on Saturday\, October 10 from 7:30am until 1:30pm. Volunteers are needed for setup\, food distribution\, registration\, and cleanup. \nSign up online. \n 
URL:https://www.salemvolunteers.org/event/salem-pantry-pop-up-market-3/
LOCATION:Palmer Cove Park\, Leavitt Street\, Salem\, MA\, 01970\, United States
ORGANIZER;CN="The Salem Pantry":MAILTO:director@thesalempantry.org
GEO:42.51483;-70.8903284
X-APPLE-STRUCTURED-LOCATION;VALUE=URI;X-ADDRESS=Palmer Cove Park Leavitt Street Salem MA 01970 United States;X-APPLE-RADIUS=500;X-TITLE=Leavitt Street:geo:-70.8903284,42.51483
END:VEVENT
BEGIN:VEVENT
DTSTART;TZID=America/New_York:20201009T080000
DTEND;TZID=America/New_York:20201009T103000
DTSTAMP:20260424T150351
CREATED:20201005T180544Z
LAST-MODIFIED:20201005T180544Z
UID:10001091-1602230400-1602239400@www.salemvolunteers.org
SUMMARY:Salem Public Schools grocery packing and distribution
DESCRIPTION:The Salem Pantry is working with the Salem Public Schools to help supply their families with bags of groceries each week. \nSign up online.
URL:https://www.salemvolunteers.org/event/salem-public-schools-grocery-packing-and-distribution-45/2020-10-09/
ORGANIZER;CN="The Salem Pantry":MAILTO:director@thesalempantry.org
END:VEVENT
BEGIN:VEVENT
DTSTART;TZID=America/New_York:20201008T100000
DTEND;TZID=America/New_York:20201008T170000
DTSTAMP:20260424T150351
CREATED:20201005T180544Z
LAST-MODIFIED:20201005T180544Z
UID:10001090-1602151200-1602176400@www.salemvolunteers.org
SUMMARY:Salem Public Schools grocery packing and distribution
DESCRIPTION:The Salem Pantry is working with the Salem Public Schools to help supply their families with bags of groceries each week. \nSign up online.
URL:https://www.salemvolunteers.org/event/salem-public-schools-grocery-packing-and-distribution-45/2020-10-08/
ORGANIZER;CN="The Salem Pantry":MAILTO:director@thesalempantry.org
END:VEVENT
BEGIN:VEVENT
DTSTART;TZID=America/New_York:20201007T100000
DTEND;TZID=America/New_York:20201007T120000
DTSTAMP:20260424T150351
CREATED:20201005T180544Z
LAST-MODIFIED:20201005T180544Z
UID:10001089-1602064800-1602072000@www.salemvolunteers.org
SUMMARY:Salem Public Schools grocery packing and distribution
DESCRIPTION:The Salem Pantry is working with the Salem Public Schools to help supply their families with bags of groceries each week. \nSign up online.
URL:https://www.salemvolunteers.org/event/salem-public-schools-grocery-packing-and-distribution-45/2020-10-07/
ORGANIZER;CN="The Salem Pantry":MAILTO:director@thesalempantry.org
END:VEVENT
BEGIN:VEVENT
DTSTART;TZID=America/New_York:20201007T073000
DTEND;TZID=America/New_York:20201007T140000
DTSTAMP:20260424T150351
CREATED:20201005T180000Z
LAST-MODIFIED:20201005T180000Z
UID:10001083-1602055800-1602079200@www.salemvolunteers.org
SUMMARY:Salem Pantry pop-up market
DESCRIPTION:Join The Salem Pantry for a pop-up market at its Salem State University location at 68 Loring Avenue on Wednesday\, October 7 from 7:30am until 2pm. Volunteers are needed for setup\, food distribution\, registration\, and cleanup. \nSign up online. \n 
URL:https://www.salemvolunteers.org/event/salem-pantry-pop-up-market-2/
LOCATION:68 Loring Avenue\, Salem\, 68 Loring Avenue\, Salem\, MA\, 01970\, United States
ORGANIZER;CN="The Salem Pantry":MAILTO:director@thesalempantry.org
GEO:42.50238;-70.894498
X-APPLE-STRUCTURED-LOCATION;VALUE=URI;X-ADDRESS=68 Loring Avenue Salem 68 Loring Avenue Salem MA 01970 United States;X-APPLE-RADIUS=500;X-TITLE=68 Loring Avenue:geo:-70.894498,42.50238
END:VEVENT
BEGIN:VEVENT
DTSTART;TZID=America/New_York:20201005T093000
DTEND;TZID=America/New_York:20201005T163000
DTSTAMP:20260424T150351
CREATED:20201005T180544Z
LAST-MODIFIED:20201005T180544Z
UID:10001088-1601890200-1601915400@www.salemvolunteers.org
SUMMARY:Salem Public Schools grocery packing and distribution
DESCRIPTION:The Salem Pantry is working with the Salem Public Schools to help supply their families with bags of groceries each week. \nSign up online.
URL:https://www.salemvolunteers.org/event/salem-public-schools-grocery-packing-and-distribution-45/2020-10-05/
ORGANIZER;CN="The Salem Pantry":MAILTO:director@thesalempantry.org
END:VEVENT
BEGIN:VEVENT
DTSTART;TZID=America/New_York:20201002T080000
DTEND;TZID=America/New_York:20201002T103000
DTSTAMP:20260424T150351
CREATED:20200928T155602Z
LAST-MODIFIED:20200928T155602Z
UID:10001079-1601625600-1601634600@www.salemvolunteers.org
SUMMARY:Salem Public Schools grocery packing and distribution
DESCRIPTION:The Salem Pantry is working with the Salem Public Schools to help supply their families with bags of groceries each week. \nSign up online.
URL:https://www.salemvolunteers.org/event/salem-public-schools-grocery-packing-and-distribution-44/2020-10-02/
ORGANIZER;CN="The Salem Pantry":MAILTO:director@thesalempantry.org
END:VEVENT
BEGIN:VEVENT
DTSTART;TZID=America/New_York:20201001T100000
DTEND;TZID=America/New_York:20201001T170000
DTSTAMP:20260424T150351
CREATED:20200928T155602Z
LAST-MODIFIED:20200928T155602Z
UID:10001078-1601546400-1601571600@www.salemvolunteers.org
SUMMARY:Salem Public Schools grocery packing and distribution
DESCRIPTION:The Salem Pantry is working with the Salem Public Schools to help supply their families with bags of groceries each week. \nSign up online.
URL:https://www.salemvolunteers.org/event/salem-public-schools-grocery-packing-and-distribution-44/2020-10-01/
ORGANIZER;CN="The Salem Pantry":MAILTO:director@thesalempantry.org
END:VEVENT
BEGIN:VEVENT
DTSTART;TZID=America/New_York:20200930T100000
DTEND;TZID=America/New_York:20200930T120000
DTSTAMP:20260424T150351
CREATED:20200928T155602Z
LAST-MODIFIED:20200928T155602Z
UID:10001077-1601460000-1601467200@www.salemvolunteers.org
SUMMARY:Salem Public Schools grocery packing and distribution
DESCRIPTION:The Salem Pantry is working with the Salem Public Schools to help supply their families with bags of groceries each week. \nSign up online.
URL:https://www.salemvolunteers.org/event/salem-public-schools-grocery-packing-and-distribution-44/2020-09-30/
ORGANIZER;CN="The Salem Pantry":MAILTO:director@thesalempantry.org
END:VEVENT
BEGIN:VEVENT
DTSTART;TZID=America/New_York:20200930T073000
DTEND;TZID=America/New_York:20200930T140000
DTSTAMP:20260424T150351
CREATED:20200928T155804Z
LAST-MODIFIED:20200928T155804Z
UID:10001081-1601451000-1601474400@www.salemvolunteers.org
SUMMARY:Salem Pantry pop-up market
DESCRIPTION:Join The Salem Pantry for a pop-up market at its Salem State University location at 68 Loring Avenue on Wednesday\, September 30 from 7:30am until 2pm. Volunteers are needed for setup\, food distribution\, registration\, and cleanup. \nSign up online. \n 
URL:https://www.salemvolunteers.org/event/salem-pantry-pop-up-market/
LOCATION:68 Loring Avenue\, Salem\, 68 Loring Avenue\, Salem\, MA\, 01970\, United States
ORGANIZER;CN="The Salem Pantry":MAILTO:director@thesalempantry.org
GEO:42.50238;-70.894498
X-APPLE-STRUCTURED-LOCATION;VALUE=URI;X-ADDRESS=68 Loring Avenue Salem 68 Loring Avenue Salem MA 01970 United States;X-APPLE-RADIUS=500;X-TITLE=68 Loring Avenue:geo:-70.894498,42.50238
END:VEVENT
BEGIN:VEVENT
DTSTART;TZID=America/New_York:20200928T110000
DTEND;TZID=America/New_York:20200928T163000
DTSTAMP:20260424T150351
CREATED:20200928T155602Z
LAST-MODIFIED:20200928T155602Z
UID:10001076-1601290800-1601310600@www.salemvolunteers.org
SUMMARY:Salem Public Schools grocery packing and distribution
DESCRIPTION:The Salem Pantry is working with the Salem Public Schools to help supply their families with bags of groceries each week. \nSign up online.
URL:https://www.salemvolunteers.org/event/salem-public-schools-grocery-packing-and-distribution-44/2020-09-28/
ORGANIZER;CN="The Salem Pantry":MAILTO:director@thesalempantry.org
END:VEVENT
BEGIN:VEVENT
DTSTART;TZID=America/New_York:20200926T073000
DTEND;TZID=America/New_York:20200926T133000
DTSTAMP:20260424T150351
CREATED:20200914T173554Z
LAST-MODIFIED:20200921T171041Z
UID:10002885-1601105400-1601127000@www.salemvolunteers.org
SUMMARY:Salem Pantry pop-up market
DESCRIPTION:Join The Salem Pantry for a pop-up market at Palmer Cove Park on Saturday\, September 26 from 7:30am until 1:30pm. Volunteers are needed for setup\, food distribution\, registration\, and cleanup. \nSign up online. \n 
URL:https://www.salemvolunteers.org/event/salem-pantry-pop-up-harvest-market-51/
LOCATION:Palmer Cove Park\, Leavitt Street\, Salem\, MA\, 01970\, United States
ORGANIZER;CN="The Salem Pantry":MAILTO:director@thesalempantry.org
GEO:42.51483;-70.8903284
X-APPLE-STRUCTURED-LOCATION;VALUE=URI;X-ADDRESS=Palmer Cove Park Leavitt Street Salem MA 01970 United States;X-APPLE-RADIUS=500;X-TITLE=Leavitt Street:geo:-70.8903284,42.51483
END:VEVENT
BEGIN:VEVENT
DTSTART;TZID=America/New_York:20200925T080000
DTEND;TZID=America/New_York:20200925T163000
DTSTAMP:20260424T150351
CREATED:20200921T171154Z
LAST-MODIFIED:20200921T171154Z
UID:10001074-1601020800-1601051400@www.salemvolunteers.org
SUMMARY:Salem Public Schools grocery packing and distribution
DESCRIPTION:The Salem Pantry is working with the Salem Public Schools to help supply their families with bags of groceries each week. \nSign up online.
URL:https://www.salemvolunteers.org/event/salem-public-schools-grocery-packing-and-distribution-43/2020-09-25/
ORGANIZER;CN="The Salem Pantry":MAILTO:director@thesalempantry.org
END:VEVENT
BEGIN:VEVENT
DTSTART;TZID=America/New_York:20200923T080000
DTEND;TZID=America/New_York:20200923T163000
DTSTAMP:20260424T150351
CREATED:20200921T171154Z
LAST-MODIFIED:20200921T171154Z
UID:10001073-1600848000-1600878600@www.salemvolunteers.org
SUMMARY:Salem Public Schools grocery packing and distribution
DESCRIPTION:The Salem Pantry is working with the Salem Public Schools to help supply their families with bags of groceries each week. \nSign up online.
URL:https://www.salemvolunteers.org/event/salem-public-schools-grocery-packing-and-distribution-43/2020-09-23/
ORGANIZER;CN="The Salem Pantry":MAILTO:director@thesalempantry.org
END:VEVENT
BEGIN:VEVENT
DTSTART;TZID=America/New_York:20200923T073000
DTEND;TZID=America/New_York:20200923T140000
DTSTAMP:20260424T150351
CREATED:20200921T171014Z
LAST-MODIFIED:20200921T171036Z
UID:10001070-1600846200-1600869600@www.salemvolunteers.org
SUMMARY:Salem Pantry pop-up market
DESCRIPTION:Join The Salem Pantry for a pop-up market at its Salem State University location at 68 Loring Avenue on Wednesday\, September 23 from 7:30am until 2pm. Volunteers are needed for setup\, food distribution\, registration\, and cleanup. \nSign up online. \n 
URL:https://www.salemvolunteers.org/event/salem-pantry-pop-up/
LOCATION:68 Loring Avenue\, Salem\, 68 Loring Avenue\, Salem\, MA\, 01970\, United States
ORGANIZER;CN="The Salem Pantry":MAILTO:director@thesalempantry.org
GEO:42.50238;-70.894498
X-APPLE-STRUCTURED-LOCATION;VALUE=URI;X-ADDRESS=68 Loring Avenue Salem 68 Loring Avenue Salem MA 01970 United States;X-APPLE-RADIUS=500;X-TITLE=68 Loring Avenue:geo:-70.894498,42.50238
END:VEVENT
BEGIN:VEVENT
DTSTART;TZID=America/New_York:20200921T080000
DTEND;TZID=America/New_York:20200921T163000
DTSTAMP:20260424T150351
CREATED:20200921T171154Z
LAST-MODIFIED:20200921T171154Z
UID:10001072-1600675200-1600705800@www.salemvolunteers.org
SUMMARY:Salem Public Schools grocery packing and distribution
DESCRIPTION:The Salem Pantry is working with the Salem Public Schools to help supply their families with bags of groceries each week. \nSign up online.
URL:https://www.salemvolunteers.org/event/salem-public-schools-grocery-packing-and-distribution-43/2020-09-21/
ORGANIZER;CN="The Salem Pantry":MAILTO:director@thesalempantry.org
END:VEVENT
BEGIN:VEVENT
DTSTART;TZID=America/New_York:20200918T080000
DTEND;TZID=America/New_York:20200918T163000
DTSTAMP:20260424T150351
CREATED:20200914T174043Z
LAST-MODIFIED:20200914T174043Z
UID:10001068-1600416000-1600446600@www.salemvolunteers.org
SUMMARY:Salem Public Schools grocery packing and distribution
DESCRIPTION:The Salem Pantry is working with the Salem Public Schools to help supply their families with bags of groceries each week. \nSign up online.
URL:https://www.salemvolunteers.org/event/salem-public-schools-grocery-packing-and-distribution-42/2020-09-18/
ORGANIZER;CN="The Salem Pantry":MAILTO:director@thesalempantry.org
END:VEVENT
BEGIN:VEVENT
DTSTART;TZID=America/New_York:20200917T080000
DTEND;TZID=America/New_York:20200917T163000
DTSTAMP:20260424T150351
CREATED:20200914T174043Z
LAST-MODIFIED:20200914T174043Z
UID:10001067-1600329600-1600360200@www.salemvolunteers.org
SUMMARY:Salem Public Schools grocery packing and distribution
DESCRIPTION:The Salem Pantry is working with the Salem Public Schools to help supply their families with bags of groceries each week. \nSign up online.
URL:https://www.salemvolunteers.org/event/salem-public-schools-grocery-packing-and-distribution-42/2020-09-17/
ORGANIZER;CN="The Salem Pantry":MAILTO:director@thesalempantry.org
END:VEVENT
BEGIN:VEVENT
DTSTART;TZID=America/New_York:20200916T080000
DTEND;TZID=America/New_York:20200916T163000
DTSTAMP:20260424T150351
CREATED:20200914T174043Z
LAST-MODIFIED:20200914T174043Z
UID:10001066-1600243200-1600273800@www.salemvolunteers.org
SUMMARY:Salem Public Schools grocery packing and distribution
DESCRIPTION:The Salem Pantry is working with the Salem Public Schools to help supply their families with bags of groceries each week. \nSign up online.
URL:https://www.salemvolunteers.org/event/salem-public-schools-grocery-packing-and-distribution-42/2020-09-16/
ORGANIZER;CN="The Salem Pantry":MAILTO:director@thesalempantry.org
END:VEVENT
BEGIN:VEVENT
DTSTART;TZID=America/New_York:20200916T073000
DTEND;TZID=America/New_York:20200916T140000
DTSTAMP:20260424T150351
CREATED:20200914T173333Z
LAST-MODIFIED:20200914T173333Z
UID:10002884-1600241400-1600264800@www.salemvolunteers.org
SUMMARY:Salem Pantry pop-up harvest market
DESCRIPTION:Join The Salem Pantry for a pop-up harvest market at its Salem State University location at 68 Loring Avenue on Wednesday\, September 16 from 7:30am until 2pm. Volunteers are needed for setup\, food distribution\, registration\, and cleanup. \nSign up online. \n 
URL:https://www.salemvolunteers.org/event/salem-pantry-pop-up-harvest-market-50/
LOCATION:68 Loring Avenue\, Salem\, 68 Loring Avenue\, Salem\, MA\, 01970\, United States
ORGANIZER;CN="The Salem Pantry":MAILTO:director@thesalempantry.org
GEO:42.50238;-70.894498
X-APPLE-STRUCTURED-LOCATION;VALUE=URI;X-ADDRESS=68 Loring Avenue Salem 68 Loring Avenue Salem MA 01970 United States;X-APPLE-RADIUS=500;X-TITLE=68 Loring Avenue:geo:-70.894498,42.50238
END:VEVENT
BEGIN:VEVENT
DTSTART;TZID=America/New_York:20200914T080000
DTEND;TZID=America/New_York:20200914T163000
DTSTAMP:20260424T150351
CREATED:20200914T174043Z
LAST-MODIFIED:20200914T174043Z
UID:10001065-1600070400-1600101000@www.salemvolunteers.org
SUMMARY:Salem Public Schools grocery packing and distribution
DESCRIPTION:The Salem Pantry is working with the Salem Public Schools to help supply their families with bags of groceries each week. \nSign up online.
URL:https://www.salemvolunteers.org/event/salem-public-schools-grocery-packing-and-distribution-42/2020-09-14/
ORGANIZER;CN="The Salem Pantry":MAILTO:director@thesalempantry.org
END:VEVENT
BEGIN:VEVENT
DTSTART;TZID=America/New_York:20200912T073000
DTEND;TZID=America/New_York:20200912T133000
DTSTAMP:20260424T150351
CREATED:20200908T194356Z
LAST-MODIFIED:20200908T194356Z
UID:10002881-1599895800-1599917400@www.salemvolunteers.org
SUMMARY:Salem Pantry pop-up harvest market
DESCRIPTION:Join The Salem Pantry for a pop-up harvest market at Palmer Cove Park on Saturday\, September 12 from 7:30am until 1:30pm. Volunteers are needed for setup\, food distribution\, registration\, and cleanup. \nSign up online. \n 
URL:https://www.salemvolunteers.org/event/salem-pantry-pop-up-harvest-market-49/
LOCATION:Palmer Cove Park\, Leavitt Street\, Salem\, MA\, 01970\, United States
ORGANIZER;CN="The Salem Pantry":MAILTO:director@thesalempantry.org
GEO:42.51483;-70.8903284
X-APPLE-STRUCTURED-LOCATION;VALUE=URI;X-ADDRESS=Palmer Cove Park Leavitt Street Salem MA 01970 United States;X-APPLE-RADIUS=500;X-TITLE=Leavitt Street:geo:-70.8903284,42.51483
END:VEVENT
BEGIN:VEVENT
DTSTART;TZID=America/New_York:20200911T080000
DTEND;TZID=America/New_York:20200911T123000
DTSTAMP:20260424T150351
CREATED:20200908T194602Z
LAST-MODIFIED:20200908T194602Z
UID:10002883-1599811200-1599827400@www.salemvolunteers.org
SUMMARY:Salem Public Schools grocery packing and distribution
DESCRIPTION:The Salem Pantry is working with the Salem Public Schools to help supply their families with bags of groceries each week. \nSign up online.
URL:https://www.salemvolunteers.org/event/salem-public-schools-grocery-packing-and-distribution-41/2020-09-11/
ORGANIZER;CN="The Salem Pantry":MAILTO:director@thesalempantry.org
END:VEVENT
BEGIN:VEVENT
DTSTART;TZID=America/New_York:20200909T080000
DTEND;TZID=America/New_York:20200909T123000
DTSTAMP:20260424T150351
CREATED:20200908T194602Z
LAST-MODIFIED:20200908T194602Z
UID:10002882-1599638400-1599654600@www.salemvolunteers.org
SUMMARY:Salem Public Schools grocery packing and distribution
DESCRIPTION:The Salem Pantry is working with the Salem Public Schools to help supply their families with bags of groceries each week. \nSign up online.
URL:https://www.salemvolunteers.org/event/salem-public-schools-grocery-packing-and-distribution-41/2020-09-09/
ORGANIZER;CN="The Salem Pantry":MAILTO:director@thesalempantry.org
END:VEVENT
BEGIN:VEVENT
DTSTART;TZID=America/New_York:20200909T073000
DTEND;TZID=America/New_York:20200909T140000
DTSTAMP:20260424T150351
CREATED:20200904T141705Z
LAST-MODIFIED:20200904T141705Z
UID:10002870-1599636600-1599660000@www.salemvolunteers.org
SUMMARY:Salem Pantry pop-up harvest market
DESCRIPTION:Join The Salem Pantry for a pop-up harvest market at its Salem State University location at 68 Loring Avenue on Wednesday\, September 9 from 7:30am until 2pm. Volunteers are needed for setup\, food distribution\, registration\, and cleanup. \nSign up online. \n 
URL:https://www.salemvolunteers.org/event/salem-pantry-pop-up-harvest-market-48/
LOCATION:68 Loring Avenue\, Salem\, 68 Loring Avenue\, Salem\, MA\, 01970\, United States
ORGANIZER;CN="The Salem Pantry":MAILTO:director@thesalempantry.org
GEO:42.50238;-70.894498
X-APPLE-STRUCTURED-LOCATION;VALUE=URI;X-ADDRESS=68 Loring Avenue Salem 68 Loring Avenue Salem MA 01970 United States;X-APPLE-RADIUS=500;X-TITLE=68 Loring Avenue:geo:-70.894498,42.50238
END:VEVENT
BEGIN:VEVENT
DTSTART;TZID=America/New_York:20200904T080000
DTEND;TZID=America/New_York:20200904T123000
DTSTAMP:20260424T150351
CREATED:20200831T144759Z
LAST-MODIFIED:20200831T144759Z
UID:10002867-1599206400-1599222600@www.salemvolunteers.org
SUMMARY:Salem Public Schools grocery packing and distribution
DESCRIPTION:The Salem Pantry is working with the Salem Public Schools to help supply their families with bags of groceries each week. \nSign up online.
URL:https://www.salemvolunteers.org/event/salem-public-schools-grocery-packing-and-distribution-40/2020-09-04/
ORGANIZER;CN="The Salem Pantry":MAILTO:director@thesalempantry.org
END:VEVENT
END:VCALENDAR